BEGIN:VCALENDAR
VERSION:2.0
PRODID:-//Bayerischer Skiverband e.V. - ECPv6.15.20//NONSGML v1.0//EN
CALSCALE:GREGORIAN
METHOD:PUBLISH
X-WR-CALNAME:Bayerischer Skiverband e.V.
X-ORIGINAL-URL:https://www.bsv-ski.de
X-WR-CALDESC:Veranstaltungen für Bayerischer Skiverband e.V.
REFRESH-INTERVAL;VALUE=DURATION:PT1H
X-Robots-Tag:noindex
X-PUBLISHED-TTL:PT1H
BEGIN:VTIMEZONE
TZID:Europe/Berlin
BEGIN:DAYLIGHT
TZOFFSETFROM:+0100
TZOFFSETTO:+0200
TZNAME:CEST
DTSTART:20150329T010000
END:DAYLIGHT
BEGIN:STANDARD
TZOFFSETFROM:+0200
TZOFFSETTO:+0100
TZNAME:CET
DTSTART:20151025T010000
END:STANDARD
BEGIN:DAYLIGHT
TZOFFSETFROM:+0100
TZOFFSETTO:+0200
TZNAME:CEST
DTSTART:20160327T010000
END:DAYLIGHT
BEGIN:STANDARD
TZOFFSETFROM:+0200
TZOFFSETTO:+0100
TZNAME:CET
DTSTART:20161030T010000
END:STANDARD
BEGIN:DAYLIGHT
TZOFFSETFROM:+0100
TZOFFSETTO:+0200
TZNAME:CEST
DTSTART:20170326T010000
END:DAYLIGHT
BEGIN:STANDARD
TZOFFSETFROM:+0200
TZOFFSETTO:+0100
TZNAME:CET
DTSTART:20171029T010000
END:STANDARD
END:VTIMEZONE
BEGIN:VEVENT
DTSTART;TZID=Europe/Berlin:20161128T080000
DTEND;TZID=Europe/Berlin:20161201T170000
DTSTAMP:20260424T232854
CREATED:20161128T072818Z
LAST-MODIFIED:20161128T072818Z
UID:2421-1480320000-1480611600@www.bsv-ski.de
SUMMARY:FIS_CIT Men & Ladies
DESCRIPTION:Ausschreibung
URL:https://www.bsv-ski.de/veranstaltung/fis_cit-men-ladies/
LOCATION:S.Caterina Valfurva
END:VEVENT
BEGIN:VEVENT
DTSTART;VALUE=DATE:20161202
DTEND;VALUE=DATE:20161205
DTSTAMP:20260424T232854
CREATED:20161026T120410Z
LAST-MODIFIED:20161026T120410Z
UID:1784-1480636800-1480895999@www.bsv-ski.de
SUMMARY:Weltcup Skisprung
DESCRIPTION:
URL:https://www.bsv-ski.de/veranstaltung/weltcup-skisprung-2/
LOCATION:Klingenthal\, Klingenthal\, 08248 \, Deutschland
END:VEVENT
BEGIN:VEVENT
DTSTART;TZID=Europe/Berlin:20161202T080000
DTEND;TZID=Europe/Berlin:20161204T170000
DTSTAMP:20260424T232854
CREATED:20161026T120441Z
LAST-MODIFIED:20161026T120441Z
UID:1787-1480665600-1480870800@www.bsv-ski.de
SUMMARY:Weltcup Nordische Kombination
DESCRIPTION:
URL:https://www.bsv-ski.de/veranstaltung/weltcup-nordische-kombination-2/
LOCATION:Klingenthal\, Klingenthal\, 08248 \, Deutschland
END:VEVENT
BEGIN:VEVENT
DTSTART;VALUE=DATE:20161205
DTEND;VALUE=DATE:20161208
DTSTAMP:20260424T232854
CREATED:20161128T073316Z
LAST-MODIFIED:20161205T092702Z
UID:2426-1480896000-1481155199@www.bsv-ski.de
SUMMARY:FIS CIT Men & Ladies
DESCRIPTION:Ausschreibung
URL:https://www.bsv-ski.de/veranstaltung/fis_cit-men-ladies-2/
LOCATION:Pila\, Aosta\, 11100\, Italien
END:VEVENT
BEGIN:VEVENT
DTSTART;VALUE=DATE:20161209
DTEND;VALUE=DATE:20161212
DTSTAMP:20260424T232854
CREATED:20161205T084900Z
LAST-MODIFIED:20161212T115337Z
UID:2591-1481241600-1481500799@www.bsv-ski.de
SUMMARY:DSV Jugendcup / Deutschlandpokal Skisprung & NK
DESCRIPTION:Ausschreibung \nErgebnisse 10.12.2016 \nErgebnisse 11.12.2016 \n 
URL:https://www.bsv-ski.de/veranstaltung/dsv-jugendcup-deutschlandpokal-skisprung-nk/
LOCATION:Casino Arena Seefeld\, Seefeld\, 6100\, Österreich
END:VEVENT
BEGIN:VEVENT
DTSTART;VALUE=DATE:20161210
DTEND;VALUE=DATE:20161212
DTSTAMP:20260424T232854
CREATED:20161206T081654Z
LAST-MODIFIED:20161212T074132Z
UID:2637-1481328000-1481500799@www.bsv-ski.de
SUMMARY:BAYERNCUP Nordische Kombination & Skispringen
DESCRIPTION:Ausschreibung \nErgebnisliste
URL:https://www.bsv-ski.de/veranstaltung/bayerncup-nordische-kombination-skispringen/
LOCATION:Salzburg
END:VEVENT
BEGIN:VEVENT
DTSTART;VALUE=DATE:20161216
DTEND;VALUE=DATE:20161219
DTSTAMP:20260424T232854
CREATED:20161205T093458Z
LAST-MODIFIED:20161205T093909Z
UID:2599-1481846400-1482105599@www.bsv-ski.de
SUMMARY:DSV Milka Schülercup Skisprung/Nordische Kombination
DESCRIPTION:Ausschreibung
URL:https://www.bsv-ski.de/veranstaltung/dsv-milka-schuelercup-skisprungnordische-kombination/
LOCATION:Baptist-Kitzlinger-Schanze\, Breitenberg\, 94139\, Deutschland
END:VEVENT
BEGIN:VEVENT
DTSTART;VALUE=DATE:20161216
DTEND;VALUE=DATE:20161219
DTSTAMP:20260424T232854
CREATED:20161206T090726Z
LAST-MODIFIED:20161212T103535Z
UID:2654-1481846400-1482105599@www.bsv-ski.de
SUMMARY:1. DSV Jugendcup / Deutschlandpokal
DESCRIPTION:Achtung! Austragungsort wurde geändert. \nDie aktuelle Ausschreibung finden Sie hier!
URL:https://www.bsv-ski.de/veranstaltung/deutschlandpokal/
LOCATION:Martelltal\, 39020\, Italien
END:VEVENT
BEGIN:VEVENT
DTSTART;VALUE=DATE:20161217
DTEND;VALUE=DATE:20161218
DTSTAMP:20260424T232854
CREATED:20161205T080816Z
LAST-MODIFIED:20161205T081507Z
UID:2576-1481932800-1482019199@www.bsv-ski.de
SUMMARY:DSV Schülercup U14 II
DESCRIPTION:
URL:https://www.bsv-ski.de/veranstaltung/dsv-schuelercup-u14-ii/
LOCATION:Kaltenbach\, Kaltenbach\, 6272\, Österreich
END:VEVENT
BEGIN:VEVENT
DTSTART;VALUE=DATE:20161217
DTEND;VALUE=DATE:20161220
DTSTAMP:20260424T232854
CREATED:20161205T083131Z
LAST-MODIFIED:20161205T083914Z
UID:2584-1481932800-1482191999@www.bsv-ski.de
SUMMARY:2. DSV Jugendcup/Deutschlandpokal
DESCRIPTION:Ausschreibung
URL:https://www.bsv-ski.de/veranstaltung/2-dsv-jugendcupdeutschlandpokal/
LOCATION:Ruhpolding\, 83324\, Deutschland
END:VEVENT
BEGIN:VEVENT
DTSTART;VALUE=DATE:20161219
DTEND;VALUE=DATE:20161221
DTSTAMP:20260424T232854
CREATED:20161212T104531Z
LAST-MODIFIED:20161212T104531Z
UID:2729-1482105600-1482278399@www.bsv-ski.de
SUMMARY:FIS Rennen Ladies & Men inkl. NJC in der Alpinen Kombination
DESCRIPTION:4 × Super-G und 2 × Alpine Kombination
URL:https://www.bsv-ski.de/veranstaltung/fis-rennen-ladies-men-inkl-njc-in-der-alpinen-kombination/
LOCATION:Kaltenbach\, Kaltenbach\, 6272\, Österreich
ORGANIZER;CN="Bayerischer Skiverband e.V.":MAILTO:info@bsv-ski.de
END:VEVENT
BEGIN:VEVENT
DTSTART;VALUE=DATE:20161222
DTEND;VALUE=DATE:20161223
DTSTAMP:20260424T232854
CREATED:20161205T081014Z
LAST-MODIFIED:20161205T081014Z
UID:2580-1482364800-1482451199@www.bsv-ski.de
SUMMARY:DSV Schülercup U16 II
DESCRIPTION:
URL:https://www.bsv-ski.de/veranstaltung/dsv-schuelercup-u16-ii/
LOCATION:Kaltenbach\, Kaltenbach\, 6272\, Österreich
END:VEVENT
BEGIN:VEVENT
DTSTART;VALUE=DATE:20161229
DTEND;VALUE=DATE:20161231
DTSTAMP:20260424T232854
CREATED:20161205T090304Z
LAST-MODIFIED:20161228T124359Z
UID:2569-1482969600-1483142399@www.bsv-ski.de
SUMMARY:Deutschlandpokal
DESCRIPTION:Ausschreibung \nDie Rennen finden wie geplant statt!
URL:https://www.bsv-ski.de/veranstaltung/deutschlandpokal-2/
LOCATION:Audi Skizentrum Sonnenbichl\, Sonnenbichlweg 2\, Bad Wiessee\, 83707\, Deutschland
ORGANIZER;CN="Bayerischer Skiverband e.V.":MAILTO:info@bsv-ski.de
END:VEVENT
END:VCALENDAR