BEGIN:VCALENDAR
VERSION:2.0
PRODID:-//Bayerischer Skiverband e.V. - ECPv6.15.20//NONSGML v1.0//EN
CALSCALE:GREGORIAN
METHOD:PUBLISH
X-WR-CALNAME:Bayerischer Skiverband e.V.
X-ORIGINAL-URL:https://www.bsv-ski.de
X-WR-CALDESC:Veranstaltungen für Bayerischer Skiverband e.V.
REFRESH-INTERVAL;VALUE=DURATION:PT1H
X-Robots-Tag:noindex
X-PUBLISHED-TTL:PT1H
BEGIN:VTIMEZONE
TZID:Europe/Berlin
BEGIN:DAYLIGHT
TZOFFSETFROM:+0100
TZOFFSETTO:+0200
TZNAME:CEST
DTSTART:20160327T010000
END:DAYLIGHT
BEGIN:STANDARD
TZOFFSETFROM:+0200
TZOFFSETTO:+0100
TZNAME:CET
DTSTART:20161030T010000
END:STANDARD
BEGIN:DAYLIGHT
TZOFFSETFROM:+0100
TZOFFSETTO:+0200
TZNAME:CEST
DTSTART:20170326T010000
END:DAYLIGHT
BEGIN:STANDARD
TZOFFSETFROM:+0200
TZOFFSETTO:+0100
TZNAME:CET
DTSTART:20171029T010000
END:STANDARD
BEGIN:DAYLIGHT
TZOFFSETFROM:+0100
TZOFFSETTO:+0200
TZNAME:CEST
DTSTART:20180325T010000
END:DAYLIGHT
BEGIN:STANDARD
TZOFFSETFROM:+0200
TZOFFSETTO:+0100
TZNAME:CET
DTSTART:20181028T010000
END:STANDARD
END:VTIMEZONE
BEGIN:VEVENT
DTSTART;VALUE=DATE:20170106
DTEND;VALUE=DATE:20170107
DTSTAMP:20260424T220119
CREATED:20170109T102143Z
LAST-MODIFIED:20170110T074740Z
UID:3080-1483660800-1483747199@www.bsv-ski.de
SUMMARY:Sparkassenlanglauf - Reit im Winkel
DESCRIPTION:Teilnehmerliste \nErgebnisliste \n 
URL:https://www.bsv-ski.de/veranstaltung/sparkassenlanglauf-reit-im-winkel/
LOCATION:Reit im Winkel\, Reit im Winkl\, 83242\, Deutschland
END:VEVENT
BEGIN:VEVENT
DTSTART;TZID=Europe/Berlin:20170106T080000
DTEND;TZID=Europe/Berlin:20170108T170000
DTSTAMP:20260424T220119
CREATED:20161125T121041Z
LAST-MODIFIED:20170102T134302Z
UID:2409-1483689600-1483894800@www.bsv-ski.de
SUMMARY:DSV Jugendcup/Deutschlandpokal
DESCRIPTION:Ausschreibung
URL:https://www.bsv-ski.de/veranstaltung/dsv-jugendcupdeutschlandpokal-damen/
LOCATION:Villach\, Österreich
END:VEVENT
BEGIN:VEVENT
DTSTART;TZID=Europe/Berlin:20170106T080000
DTEND;TZID=Europe/Berlin:20170108T170000
DTSTAMP:20260424T220119
CREATED:20161129T080409Z
LAST-MODIFIED:20170102T133323Z
UID:2444-1483689600-1483894800@www.bsv-ski.de
SUMMARY:Deutschlandpokal Skisprung J 16/17\, Herren/ Damen
DESCRIPTION:Ausschreibung
URL:https://www.bsv-ski.de/veranstaltung/deutschlandpokal-skisprung-j-1617-herren-damen/
LOCATION:Villach\, Österreich
END:VEVENT
BEGIN:VEVENT
DTSTART;TZID=Europe/Berlin:20170106T090000
DTEND;TZID=Europe/Berlin:20170108T200000
DTSTAMP:20260424T220119
CREATED:20170102T140237Z
LAST-MODIFIED:20170103T093854Z
UID:2999-1483693200-1483905600@www.bsv-ski.de
SUMMARY:Alpencup DSV Jugendcup/Deutschlandpokal Oberwiesenthal
DESCRIPTION:  \nAusschreibung \nAnlage zur Ausschreibung \nZeitplan \n 
URL:https://www.bsv-ski.de/veranstaltung/alpencup-dsv-jugendcupdeutschlandpokal-oberwiesenthal/
LOCATION:Oberwiesenthal\, Deutschland
END:VEVENT
BEGIN:VEVENT
DTSTART;VALUE=DATE:20170107
DTEND;VALUE=DATE:20170109
DTSTAMP:20260424T220119
CREATED:20161206T082132Z
LAST-MODIFIED:20161206T082907Z
UID:2641-1483747200-1483919999@www.bsv-ski.de
SUMMARY:BAYERNCUP Nordische Kombination & Skisprung
DESCRIPTION:Ausschreibung
URL:https://www.bsv-ski.de/veranstaltung/bayerncup-nordische-kombination-skisprung/
LOCATION:Salzburg
END:VEVENT
BEGIN:VEVENT
DTSTART;VALUE=DATE:20170108
DTEND;VALUE=DATE:20170109
DTSTAMP:20260424T220119
CREATED:20170110T080316Z
LAST-MODIFIED:20170110T080316Z
UID:3106-1483833600-1483919999@www.bsv-ski.de
SUMMARY:Sparkassencup 2017 - Reit im Winkel - Benzeck
DESCRIPTION:gesamte Ergebnisliste mit Penalty \nErgebnisliste Kinder \nErgebnisliste Mädchen U12
URL:https://www.bsv-ski.de/veranstaltung/sparkassencup-2017-reit-im-winkel-benzeck/
LOCATION:Reit im Winkel\, Reit im Winkl\, 83242\, Deutschland
END:VEVENT
BEGIN:VEVENT
DTSTART;VALUE=DATE:20170112
DTEND;VALUE=DATE:20170114
DTSTAMP:20260424T220119
CREATED:20161205T080138Z
LAST-MODIFIED:20161222T112953Z
UID:2572-1484179200-1484351999@www.bsv-ski.de
SUMMARY:Deutsche Hochschulmeisterschaft
DESCRIPTION:Ausschreibung
URL:https://www.bsv-ski.de/veranstaltung/deutsche-hochschulmeisterschaft/
LOCATION:Schoppernau\, Schoppernau\, 6886\, Österreich
ORGANIZER;CN="ADH":MAILTO:	christian.schoepf@uni-konstanz.de
END:VEVENT
BEGIN:VEVENT
DTSTART;VALUE=DATE:20170113
DTEND;VALUE=DATE:20170116
DTSTAMP:20260424T220119
CREATED:20161129T145638Z
LAST-MODIFIED:20161129T145733Z
UID:2493-1484265600-1484524799@www.bsv-ski.de
SUMMARY:4. DSV Jugendcup/Deutschlandpokal Biathlon
DESCRIPTION:Ausschreibung
URL:https://www.bsv-ski.de/veranstaltung/4-dsv-jugendcupdeutschlandpokal-in-der-sparkassen-arena-altenberg/
LOCATION:„SPARKASSEN-ARENA“ Altenberg\, Altenberg\, Deutschland
END:VEVENT
BEGIN:VEVENT
DTSTART;VALUE=DATE:20170114
DTEND;VALUE=DATE:20170115
DTSTAMP:20260424T220119
CREATED:20170118T081052Z
LAST-MODIFIED:20170118T081052Z
UID:3210-1484352000-1484438399@www.bsv-ski.de
SUMMARY:31. Möbel Löffler Mini Tournee 2016/17
DESCRIPTION:Ergebnisliste Sprungwettkampf \nErgebnisliste
URL:https://www.bsv-ski.de/veranstaltung/31-moebel-loeffler-mini-tournee-201617/
LOCATION:Hasenbergschanze\, Isny\, Deutschland
END:VEVENT
BEGIN:VEVENT
DTSTART;TZID=Europe/Berlin:20170114T080000
DTEND;TZID=Europe/Berlin:20170114T170000
DTSTAMP:20260424T220119
CREATED:20170111T082353Z
LAST-MODIFIED:20170117T133452Z
UID:3136-1484380800-1484413200@www.bsv-ski.de
SUMMARY:1. DSV Schülercup Skifreestyle-Sprungwettkampf
DESCRIPTION:Ausschreibung \nErgebnisliste männlich \nErgebnisliste weiblich
URL:https://www.bsv-ski.de/veranstaltung/1-dsv-schuelercup-skifreestyle-sprungwettkampf/
LOCATION:Meßstetten/Skilift Täle\, Meßstetten
END:VEVENT
BEGIN:VEVENT
DTSTART;TZID=Europe/Berlin:20170114T080000
DTEND;TZID=Europe/Berlin:20170115T170000
DTSTAMP:20260424T220119
CREATED:20170117T133006Z
LAST-MODIFIED:20170117T133006Z
UID:3159-1484380800-1484499600@www.bsv-ski.de
SUMMARY:DSV Milka Schülercup NK/SSP
DESCRIPTION:DSV Schüler MILKA CUP Ergebnisse 14.01. \nDSV Schüler MILKA CUPS Ergebnisse 15.01.
URL:https://www.bsv-ski.de/veranstaltung/dsv-milka-schuelercup-nkssp/
LOCATION:Klingenthal\, Klingenthal\, 08248 \, Deutschland
END:VEVENT
BEGIN:VEVENT
DTSTART;VALUE=DATE:20170115
DTEND;VALUE=DATE:20170116
DTSTAMP:20260424T220119
CREATED:20161205T104939Z
LAST-MODIFIED:20161205T105525Z
UID:2610-1484438400-1484524799@www.bsv-ski.de
SUMMARY:Nordic Race Oberstdorf
DESCRIPTION:Einladung
URL:https://www.bsv-ski.de/veranstaltung/nordic-race-oberstdorf/
LOCATION:WM-Langlaufstadion Ried\, Oberstdorf\, 87561\, Deutschland
ATTACH;FMTTYPE=image/jpeg:https://www.bsv-ski.de/wp-content/uploads/2016/07/Allgäu.jpg
ORGANIZER;CN="Allg%C3%A4uer Skiverband e.V.":MAILTO:info@asv-ski.de
END:VEVENT
BEGIN:VEVENT
DTSTART;VALUE=DATE:20170119
DTEND;VALUE=DATE:20170123
DTSTAMP:20260424T220119
CREATED:20161222T112228Z
LAST-MODIFIED:20170124T095502Z
UID:2970-1484784000-1485129599@www.bsv-ski.de
SUMMARY:2. DSV Joka Schülercup Biathlon
DESCRIPTION:Ausschreibung \nErgebnisliste \nErgebnisse Verfolgung \nErgebnisse Techniksprint \nPokal-Wertung Verfolgung
URL:https://www.bsv-ski.de/veranstaltung/2-dsv-joka-schuelercup-biathlon/
LOCATION:Buntenbock\, 38678\, Deutschland
END:VEVENT
BEGIN:VEVENT
DTSTART;TZID=Europe/Berlin:20170120T080000
DTEND;TZID=Europe/Berlin:20170122T170000
DTSTAMP:20260424T220119
CREATED:20161129T085635Z
LAST-MODIFIED:20170124T091558Z
UID:2449-1484899200-1485104400@www.bsv-ski.de
SUMMARY:DSV Milka Schülercup
DESCRIPTION:Ausschreibung \n \nErgebnisliste 20.01. \nErgebnisliste 21.01. \nErgebnisse 22.01. Cupwertung NK \nErgebnisse 22.01. Cupwertung SP \nErgebnisliste 22.01.
URL:https://www.bsv-ski.de/veranstaltung/dsv-milka-schuelercup-2/
LOCATION:Schmiedefeld / a. Rstg
END:VEVENT
BEGIN:VEVENT
DTSTART;VALUE=DATE:20170121
DTEND;VALUE=DATE:20170123
DTSTAMP:20260424T220119
CREATED:20161205T095546Z
LAST-MODIFIED:20161205T095616Z
UID:2607-1484956800-1485129599@www.bsv-ski.de
SUMMARY:Bayerische Skilanglauf-Meisterschaft der Senioren
DESCRIPTION:Ausschreibung
URL:https://www.bsv-ski.de/veranstaltung/bayerische-skilanglauf-meisterschaft-der-senioren/
LOCATION:Skilanglaufzentrum Silberhütte\, Bärnau\, 95671
ORGANIZER;CN="Bayerischer Skiverband e.V.":MAILTO:info@bsv-ski.de
END:VEVENT
BEGIN:VEVENT
DTSTART;TZID=Europe/Berlin:20170121T080000
DTEND;TZID=Europe/Berlin:20170121T170000
DTSTAMP:20260424T220119
CREATED:20170117T131655Z
LAST-MODIFIED:20170117T131655Z
UID:3153-1484985600-1485018000@www.bsv-ski.de
SUMMARY:UNIQA Masters Cup Tirol
DESCRIPTION:Offizielle Ausschreibung Masters Cup Tirol 2017 \nPlakat Masters-Cup 2017
URL:https://www.bsv-ski.de/veranstaltung/uniqa-masters-cup-tirol/
LOCATION:See im Paznaun
END:VEVENT
BEGIN:VEVENT
DTSTART;TZID=Europe/Berlin:20170122T100000
DTEND;TZID=Europe/Berlin:20170122T200000
DTSTAMP:20260424T220119
CREATED:20170117T133907Z
LAST-MODIFIED:20170117T133907Z
UID:3169-1485079200-1485115200@www.bsv-ski.de
SUMMARY:Pokalskispringen in Schwäbisch Gmünd-Degenfeld
DESCRIPTION:Ausschreibung
URL:https://www.bsv-ski.de/veranstaltung/pokalskispringen-in-schwaebisch-gmuend-degenfeld/
LOCATION:Schwäbisch Gmünd-Degenfeld\, Degenfeld\, Deutschland
END:VEVENT
BEGIN:VEVENT
DTSTART;TZID=Europe/Berlin:20170125T180000
DTEND;TZID=Europe/Berlin:20170125T210000
DTSTAMP:20260424T220119
CREATED:20170105T073250Z
LAST-MODIFIED:20170110T095644Z
UID:3059-1485367200-1485378000@www.bsv-ski.de
SUMMARY:Nacht Ski Sprint - WSV Oberweissenbrunn e.V.
DESCRIPTION:Ausschreibung
URL:https://www.bsv-ski.de/veranstaltung/nacht-ski-sprint-wsv-oberweissenbrunn-e-v/
LOCATION:Oberweissenbrunn\, Deutschland
END:VEVENT
BEGIN:VEVENT
DTSTART;VALUE=DATE:20170127
DTEND;VALUE=DATE:20170130
DTSTAMP:20260424T220119
CREATED:20161228T080748Z
LAST-MODIFIED:20161228T080943Z
UID:2978-1485475200-1485734399@www.bsv-ski.de
SUMMARY:DSV Jugendcup/Deutschlandpokal Biathlon
DESCRIPTION:Ausschreibung
URL:https://www.bsv-ski.de/veranstaltung/4-dsv-jugendcupdeutschlandpokal-biathlon/
LOCATION:Kaltenbrunn\, Kaltenbrunn
END:VEVENT
BEGIN:VEVENT
DTSTART;TZID=Europe/Berlin:20170127T080000
DTEND;TZID=Europe/Berlin:20170129T170000
DTSTAMP:20260424T220119
CREATED:20170111T075939Z
LAST-MODIFIED:20170111T075939Z
UID:3131-1485504000-1485709200@www.bsv-ski.de
SUMMARY:Bayerische Schülermeisterschaft Alpin
DESCRIPTION:Ausschreibung
URL:https://www.bsv-ski.de/veranstaltung/bayerische-schuelermeisterschaft-alpin/
LOCATION:Sudelfeld/Waldkopf\, Sudelfeld
END:VEVENT
BEGIN:VEVENT
DTSTART;TZID=Europe/Berlin:20170127T080000
DTEND;TZID=Europe/Berlin:20170129T170000
DTSTAMP:20260424T220119
CREATED:20170119T074332Z
LAST-MODIFIED:20170119T074332Z
UID:3239-1485504000-1485709200@www.bsv-ski.de
SUMMARY:Deutsche Nordische Jugendmeisterschaften mit Deutschlandpokal Skisprung/Nordische Kombination
DESCRIPTION:Ausschreibung
URL:https://www.bsv-ski.de/veranstaltung/deutsche-nordische-jugendmeisterschaften-mit-deutschlandpokal-skisprungnordische-kombination/
LOCATION:Baiersbronn
END:VEVENT
BEGIN:VEVENT
DTSTART;VALUE=DATE:20170128
DTEND;VALUE=DATE:20170129
DTSTAMP:20260424T220119
CREATED:20161201T130807Z
LAST-MODIFIED:20161201T130807Z
UID:2543-1485561600-1485647999@www.bsv-ski.de
SUMMARY:Reit im Winkler Volks-Langlauf
DESCRIPTION:Ausschreibung
URL:https://www.bsv-ski.de/veranstaltung/reit-im-winkler-volks-langlauf/
LOCATION:Reit im Winkel\, Reit im Winkl\, 83242\, Deutschland
END:VEVENT
BEGIN:VEVENT
DTSTART;VALUE=DATE:20170128
DTEND;VALUE=DATE:20170129
DTSTAMP:20260424T220119
CREATED:20161206T082558Z
LAST-MODIFIED:20161206T082558Z
UID:2645-1485561600-1485647999@www.bsv-ski.de
SUMMARY:BAYERNCUP Nordische Kombination & Skissprung
DESCRIPTION:Ausschreibung
URL:https://www.bsv-ski.de/veranstaltung/bayerncup-nordische-kombination-skissprung/
LOCATION:Salzburg
END:VEVENT
END:VCALENDAR