BEGIN:VCALENDAR
VERSION:2.0
PRODID:-//Bayerischer Skiverband e.V. - ECPv6.15.20//NONSGML v1.0//EN
CALSCALE:GREGORIAN
METHOD:PUBLISH
X-WR-CALNAME:Bayerischer Skiverband e.V.
X-ORIGINAL-URL:https://www.bsv-ski.de
X-WR-CALDESC:Veranstaltungen für Bayerischer Skiverband e.V.
REFRESH-INTERVAL;VALUE=DURATION:PT1H
X-Robots-Tag:noindex
X-PUBLISHED-TTL:PT1H
BEGIN:VTIMEZONE
TZID:Europe/Berlin
BEGIN:DAYLIGHT
TZOFFSETFROM:+0100
TZOFFSETTO:+0200
TZNAME:CEST
DTSTART:20160327T010000
END:DAYLIGHT
BEGIN:STANDARD
TZOFFSETFROM:+0200
TZOFFSETTO:+0100
TZNAME:CET
DTSTART:20161030T010000
END:STANDARD
BEGIN:DAYLIGHT
TZOFFSETFROM:+0100
TZOFFSETTO:+0200
TZNAME:CEST
DTSTART:20170326T010000
END:DAYLIGHT
BEGIN:STANDARD
TZOFFSETFROM:+0200
TZOFFSETTO:+0100
TZNAME:CET
DTSTART:20171029T010000
END:STANDARD
BEGIN:DAYLIGHT
TZOFFSETFROM:+0100
TZOFFSETTO:+0200
TZNAME:CEST
DTSTART:20180325T010000
END:DAYLIGHT
BEGIN:STANDARD
TZOFFSETFROM:+0200
TZOFFSETTO:+0100
TZNAME:CET
DTSTART:20181028T010000
END:STANDARD
END:VTIMEZONE
BEGIN:VEVENT
DTSTART;VALUE=DATE:20170203
DTEND;VALUE=DATE:20170206
DTSTAMP:20260424T203306
CREATED:20170110T094737Z
LAST-MODIFIED:20170110T114221Z
UID:3116-1486080000-1486339199@www.bsv-ski.de
SUMMARY:Bayerische Skilanglauf-Meisterschaft
DESCRIPTION:Freitag\,    03.02.2017\n14.30 – 16.00 Uhr\nStreckenbesichtigung\n\n\n\n16.00 Uhr\nAbgabe der bereinigten Meldungen Wettkampfbüro AKW A+V\n\n\n\n18.00 Uhr\nMannschaftsführersitzung \nAKW A+V Büro\, Dienhof 26\, 92242 Hirschau\n\n\nSamstag\, 04.02.2017 \nEinzelstart\nab 09.30 Uhr\nS12 m/w Skicross FT mit Technikparcours ca.2\,5km \nS13 m/w Skicross FT mit Technikparcours ca.2\,5km \nS14 m/w Einzelstart FT mit Technikelementen ca.5km \nS15 m/w Einzelstart FT mit Technikelementen ca.5km \nU16 m Einzelstart FT mit Technikelementen ca.5km \nAb U16 w bis Damen Einzelstart FT mit Technikelementen ca.5km \nAb U18 m bis Herren Einzelstart FT mit Technikelementen ca.10km\n\n\n  \n \n14:30-16:00\nStreckenbesichtigung Staffelwettkämpfe\n\n\n\n18:30\nAbgabe der Staffelmeldungen \n \n\n\n\n19:00\nSiegerehrung anschließend Auslosung\n\n\n\n\nSiegerehrung der Einzelwettbewerbe in der\n\n\n\n\nA+V Lagerhalle\, Dienhof 26\,92242 Hirschau\n\n\n\n\nSiegerehrung \n\n\nSonntag\, 05.02.17 \n  \n  \n  \n  \n  \n  \n \nab 09.30 Uhr\nStart Staffeln und Teamsprint FT \nS12/13 m   6 x 800m \nS12/13 w   6 x 800m \nS14/15 m   6 x 800m \nS14/15 w   6 x 800m \nU16/18 m   4 x 800m \nU16/18 w   4 x 800m \nU20w/D     4 x 800m \nU20m/H     4 x 800m\n\n\n  \n \n  \n  \n  \n \nSiegerehrung im Anschluss im Stadion\n\n\n\nAusschreibung
URL:https://www.bsv-ski.de/veranstaltung/bayerische-skilanglauf-meisterschaft/
LOCATION:Langlaufzentrum Rotbühl\, Hirschau\, Rotbühlstraße\, Schnaittenbach\, 92253\, Deutschland
ATTACH;FMTTYPE=image/jpeg:https://www.bsv-ski.de/wp-content/uploads/2016/07/Langlauf_HP_285x12.jpg
ORGANIZER;CN="SC Monte Kaolino Hirschau":MAILTO:info@sc-montekaolino.com
END:VEVENT
BEGIN:VEVENT
DTSTART;TZID=Europe/Berlin:20170204T080000
DTEND;TZID=Europe/Berlin:20170204T170000
DTSTAMP:20260424T203306
CREATED:20170207T123203Z
LAST-MODIFIED:20170207T123229Z
UID:3559-1486195200-1486227600@www.bsv-ski.de
SUMMARY:49.Adelholzener - MINI -Tournee 2017
DESCRIPTION:Ergebnisliste Springen \nErgebnisliste Nordische Kombination
URL:https://www.bsv-ski.de/veranstaltung/49-adelholzener-mini-tournee-2017/
LOCATION:Reit im Winkel\, Reit im Winkl\, 83242\, Deutschland
END:VEVENT
BEGIN:VEVENT
DTSTART;TZID=Europe/Berlin:20170204T110000
DTEND;TZID=Europe/Berlin:20170204T170000
DTSTAMP:20260424T203306
CREATED:20170110T093008Z
LAST-MODIFIED:20170207T120732Z
UID:3113-1486206000-1486227600@www.bsv-ski.de
SUMMARY:Bayern-Cup Biathlon
DESCRIPTION:Ausschreibung \nErgebnisliste
URL:https://www.bsv-ski.de/veranstaltung/bayern-cup-biathlon/
LOCATION:Kaltenbrunn\, Kaltenbrunn
END:VEVENT
BEGIN:VEVENT
DTSTART;VALUE=DATE:20170210
DTEND;VALUE=DATE:20170213
DTSTAMP:20260424T203306
CREATED:20161208T070626Z
LAST-MODIFIED:20161208T070640Z
UID:2694-1486684800-1486943999@www.bsv-ski.de
SUMMARY:Offene Bayerische Ski- und Tennis-Meisterschaft 2017
DESCRIPTION:Ausschreibung
URL:https://www.bsv-ski.de/veranstaltung/offene-bayerischen-ski-und-tennis-meisterschaft-2017/
LOCATION:Skizentrum Mitterfirmiansreut-Philippsreut\, Mitterfirmiansreut\, 94158 
CATEGORIES:Verband
END:VEVENT
BEGIN:VEVENT
DTSTART;TZID=Europe/Berlin:20170210T080000
DTEND;TZID=Europe/Berlin:20170212T170000
DTSTAMP:20260424T203306
CREATED:20170120T072916Z
LAST-MODIFIED:20170120T072916Z
UID:3242-1486713600-1486918800@www.bsv-ski.de
SUMMARY:DSV Milka Schülercup Skisprung / Nordische Kombination und Deutsche Jugendmeisterschaft Damen
DESCRIPTION:Ausschreibung
URL:https://www.bsv-ski.de/veranstaltung/dsv-milka-schuelercup-skisprung-nordische-kombination-und-deutsche-jugendmeisterschaft-damen/
LOCATION:Garmisch-Partenkirchen\, Deutschland
END:VEVENT
BEGIN:VEVENT
DTSTART;TZID=Europe/Berlin:20170210T080000
DTEND;TZID=Europe/Berlin:20170212T170000
DTSTAMP:20260424T203306
CREATED:20170120T073850Z
LAST-MODIFIED:20170207T124054Z
UID:3252-1486713600-1486918800@www.bsv-ski.de
SUMMARY:6. DSV Jugendcup/Deutschlandpokal Biathlon
DESCRIPTION:Ausschreibung\n \n  \nAchtung: Änderung!\nMassenstart findet am Samstag\, 11.02. statt.\nSuper Einzel findet am Sonntag\, 12.02. statt. \n  \nStreckenübersicht \nStreckenübersicht braun-orange \nStreckenübersicht rot-grün
URL:https://www.bsv-ski.de/veranstaltung/6-dsv-jugendcupdeutschlandpokal-biathlon/
LOCATION:Ruhpolding\, 83324\, Deutschland
END:VEVENT
BEGIN:VEVENT
DTSTART;TZID=Europe/Berlin:20170211T090000
DTEND;TZID=Europe/Berlin:20170211T160000
DTSTAMP:20260424T203306
CREATED:20170216T072547Z
LAST-MODIFIED:20170216T072643Z
UID:3739-1486803600-1486828800@www.bsv-ski.de
SUMMARY:Bayerische Senioren Masters Meisterschaft 2017
DESCRIPTION:Ergebnisliste
URL:https://www.bsv-ski.de/veranstaltung/bayerische-senioren-masters-meisterschaft-2017/
LOCATION:Götschen\, Götschen Skilifte\, Bischofswiesen\, Deutschland
END:VEVENT
BEGIN:VEVENT
DTSTART;TZID=Europe/Berlin:20170211T170000
DTEND;TZID=Europe/Berlin:20170211T210000
DTSTAMP:20260424T203306
CREATED:20170201T082943Z
LAST-MODIFIED:20170207T121017Z
UID:3388-1486832400-1486846800@www.bsv-ski.de
SUMMARY:Langlauf bei Fackelbeleuchtung
DESCRIPTION:Ausschreibung Nachtfackellauf \n  \nABSAGE!!! – Nachtlanglauf am 11.02.2017
URL:https://www.bsv-ski.de/veranstaltung/langlauf-bei-fackelbeleuchtung/
LOCATION:Haselbach/Rhön\, Haselbach in der Rhön\, Deutschland
END:VEVENT
BEGIN:VEVENT
DTSTART;TZID=Europe/Berlin:20170212T103000
DTEND;TZID=Europe/Berlin:20170212T170000
DTSTAMP:20260424T203306
CREATED:20170120T073434Z
LAST-MODIFIED:20170120T073434Z
UID:3247-1486895400-1486918800@www.bsv-ski.de
SUMMARY:SiLi-Pokal-Langlauf
DESCRIPTION:Ausschreibung
URL:https://www.bsv-ski.de/veranstaltung/sili-pokal-langlauf/
LOCATION:Warmensteinach\, Deutschland
END:VEVENT
BEGIN:VEVENT
DTSTART;TZID=Europe/Berlin:20170212T103000
DTEND;TZID=Europe/Berlin:20170212T170000
DTSTAMP:20260424T203306
CREATED:20170202T121136Z
LAST-MODIFIED:20170207T121138Z
UID:3521-1486895400-1486918800@www.bsv-ski.de
SUMMARY:Nordic Day 2017 beim WSV Oberweissenbrunn
DESCRIPTION:ABSAGE!!! – wegen unzureichender Schneeauflage \n  \nAm Sonntag den 12. Februar 2017 führt der WSV Oberweißenbrunn\, in Verbindung mit seinen Partnern\, zum zweiten mal in Oberweißenbrunn einen Nordic Day durch. \nBeginn ist um 10:30 Uhr. \nDas Konzept als Plattform für alle Nordischen Schnee Sportarten ging bei der Premiere 2015 voll auf und wurde zum Skifest für alle angebotenen Sportarten. Wir hoffen auch bei der Wiederholung auf  bestes Winterwetter\, sehr gute Schneeverhältnisse und gut präparierte Loipen. \nDas vielfältige Angebot verschiedenster Nordischer Schnee Sportarten richtet sich an Anfänger gleichermaßen wie an Könner. \nEs besteht  die Möglichkeit\, Sportgerät direkt vor Ort auszuleihen um in eine neue Sportart  hinein zu schnuppern und diese auszuprobieren. \nErfahrene Instruktoren führen 90 minütige erste Einweisungen in die verschiedenen Sportarten durch\, gaben Tipps und Tricks zum Material und zur technischen Ausführung der Sportarten weiter. Danach geht es auf eine erste Runde ins Gelände\, die Loipen\, bzw. Übungshänge. \nUm 11.00 Uhr\, 13.00 Uhr und  15:00 beginnen jeweils die Kurs Angebote. \n  \nIm Angebot sind  folgende Sportarten\, alle Angebote werden kostenfrei für die Teilnehmer angeboten: \n\nNordic Walking\nSki Touren\nSchneeschuh wandern\nSkilanglauf Klassische Technik\nSkilanglauf Freie Technik\nLanglaufen ohne Zeitmessung\nLaser Biathlon Gewehr schießen\nGeschicklichkeitsparcours\n\n  \nNordic Day 2017
URL:https://www.bsv-ski.de/veranstaltung/nordic-day-2017-beim-wsv-oberweissenbrunn/
LOCATION:WSV Oberweißenbrunn\, Deutschland
END:VEVENT
BEGIN:VEVENT
DTSTART;TZID=Europe/Berlin:20170216T080000
DTEND;TZID=Europe/Berlin:20170219T170000
DTSTAMP:20260424T203306
CREATED:20170119T072016Z
LAST-MODIFIED:20170307T145258Z
UID:3234-1487232000-1487523600@www.bsv-ski.de
SUMMARY:3. DSV JOKA Schülercup Biathlon
DESCRIPTION:Ausschreibung \nErgebnisliste Einzel \nErgebnisliste Techniksprint \nErgebnisliste Staffel \nPokalwertung
URL:https://www.bsv-ski.de/veranstaltung/3-dsv-joka-schuelercup-biathlon/
LOCATION:Luisenthal/Oberhof\, Langenburgstraße 18-19\, Luisenthal\, Deutschland
END:VEVENT
BEGIN:VEVENT
DTSTART;VALUE=DATE:20170217
DTEND;VALUE=DATE:20170220
DTSTAMP:20260424T203306
CREATED:20161215T073113Z
LAST-MODIFIED:20161215T073113Z
UID:2828-1487289600-1487548799@www.bsv-ski.de
SUMMARY:DSV Jugendcup / Deutschlandpokal Skisprung
DESCRIPTION:Ausschreibung
URL:https://www.bsv-ski.de/veranstaltung/dsv-jugendcup-deutschlandpokal-skisprung/
LOCATION:Werner-Lesser-Skisprung-Arena Brotterode\, Brotterode-Trusetal\, 98596\, Deutschland
ORGANIZER;CN="Wintersportverein Brotterode e. V.":MAILTO:mail@wsv-brottero.de
END:VEVENT
BEGIN:VEVENT
DTSTART;TZID=Europe/Berlin:20170217T080000
DTEND;TZID=Europe/Berlin:20170219T170000
DTSTAMP:20260424T203306
CREATED:20161128T142153Z
LAST-MODIFIED:20161128T142153Z
UID:2439-1487318400-1487523600@www.bsv-ski.de
SUMMARY:DSV Milka Schülercup
DESCRIPTION:Ausschreibung
URL:https://www.bsv-ski.de/veranstaltung/dsv-milka-schuelercup/
LOCATION:Johanngeorgenstadt
END:VEVENT
BEGIN:VEVENT
DTSTART;TZID=Europe/Berlin:20170217T100000
DTEND;TZID=Europe/Berlin:20170217T220000
DTSTAMP:20260424T203306
CREATED:20170213T133641Z
LAST-MODIFIED:20170213T133641Z
UID:3701-1487325600-1487368800@www.bsv-ski.de
SUMMARY:Shred Down German Masters Big-Air 2017 / Deutsche Big-Air Meisterschaften 2017
DESCRIPTION:Pressemitteilung BigAir 2017
URL:https://www.bsv-ski.de/veranstaltung/shred-down-german-masters-big-air-2017-deutsche-big-air-meisterschaften-2017/
LOCATION:Berchtesgaden\, Berchtesgaden\, 83484\, Deutschland
END:VEVENT
BEGIN:VEVENT
DTSTART;TZID=Europe/Berlin:20170217T120000
DTEND;TZID=Europe/Berlin:20170219T150000
DTSTAMP:20260424T203306
CREATED:20170207T121956Z
LAST-MODIFIED:20170207T121956Z
UID:3553-1487332800-1487516400@www.bsv-ski.de
SUMMARY:Testwettkampf DSV Jugendcup/Deutschlandpokal Nordische Kombination
DESCRIPTION:Ausschreibung
URL:https://www.bsv-ski.de/veranstaltung/testwettkampf-dsv-jugendcupdeutschlandpokal-nordische-kombination/
LOCATION:DKB Ski Arena Oberhof\, Am Grenzadler 2\, Oberhof\, Deutschland
END:VEVENT
BEGIN:VEVENT
DTSTART;VALUE=DATE:20170218
DTEND;VALUE=DATE:20170219
DTSTAMP:20260424T203306
CREATED:20161221T095535Z
LAST-MODIFIED:20161221T095535Z
UID:2943-1487376000-1487462399@www.bsv-ski.de
SUMMARY:Bayerische Meisterschaft SynchroSki „Head2Head“ 2017
DESCRIPTION:Plakat Bayerische Meisterschaften Sychro Ski „Head2Head“ 2017 \nAusschreibung Bayerische Meisterschaften Synchro Ski „Head2Head“ 2017 \nAnmeldeformular \nAblauf Run1 \nAblauf Run 2
URL:https://www.bsv-ski.de/veranstaltung/bayerische-meisterschaft-synchroski-head2head-2017/
LOCATION:Skizentrum Mitterdorf\, Mitterfirmiansreu\, 94158\, Deutschland
END:VEVENT
BEGIN:VEVENT
DTSTART;VALUE=DATE:20170218
DTEND;VALUE=DATE:20170219
DTSTAMP:20260424T203306
CREATED:20170202T074018Z
LAST-MODIFIED:20170202T075617Z
UID:3477-1487376000-1487462399@www.bsv-ski.de
SUMMARY:1.Göttfried-Inklusions-Cup
DESCRIPTION:Ausschreibung Göttfried Inklusions Cup
URL:https://www.bsv-ski.de/veranstaltung/1-goettfried-inklusions-cup-2/
LOCATION:Kreuth/Hirschberglifte\, Deutschland
END:VEVENT
BEGIN:VEVENT
DTSTART;TZID=Europe/Berlin:20170218T100000
DTEND;TZID=Europe/Berlin:20170219T163000
DTSTAMP:20260424T203306
CREATED:20170210T080305Z
LAST-MODIFIED:20170210T080305Z
UID:3635-1487412000-1487521800@www.bsv-ski.de
SUMMARY:DSV Jugendcup / Deutschlandpokal Freestyle
DESCRIPTION:Ausschreibung 1. und2. DP2017_Freestyle \nAusschreibung 2. und 3. DSC 2017_Freestyle
URL:https://www.bsv-ski.de/veranstaltung/dsv-jugendcup-deutschlandpokal-freestyle/
LOCATION:Feldberg Seebuck\, Deutschland
END:VEVENT
BEGIN:VEVENT
DTSTART;TZID=Europe/Berlin:20170224T140000
DTEND;TZID=Europe/Berlin:20170226T170000
DTSTAMP:20260424T203306
CREATED:20170209T083002Z
LAST-MODIFIED:20170209T083002Z
UID:3617-1487944800-1488128400@www.bsv-ski.de
SUMMARY:Bayerischen Schülermeisterschaft 2017 Skispringen / Nordischen Kombination
DESCRIPTION:Bayerische Schülermeisterschaften Bayerncup SP_NK Oberstdorf 2017
URL:https://www.bsv-ski.de/veranstaltung/bayerischen-schuelermeisterschaft-2017-skispringen-nordischen-kombination/
LOCATION:Oberstdorf\, Oberstdorf\, 87561\, Deutschland
END:VEVENT
BEGIN:VEVENT
DTSTART;VALUE=DATE:20170225
DTEND;VALUE=DATE:20170226
DTSTAMP:20260424T203306
CREATED:20170227T091037Z
LAST-MODIFIED:20170227T091037Z
UID:3822-1487980800-1488067199@www.bsv-ski.de
SUMMARY:37. Sparkassen Langlauftournee Doppelstart
DESCRIPTION:ErgebnislisteSparkassentournee25.02.2017
URL:https://www.bsv-ski.de/veranstaltung/37-sparkassen-langlauftournee-doppelstart/
LOCATION:Salzburg
END:VEVENT
BEGIN:VEVENT
DTSTART;VALUE=DATE:20170225
DTEND;VALUE=DATE:20170227
DTSTAMP:20260424T203306
CREATED:20170213T075711Z
LAST-MODIFIED:20170213T075711Z
UID:3676-1487980800-1488153599@www.bsv-ski.de
SUMMARY:Freestyle DP/DSC Oberjoch
DESCRIPTION:
URL:https://www.bsv-ski.de/veranstaltung/freestyle-dpdsc-oberjoch/
LOCATION:Oberjoch\, Deutschland
END:VEVENT
BEGIN:VEVENT
DTSTART;VALUE=DATE:20170225
DTEND;VALUE=DATE:20170227
DTSTAMP:20260424T203306
CREATED:20170215T102625Z
LAST-MODIFIED:20170215T102625Z
UID:3719-1487980800-1488153599@www.bsv-ski.de
SUMMARY:Bayerische Meisterschaften Biathlon
DESCRIPTION:Ausschreibung Biathlon Bayerische Meisterschaften 2017
URL:https://www.bsv-ski.de/veranstaltung/bayerische-meisterschaften-biathlon/
LOCATION:Skistadion Neubau\, Heinz-Brunner-Weg\, Fichtelberg\, 95686\, Deutschland
END:VEVENT
BEGIN:VEVENT
DTSTART;TZID=Europe/Berlin:20170225T080000
DTEND;TZID=Europe/Berlin:20170226T170000
DTSTAMP:20260424T203306
CREATED:20161206T082729Z
LAST-MODIFIED:20170227T080515Z
UID:2648-1488009600-1488128400@www.bsv-ski.de
SUMMARY:BAYERNCUP Nordische Kombination & Skisprung
DESCRIPTION:Ausschreibung \nErgebnisse: \n2017-02-25_BSM_Einzel_Ergebnisliste \n2017-02-25_BSM_NK_Sprung_Ergebnisliste \n2017-02-25_BC
URL:https://www.bsv-ski.de/veranstaltung/bayerncup-nordische-kombination-skisprung-2/
LOCATION:Salzburg
END:VEVENT
BEGIN:VEVENT
DTSTART;TZID=Europe/Berlin:20170225T100000
DTEND;TZID=Europe/Berlin:20170225T183000
DTSTAMP:20260424T203306
CREATED:20170201T100345Z
LAST-MODIFIED:20170201T100444Z
UID:3442-1488016800-1488047400@www.bsv-ski.de
SUMMARY:11. Internationaler Maiskogelfanlauf
DESCRIPTION:Maiskogelfanlauf Invitation \nMaiskogelfanlauf_Einladung \nMaiskogelfanlauf Nennungsformular
URL:https://www.bsv-ski.de/veranstaltung/11-internationaler-maiskogelfanlauf/
LOCATION:Kaprun\, Österreich
END:VEVENT
END:VCALENDAR