BEGIN:VCALENDAR
VERSION:2.0
PRODID:-//Bayerischer Skiverband e.V. - ECPv6.15.20//NONSGML v1.0//EN
CALSCALE:GREGORIAN
METHOD:PUBLISH
X-WR-CALNAME:Bayerischer Skiverband e.V.
X-ORIGINAL-URL:https://www.bsv-ski.de
X-WR-CALDESC:Veranstaltungen für Bayerischer Skiverband e.V.
REFRESH-INTERVAL;VALUE=DURATION:PT1H
X-Robots-Tag:noindex
X-PUBLISHED-TTL:PT1H
BEGIN:VTIMEZONE
TZID:Europe/Berlin
BEGIN:DAYLIGHT
TZOFFSETFROM:+0100
TZOFFSETTO:+0200
TZNAME:CEST
DTSTART:20160327T010000
END:DAYLIGHT
BEGIN:STANDARD
TZOFFSETFROM:+0200
TZOFFSETTO:+0100
TZNAME:CET
DTSTART:20161030T010000
END:STANDARD
BEGIN:DAYLIGHT
TZOFFSETFROM:+0100
TZOFFSETTO:+0200
TZNAME:CEST
DTSTART:20170326T010000
END:DAYLIGHT
BEGIN:STANDARD
TZOFFSETFROM:+0200
TZOFFSETTO:+0100
TZNAME:CET
DTSTART:20171029T010000
END:STANDARD
BEGIN:DAYLIGHT
TZOFFSETFROM:+0100
TZOFFSETTO:+0200
TZNAME:CEST
DTSTART:20180325T010000
END:DAYLIGHT
BEGIN:STANDARD
TZOFFSETFROM:+0200
TZOFFSETTO:+0100
TZNAME:CET
DTSTART:20181028T010000
END:STANDARD
END:VTIMEZONE
BEGIN:VEVENT
DTSTART;TZID=Europe/Berlin:20170604T130000
DTEND;TZID=Europe/Berlin:20170604T130000
DTSTAMP:20260424T142620
CREATED:20170524T091433Z
LAST-MODIFIED:20170524T094057Z
UID:4902-1496581200-1496581200@www.bsv-ski.de
SUMMARY:Pfingstskispringen in Bischofsgrün
DESCRIPTION:Einladung Pfingstskispringen in Bischofsgrün 2017 \nPlakat Pfingstskispringen in Bischofsgrün 2017
URL:https://www.bsv-ski.de/veranstaltung/pfingstskispringen-in-bischofsgruen/
LOCATION:Ochsenkopfschanzen in Bischofsgrün\, Bischofsgrün\, 95493\, Deutschland
ATTACH;FMTTYPE=image/jpeg:https://www.bsv-ski.de/wp-content/uploads/2017/05/k-SchanzenMai2017.jpg
END:VEVENT
BEGIN:VEVENT
DTSTART;TZID=Europe/Berlin:20170624T120000
DTEND;TZID=Europe/Berlin:20170625T153000
DTSTAMP:20260424T142620
CREATED:20170403T073120Z
LAST-MODIFIED:20170403T073120Z
UID:4356-1498305600-1498404600@www.bsv-ski.de
SUMMARY:13. Nordic-Walking-Gipfel
DESCRIPTION:wir freuen uns euch hiermit ganz herzlich zu unserem 13. Nordic-Walking-Gipfel vom 24. – 25. Juni 2017 einladen zu dürfen.\nFür den Saisonstart wünschen wir euch optimales Trainingswetter und hoffen auf ein Wiedersehen im Juni zum Nordic-Walking-Gipfel 2017 in Breitnau 🙂\nWeitere Infos und Anmeldung\, auf unserer brandneuen Homepage unter http://sz-breitnau.de/nordicwalking \n  \n  \n  \n 
URL:https://www.bsv-ski.de/veranstaltung/13-nordic-walking-gipfel/
LOCATION:Kultur- und Sporthalle Breitenau\, 79874\, Deutschland
CATEGORIES:Verband
END:VEVENT
END:VCALENDAR