BEGIN:VCALENDAR
VERSION:2.0
PRODID:-//Bayerischer Skiverband e.V. - ECPv6.15.20//NONSGML v1.0//EN
CALSCALE:GREGORIAN
METHOD:PUBLISH
X-WR-CALNAME:Bayerischer Skiverband e.V.
X-ORIGINAL-URL:https://www.bsv-ski.de
X-WR-CALDESC:Veranstaltungen für Bayerischer Skiverband e.V.
REFRESH-INTERVAL;VALUE=DURATION:PT1H
X-Robots-Tag:noindex
X-PUBLISHED-TTL:PT1H
BEGIN:VTIMEZONE
TZID:Europe/Berlin
BEGIN:DAYLIGHT
TZOFFSETFROM:+0100
TZOFFSETTO:+0200
TZNAME:CEST
DTSTART:20160327T010000
END:DAYLIGHT
BEGIN:STANDARD
TZOFFSETFROM:+0200
TZOFFSETTO:+0100
TZNAME:CET
DTSTART:20161030T010000
END:STANDARD
BEGIN:DAYLIGHT
TZOFFSETFROM:+0100
TZOFFSETTO:+0200
TZNAME:CEST
DTSTART:20170326T010000
END:DAYLIGHT
BEGIN:STANDARD
TZOFFSETFROM:+0200
TZOFFSETTO:+0100
TZNAME:CET
DTSTART:20171029T010000
END:STANDARD
BEGIN:DAYLIGHT
TZOFFSETFROM:+0100
TZOFFSETTO:+0200
TZNAME:CEST
DTSTART:20180325T010000
END:DAYLIGHT
BEGIN:STANDARD
TZOFFSETFROM:+0200
TZOFFSETTO:+0100
TZNAME:CET
DTSTART:20181028T010000
END:STANDARD
END:VTIMEZONE
BEGIN:VEVENT
DTSTART;TZID=Europe/Berlin:20170819T160000
DTEND;TZID=Europe/Berlin:20170819T160000
DTSTAMP:20260424T113612
CREATED:20170524T094956Z
LAST-MODIFIED:20170524T095040Z
UID:4925-1503158400-1503158400@www.bsv-ski.de
SUMMARY:Sommerskispringen HS 98 Berchtesgaden
DESCRIPTION:
URL:https://www.bsv-ski.de/veranstaltung/sommerskispringen-hs-98-berchtesgaden/
LOCATION:Berchtesgarden\, Berchtesgaden\, 83484\, Deutschland
END:VEVENT
BEGIN:VEVENT
DTSTART;VALUE=DATE:20170825
DTEND;VALUE=DATE:20170828
DTSTAMP:20260424T113612
CREATED:20170717T111216Z
LAST-MODIFIED:20170718T065309Z
UID:5709-1503619200-1503878399@www.bsv-ski.de
SUMMARY:16. Deutsche Seniorenmeisterschaft der Skispringer
DESCRIPTION:Ausschreibung DM Senioren in Haselbach 2017 \nMeldeformular DM Senioren
URL:https://www.bsv-ski.de/veranstaltung/16-deutsche-seniorenmeisterschaft-der-skispringer/
LOCATION:Kreuzbergschanzen\, Bischofsheim - Haselbach\, 97653\, Deutschland
END:VEVENT
END:VCALENDAR