BEGIN:VCALENDAR
VERSION:2.0
PRODID:-//Bayerischer Skiverband e.V. - ECPv6.15.20//NONSGML v1.0//EN
CALSCALE:GREGORIAN
METHOD:PUBLISH
X-ORIGINAL-URL:https://www.bsv-ski.de
X-WR-CALDESC:Veranstaltungen für Bayerischer Skiverband e.V.
REFRESH-INTERVAL;VALUE=DURATION:PT1H
X-Robots-Tag:noindex
X-PUBLISHED-TTL:PT1H
BEGIN:VTIMEZONE
TZID:Europe/Berlin
BEGIN:DAYLIGHT
TZOFFSETFROM:+0100
TZOFFSETTO:+0200
TZNAME:CEST
DTSTART:20160327T010000
END:DAYLIGHT
BEGIN:STANDARD
TZOFFSETFROM:+0200
TZOFFSETTO:+0100
TZNAME:CET
DTSTART:20161030T010000
END:STANDARD
BEGIN:DAYLIGHT
TZOFFSETFROM:+0100
TZOFFSETTO:+0200
TZNAME:CEST
DTSTART:20170326T010000
END:DAYLIGHT
BEGIN:STANDARD
TZOFFSETFROM:+0200
TZOFFSETTO:+0100
TZNAME:CET
DTSTART:20171029T010000
END:STANDARD
BEGIN:DAYLIGHT
TZOFFSETFROM:+0100
TZOFFSETTO:+0200
TZNAME:CEST
DTSTART:20180325T010000
END:DAYLIGHT
BEGIN:STANDARD
TZOFFSETFROM:+0200
TZOFFSETTO:+0100
TZNAME:CET
DTSTART:20181028T010000
END:STANDARD
END:VTIMEZONE
BEGIN:VEVENT
DTSTART;VALUE=DATE:20170901
DTEND;VALUE=DATE:20170904
DTSTAMP:20260424T100910
CREATED:20170828T094301Z
LAST-MODIFIED:20170907T060718Z
UID:6052-1504224000-1504483199@www.bsv-ski.de
SUMMARY:1. DSV Jugendcup/Deutschlandpokal Skisprung
DESCRIPTION:Ausschreibung 1. DSV Jugendcup/Deutschlandpokal Skisprung \nErgebnisliste Samstag 02.09. \nErgebnisliste Sonntag 03.09.
URL:https://www.bsv-ski.de/veranstaltung/1-dsv-jugendcupdeutschlandpokal-skisprung/
LOCATION:Berchtesgaden\, Berchtesgaden\, 83484\, Deutschland
END:VEVENT
BEGIN:VEVENT
DTSTART;VALUE=DATE:20170908
DTEND;VALUE=DATE:20170911
DTSTAMP:20260424T100910
CREATED:20170717T093026Z
LAST-MODIFIED:20170717T093026Z
UID:5700-1504828800-1505087999@www.bsv-ski.de
SUMMARY:Deutsche Meisterschaft Biathlon
DESCRIPTION:Ausschreibung Deutsche Meisterschaft Biathlon 2017
URL:https://www.bsv-ski.de/veranstaltung/deutsche-meisterschaft-biathlon/
LOCATION:Arber Hohenzollern Skistadion\, Arberseestraße\, Bayer. Eisenstein\, 94252\, Deutschland
END:VEVENT
BEGIN:VEVENT
DTSTART;VALUE=DATE:20170910
DTEND;VALUE=DATE:20170911
DTSTAMP:20260424T100910
CREATED:20170814T110239Z
LAST-MODIFIED:20170814T110239Z
UID:5970-1505001600-1505087999@www.bsv-ski.de
SUMMARY:Breitenberg bewegt Dich
DESCRIPTION:Ausschreibung Breitenberg bewegt Dich 2017 \nPlakat Breitenberg bewegt Dich 2017
URL:https://www.bsv-ski.de/veranstaltung/breitenberg-bewegt-dich/
LOCATION:Nordisches Zentrum Jägerbild / Blutwurzhütte\, Obernstein\, Jägerbild\, Breitenberg\, 94139\, Deutschland
END:VEVENT
BEGIN:VEVENT
DTSTART;VALUE=DATE:20170910
DTEND;VALUE=DATE:20170911
DTSTAMP:20260424T100910
CREATED:20170824T133713Z
LAST-MODIFIED:20170824T134259Z
UID:6025-1505001600-1505087999@www.bsv-ski.de
SUMMARY:Skispringen Kloster Kreuzberg Pokal
DESCRIPTION:Ausschreibung Skispringen 14. Kloster Kreuzberg Pokal 2017
URL:https://www.bsv-ski.de/veranstaltung/skispringen-kloster-kreuzberg-pokal/
LOCATION:Kreuzberg Arena\, Haselbach in der Rhön\, Deutschland
END:VEVENT
BEGIN:VEVENT
DTSTART;VALUE=DATE:20170914
DTEND;VALUE=DATE:20170917
DTSTAMP:20260424T100910
CREATED:20170810T131443Z
LAST-MODIFIED:20170912T063223Z
UID:5959-1505347200-1505606399@www.bsv-ski.de
SUMMARY:DSV Jugendcup/Deutschlandpokal Skisprung und Nordische Kombination
DESCRIPTION:  \n  \nAusschreibung DSV Jugendcup/ Deutschlandpokal Skisprung NK Oberstdorf \nZeitplan DSV Jugendcup/ Deutschlandpokal SKisprung NK Oberstdorf
URL:https://www.bsv-ski.de/veranstaltung/dsv-jugendcupdeutschlandpokal-skisprung-und-nordische-kombination/
LOCATION:Erdinger Arena Oberstdorf\, Am Faltenbach 27\, Oberstdorf\, 87561 \, Deutschland
END:VEVENT
BEGIN:VEVENT
DTSTART;VALUE=DATE:20170914
DTEND;VALUE=DATE:20170918
DTSTAMP:20260424T100910
CREATED:20170703T111518Z
LAST-MODIFIED:20170703T112037Z
UID:5531-1505347200-1505692799@www.bsv-ski.de
SUMMARY:Deutsche Biathlonmeisterschaft 2017
DESCRIPTION:Ausschreibung Deutsche Biathlonmeisterschaft 2017 – Ruhpolding
URL:https://www.bsv-ski.de/veranstaltung/deutsche-biathlonmeisterschaft-2017/
LOCATION:Chiemgau Arena\, Biathlonzentrum 1\, Ruhpolding\, 83324 \, Deutschland
END:VEVENT
BEGIN:VEVENT
DTSTART;VALUE=DATE:20170916
DTEND;VALUE=DATE:20170917
DTSTAMP:20260424T100910
CREATED:20170911T075713Z
LAST-MODIFIED:20170913T104253Z
UID:6179-1505520000-1505606399@www.bsv-ski.de
SUMMARY:Möbel Löffler Mini - Schanzen - Tournee
DESCRIPTION:Zeitplan Möbel Löffler Mini – Schanzen – Tournee \nAusschreibung Möbel Löffler Mini-Schanzen-Tournee \nMeldung möglich über rennmeldung.de
URL:https://www.bsv-ski.de/veranstaltung/moebel-loeffler-mini-schanzen-tournee/
LOCATION:Hasenbergschanze\, Isny\, Deutschland
END:VEVENT
BEGIN:VEVENT
DTSTART;VALUE=DATE:20170916
DTEND;VALUE=DATE:20170918
DTSTAMP:20260424T100910
CREATED:20170911T111231Z
LAST-MODIFIED:20170911T111231Z
UID:6190-1505520000-1505692799@www.bsv-ski.de
SUMMARY:RWS Bayerncup Biathlon
DESCRIPTION:Ausschreibung RWS Bayerncup Biathlon Neubau
URL:https://www.bsv-ski.de/veranstaltung/rws-bayerncup-biathlon/
LOCATION:Skistadion Neubau\, Heinz-Brunner-Weg\, Fichtelberg\, 95686\, Deutschland
END:VEVENT
BEGIN:VEVENT
DTSTART;VALUE=DATE:20170922
DTEND;VALUE=DATE:20170924
DTSTAMP:20260424T100910
CREATED:20170809T133121Z
LAST-MODIFIED:20171009T120352Z
UID:5911-1506038400-1506211199@www.bsv-ski.de
SUMMARY:Bayerncup Nordische Kombination/Skispringen
DESCRIPTION:Ergebnisliste NK Bayerncup \nErgebnisliste Skisprung Bayerncup \nAusschreibung Bayerncup Nordische Kombination/Skispringen 2017/2018
URL:https://www.bsv-ski.de/veranstaltung/bayerncup-nordische-kombinationskispringen/
LOCATION:Ochsenkopfschanzen in Bischofsgrün\, Bischofsgrün\, 95493\, Deutschland
END:VEVENT
BEGIN:VEVENT
DTSTART;VALUE=DATE:20170928
DTEND;VALUE=DATE:20171002
DTSTAMP:20260424T100910
CREATED:20170801T134410Z
LAST-MODIFIED:20170801T134550Z
UID:5824-1506556800-1506902399@www.bsv-ski.de
SUMMARY:RWS Cup 2017
DESCRIPTION:Ausschreibung RWS Cup 2017
URL:https://www.bsv-ski.de/veranstaltung/rws-cup-2017/
LOCATION:Hohenzollern Skistadion\, Bayerisch Eisenstein\, 94252\, Deutschland
END:VEVENT
END:VCALENDAR