BEGIN:VCALENDAR
VERSION:2.0
PRODID:-//Bayerischer Skiverband e.V. - ECPv6.15.20//NONSGML v1.0//EN
CALSCALE:GREGORIAN
METHOD:PUBLISH
X-ORIGINAL-URL:https://www.bsv-ski.de
X-WR-CALDESC:Veranstaltungen für Bayerischer Skiverband e.V.
REFRESH-INTERVAL;VALUE=DURATION:PT1H
X-Robots-Tag:noindex
X-PUBLISHED-TTL:PT1H
BEGIN:VTIMEZONE
TZID:Europe/Berlin
BEGIN:DAYLIGHT
TZOFFSETFROM:+0100
TZOFFSETTO:+0200
TZNAME:CEST
DTSTART:20160327T010000
END:DAYLIGHT
BEGIN:STANDARD
TZOFFSETFROM:+0200
TZOFFSETTO:+0100
TZNAME:CET
DTSTART:20161030T010000
END:STANDARD
BEGIN:DAYLIGHT
TZOFFSETFROM:+0100
TZOFFSETTO:+0200
TZNAME:CEST
DTSTART:20170326T010000
END:DAYLIGHT
BEGIN:STANDARD
TZOFFSETFROM:+0200
TZOFFSETTO:+0100
TZNAME:CET
DTSTART:20171029T010000
END:STANDARD
BEGIN:DAYLIGHT
TZOFFSETFROM:+0100
TZOFFSETTO:+0200
TZNAME:CEST
DTSTART:20180325T010000
END:DAYLIGHT
BEGIN:STANDARD
TZOFFSETFROM:+0200
TZOFFSETTO:+0100
TZNAME:CET
DTSTART:20181028T010000
END:STANDARD
BEGIN:DAYLIGHT
TZOFFSETFROM:+0100
TZOFFSETTO:+0200
TZNAME:CEST
DTSTART:20190331T010000
END:DAYLIGHT
BEGIN:STANDARD
TZOFFSETFROM:+0200
TZOFFSETTO:+0100
TZNAME:CET
DTSTART:20191027T010000
END:STANDARD
END:VTIMEZONE
BEGIN:VEVENT
DTSTART;VALUE=DATE:20171202
DTEND;VALUE=DATE:20171203
DTSTAMP:20260424T055007
CREATED:20171128T104632Z
LAST-MODIFIED:20171128T104632Z
UID:7046-1512172800-1512259199@www.bsv-ski.de
SUMMARY:Ausschreibung FIS-CIT Slalom in Sainte-Foy
DESCRIPTION:Ausschreibung FIS-CIT 02.12.17
URL:https://www.bsv-ski.de/veranstaltung/ausschreibung-fis-cit-slalom-in-sainte-foy/
LOCATION:Salzburg
END:VEVENT
BEGIN:VEVENT
DTSTART;VALUE=DATE:20171204
DTEND;VALUE=DATE:20171206
DTSTAMP:20260424T055007
CREATED:20171129T091318Z
LAST-MODIFIED:20171129T091318Z
UID:7057-1512345600-1512518399@www.bsv-ski.de
SUMMARY:Ausschreibung FIS-CIT GS Santa Caterina Valfurva
DESCRIPTION:Programm FIS-CIT Santa Caterina Valfurva
URL:https://www.bsv-ski.de/veranstaltung/ausschreibung-fis-cit-gs-santa-caterina-valfurva/
LOCATION:Salzburg
END:VEVENT
BEGIN:VEVENT
DTSTART;VALUE=DATE:20171208
DTEND;VALUE=DATE:20171218
DTSTAMP:20260424T055007
CREATED:20171106T145234Z
LAST-MODIFIED:20171106T145234Z
UID:6800-1512691200-1513555199@www.bsv-ski.de
SUMMARY:FIS Europacup Slopestyle & Halfpipe
DESCRIPTION:FIS Europacup Slopestyle & Halfpipe \nFIS Europacup Slopestyle & Halfpipe(2) \nFIS Europacup Slopestyle & Halfpipe(3) \n 
URL:https://www.bsv-ski.de/veranstaltung/fis-europacup-slopestyle-halfpipe/
LOCATION:Salzburg
END:VEVENT
BEGIN:VEVENT
DTSTART;VALUE=DATE:20171209
DTEND;VALUE=DATE:20171211
DTSTAMP:20260424T055007
CREATED:20171106T085540Z
LAST-MODIFIED:20171106T090221Z
UID:6788-1512777600-1512950399@www.bsv-ski.de
SUMMARY:Ausschreibung Bayerischer Schülercup Rastbüchl 2017/2018
DESCRIPTION:Ausschreibung BC Rastbüchl 2017
URL:https://www.bsv-ski.de/veranstaltung/ausschreibung-bayerischer-schuelercup-rastbuechl-20172018/
LOCATION:Salzburg
END:VEVENT
BEGIN:VEVENT
DTSTART;VALUE=DATE:20171215
DTEND;VALUE=DATE:20171218
DTSTAMP:20260424T055007
CREATED:20171106T090049Z
LAST-MODIFIED:20171106T090140Z
UID:6791-1513296000-1513555199@www.bsv-ski.de
SUMMARY:Einladung und Ausschreibung zum DSV Milka Schülercup in Rastbüchl/Breitenberg
DESCRIPTION:DSV Milka Schülercup Rastbüchl/Breitenberg
URL:https://www.bsv-ski.de/veranstaltung/einladung-und-ausschreibung-zum-dsv-milka-schuelercup-in-rastbuechlbreitenberg/
LOCATION:Salzburg
END:VEVENT
BEGIN:VEVENT
DTSTART;VALUE=DATE:20171218
DTEND;VALUE=DATE:20171220
DTSTAMP:20260424T055007
CREATED:20171115T093127Z
LAST-MODIFIED:20171115T093127Z
UID:6925-1513555200-1513727999@www.bsv-ski.de
SUMMARY:Ausschreibung FIS-CIT Riesenslalom/GS in Dienten/SBG/AUT
DESCRIPTION:FIS-CIT 18/19.12.2017 Dienten GS
URL:https://www.bsv-ski.de/veranstaltung/ausschreibung-fis-cit-riesenslalomgs-in-dientensbgaut/
LOCATION:Salzburg
CATEGORIES:Aus- und Fortbildung
END:VEVENT
BEGIN:VEVENT
DTSTART;VALUE=DATE:20171219
DTEND;VALUE=DATE:20180401
DTSTAMP:20260424T055007
CREATED:20171219T125324Z
LAST-MODIFIED:20180118T120043Z
UID:7241-1513641600-1522540799@www.bsv-ski.de
SUMMARY:Informationen und Ausschreibung für "DAS GRÜNE BAND"
DESCRIPTION:Ausschreibung_Das_Grüne_Band_2018_online \nErgänzende_Info_Bewerbung_gb_an_lsv \nBewerbung_Das_Grüne_Band_2018_ausfüllbar_01 \n 
URL:https://www.bsv-ski.de/veranstaltung/informationen-und-ausschreibung-fuer-das-gruene-band/
LOCATION:Salzburg
END:VEVENT
BEGIN:VEVENT
DTSTART;VALUE=DATE:20171220
DTEND;VALUE=DATE:20171222
DTSTAMP:20260424T055007
CREATED:20171115T093354Z
LAST-MODIFIED:20171115T093354Z
UID:6929-1513728000-1513900799@www.bsv-ski.de
SUMMARY:Ausschreibung FIS-CIT Slalom/SL in Leogang/SBG/AUT
DESCRIPTION:FIS-CIT 20/21.12.2017 Leogang-SL
URL:https://www.bsv-ski.de/veranstaltung/ausschreibung-fis-cit-slalomsl-in-leogangsbgaut/
LOCATION:Salzburg
CATEGORIES:Aus- und Fortbildung
END:VEVENT
BEGIN:VEVENT
DTSTART;VALUE=DATE:20171227
DTEND;VALUE=DATE:20171231
DTSTAMP:20260424T055007
CREATED:20171208T072932Z
LAST-MODIFIED:20171219T125427Z
UID:7165-1514332800-1514678399@www.bsv-ski.de
SUMMARY:Ski Alpin Trainingscamp 27.12. - 30.12.2017
DESCRIPTION:Einladung_Racecamp_12_2017
URL:https://www.bsv-ski.de/veranstaltung/ski-alpin-trainingscamp-27-12-30-12-2017/
LOCATION:Salzburg
END:VEVENT
BEGIN:VEVENT
DTSTART;VALUE=DATE:20171229
DTEND;VALUE=DATE:20171231
DTSTAMP:20260424T055007
CREATED:20171215T111210Z
LAST-MODIFIED:20171215T111631Z
UID:7203-1514505600-1514678399@www.bsv-ski.de
SUMMARY:Ausschreibung Deutschlandpokal Rennen Tegelberg
DESCRIPTION:Ausschreibung Deutschlandpokal Tegelberg 29 und 30 12 2017_
URL:https://www.bsv-ski.de/veranstaltung/ausschreibung-deutschlandpokal-rennen-tegelberg/
LOCATION:Salzburg
END:VEVENT
BEGIN:VEVENT
DTSTART;VALUE=DATE:20171230
DTEND;VALUE=DATE:20171231
DTSTAMP:20260424T055007
CREATED:20171220T130521Z
LAST-MODIFIED:20171220T130521Z
UID:7277-1514592000-1514678399@www.bsv-ski.de
SUMMARY:Ausschreibung zum Meister-Nordic-Cup 2017/18
DESCRIPTION:Ausschreibung MNC 2017
URL:https://www.bsv-ski.de/veranstaltung/ausschreibung-zum-meister-nordic-cup-201718/
LOCATION:Salzburg
END:VEVENT
END:VCALENDAR