BEGIN:VCALENDAR
VERSION:2.0
PRODID:-//Bayerischer Skiverband e.V. - ECPv6.15.20//NONSGML v1.0//EN
CALSCALE:GREGORIAN
METHOD:PUBLISH
X-WR-CALNAME:Bayerischer Skiverband e.V.
X-ORIGINAL-URL:https://www.bsv-ski.de
X-WR-CALDESC:Veranstaltungen für Bayerischer Skiverband e.V.
REFRESH-INTERVAL;VALUE=DURATION:PT1H
X-Robots-Tag:noindex
X-PUBLISHED-TTL:PT1H
BEGIN:VTIMEZONE
TZID:Europe/Berlin
BEGIN:DAYLIGHT
TZOFFSETFROM:+0100
TZOFFSETTO:+0200
TZNAME:CEST
DTSTART:20160327T010000
END:DAYLIGHT
BEGIN:STANDARD
TZOFFSETFROM:+0200
TZOFFSETTO:+0100
TZNAME:CET
DTSTART:20161030T010000
END:STANDARD
BEGIN:DAYLIGHT
TZOFFSETFROM:+0100
TZOFFSETTO:+0200
TZNAME:CEST
DTSTART:20170326T010000
END:DAYLIGHT
BEGIN:STANDARD
TZOFFSETFROM:+0200
TZOFFSETTO:+0100
TZNAME:CET
DTSTART:20171029T010000
END:STANDARD
BEGIN:DAYLIGHT
TZOFFSETFROM:+0100
TZOFFSETTO:+0200
TZNAME:CEST
DTSTART:20180325T010000
END:DAYLIGHT
BEGIN:STANDARD
TZOFFSETFROM:+0200
TZOFFSETTO:+0100
TZNAME:CET
DTSTART:20181028T010000
END:STANDARD
BEGIN:DAYLIGHT
TZOFFSETFROM:+0100
TZOFFSETTO:+0200
TZNAME:CEST
DTSTART:20190331T010000
END:DAYLIGHT
BEGIN:STANDARD
TZOFFSETFROM:+0200
TZOFFSETTO:+0100
TZNAME:CET
DTSTART:20191027T010000
END:STANDARD
END:VTIMEZONE
BEGIN:VEVENT
DTSTART;VALUE=DATE:20171219
DTEND;VALUE=DATE:20180401
DTSTAMP:20260424T041743
CREATED:20171219T125324Z
LAST-MODIFIED:20180118T120043Z
UID:7241-1513641600-1522540799@www.bsv-ski.de
SUMMARY:Informationen und Ausschreibung für "DAS GRÜNE BAND"
DESCRIPTION:Ausschreibung_Das_Grüne_Band_2018_online \nErgänzende_Info_Bewerbung_gb_an_lsv \nBewerbung_Das_Grüne_Band_2018_ausfüllbar_01 \n 
URL:https://www.bsv-ski.de/veranstaltung/informationen-und-ausschreibung-fuer-das-gruene-band/
LOCATION:Salzburg
END:VEVENT
BEGIN:VEVENT
DTSTART;TZID=Europe/Berlin:20180102T000000
DTEND;TZID=Europe/Berlin:20180102T000000
DTSTAMP:20260424T041743
CREATED:20180102T135643Z
LAST-MODIFIED:20180102T135643Z
UID:7348-1514851200-1514851200@www.bsv-ski.de
SUMMARY:Nord Bayern Cup 2018 Josef-Hartwich-Lauf Großbüchlberg
DESCRIPTION:
URL:https://www.bsv-ski.de/veranstaltung/nord-bayern-cup-2018-josef-hartwich-lauf-grossbuechlberg/
LOCATION:Salzburg
END:VEVENT
BEGIN:VEVENT
DTSTART;VALUE=DATE:20180102
DTEND;VALUE=DATE:20180104
DTSTAMP:20260424T041743
CREATED:20171218T122737Z
LAST-MODIFIED:20171218T122737Z
UID:7232-1514851200-1515023999@www.bsv-ski.de
SUMMARY:FIS CIT Race Pontresina
DESCRIPTION:Ausschreibung FIS CIT Race Pontresina
URL:https://www.bsv-ski.de/veranstaltung/fis-cit-race-pontresina/
LOCATION:Pontresina\, Pontresina\, Schweiz
END:VEVENT
BEGIN:VEVENT
DTSTART;VALUE=DATE:20180102
DTEND;VALUE=DATE:20180104
DTSTAMP:20260424T041743
CREATED:20171219T125953Z
LAST-MODIFIED:20171219T125953Z
UID:7246-1514851200-1515023999@www.bsv-ski.de
SUMMARY:FIS-CIT Rennen "Arnold Lunn World Cup" in Pontresina
DESCRIPTION:P FIS-CIT RACES PONTRESINA 02.-03.01.2018
URL:https://www.bsv-ski.de/veranstaltung/fis-cit-rennen-arnold-lunn-world-cup-in-pontresina/
LOCATION:Salzburg
END:VEVENT
BEGIN:VEVENT
DTSTART;VALUE=DATE:20180105
DTEND;VALUE=DATE:20180107
DTSTAMP:20260424T041743
CREATED:20171206T104810Z
LAST-MODIFIED:20171206T104810Z
UID:7127-1515110400-1515283199@www.bsv-ski.de
SUMMARY:Ausschreibung FIS-CIT SL Val Palot
DESCRIPTION:Program_CIT_Valpalot
URL:https://www.bsv-ski.de/veranstaltung/ausschreibung-fis-cit-sl-val-palot/
LOCATION:Salzburg
END:VEVENT
BEGIN:VEVENT
DTSTART;VALUE=DATE:20180105
DTEND;VALUE=DATE:20180108
DTSTAMP:20260424T041743
CREATED:20171219T135816Z
LAST-MODIFIED:20171219T135816Z
UID:7261-1515110400-1515369599@www.bsv-ski.de
SUMMARY:Ausschreibung zum Deutschlandpokal/Swisscup Biathlon vom 05.01-07.01.18
DESCRIPTION:Ausschreibung DP Notschrei 2018
URL:https://www.bsv-ski.de/veranstaltung/ausschreibung-zum-deutschlandpokalswisscup-biathlon-vom-05-01-07-01-18/
LOCATION:Salzburg
END:VEVENT
BEGIN:VEVENT
DTSTART;VALUE=DATE:20180111
DTEND;VALUE=DATE:20180115
DTSTAMP:20260424T041743
CREATED:20171206T113748Z
LAST-MODIFIED:20171206T113748Z
UID:7139-1515628800-1515974399@www.bsv-ski.de
SUMMARY:Ausschreibung DSV Milka Schülercup SSP/NK Baiersbronn
DESCRIPTION:DSV Milka Schülercup SP_NK Baiersbronn
URL:https://www.bsv-ski.de/veranstaltung/ausschreibung-dsv-milka-schuelercup-sspnk-baiersbronn/
LOCATION:Salzburg
END:VEVENT
BEGIN:VEVENT
DTSTART;VALUE=DATE:20180112
DTEND;VALUE=DATE:20180115
DTSTAMP:20260424T041743
CREATED:20171222T091345Z
LAST-MODIFIED:20171222T091345Z
UID:7311-1515715200-1515974399@www.bsv-ski.de
SUMMARY:Fortbildung DSV-Skilehrer: Riesenslalomtraining mit ehemaligen Athleten in Kühtai
DESCRIPTION:ausschreibung_a_tlr_2_2017_12_22 \nausschreibung_a_fb_sl_6_2017_12_22 \n 
URL:https://www.bsv-ski.de/veranstaltung/fortbildung-dsv-skilehrer-riesenslalomtraining-mit-ehemaligen-athleten-in-kuehtai/
LOCATION:Salzburg
CATEGORIES:Aus- und Fortbildung
END:VEVENT
BEGIN:VEVENT
DTSTART;VALUE=DATE:20180113
DTEND;VALUE=DATE:20180115
DTSTAMP:20260424T041743
CREATED:20171206T105252Z
LAST-MODIFIED:20171206T105252Z
UID:7133-1515801600-1515974399@www.bsv-ski.de
SUMMARY:Ausschreibung FIS-CIT GS Reiteralm
DESCRIPTION:2018_01_13-14 Reiteralm-GS
URL:https://www.bsv-ski.de/veranstaltung/ausschreibung-fis-cit-gs-reiteralm/
LOCATION:Salzburg
END:VEVENT
BEGIN:VEVENT
DTSTART;VALUE=DATE:20180114
DTEND;VALUE=DATE:20180115
DTSTAMP:20260424T041743
CREATED:20180102T140648Z
LAST-MODIFIED:20180102T140648Z
UID:7350-1515888000-1515974399@www.bsv-ski.de
SUMMARY:Nord Bayern Cup 2018 Josef-Hartwich-Lauf
DESCRIPTION:Ausschreibung Nord Bayern Cup Josef-Hartwich-Lauf
URL:https://www.bsv-ski.de/veranstaltung/nord-bayern-cup-2018-josef-hartwich-lauf/
LOCATION:Skilanglaufgebiet Großbüchlberg\, Großbüchlberg\, Mitterteich\, 95666
END:VEVENT
BEGIN:VEVENT
DTSTART;VALUE=DATE:20180117
DTEND;VALUE=DATE:20180118
DTSTAMP:20260424T041743
CREATED:20180102T141527Z
LAST-MODIFIED:20180102T141527Z
UID:7331-1516147200-1516233599@www.bsv-ski.de
SUMMARY:Nacht der Geschwindigkeit - 12. Münchner Journalisten-Abfahrtsmeisterschaft
DESCRIPTION:Ausschreibung Nacht der Geschwindigkeit – 12. Münchner Journalisten-Abfahrtsmeisterschaft
URL:https://www.bsv-ski.de/veranstaltung/nacht-der-geschwindigkeit-12-muenchner-journalisten-abfahrtsmeisterschaft/
LOCATION:Hocheck\, Oberaudorf
END:VEVENT
BEGIN:VEVENT
DTSTART;VALUE=DATE:20180119
DTEND;VALUE=DATE:20180122
DTSTAMP:20260424T041743
CREATED:20171207T080454Z
LAST-MODIFIED:20180124T085105Z
UID:7144-1516320000-1516579199@www.bsv-ski.de
SUMMARY:Ausschreibung Deutsche Jugendmeisterschaften SSP/NK in Klingenthal/Vogtland
DESCRIPTION:Hier die Ausschreibung zur DJM_NK/SSP in Klingenthal \n  \nDie Einzelergebnisse von Freitag\, den 19.01.2018\nErgebnisstabelle DJMSS_19012018_KLI \nErgebnistabelle DJMNK_19012018_KLI \nDie Einzelergebnisse von Samstag\, den 20.01.2018\nErgebnistabelle DJMNK_20012018_KLI \nErgebnistabelle DJMSS 20012018 KLI \nDie Teamergebnisse von Sonntag\, den 21.01.2018\nErgebnistabelle DJMSS_21012018_KLI
URL:https://www.bsv-ski.de/veranstaltung/ausschreibung-deutsche-jugendmeisterschaften-sspnk-in-klingenthalvogtland/
LOCATION:Salzburg
END:VEVENT
BEGIN:VEVENT
DTSTART;VALUE=DATE:20180120
DTEND;VALUE=DATE:20180121
DTSTAMP:20260424T041743
CREATED:20170925T095024Z
LAST-MODIFIED:20180118T115954Z
UID:6277-1516406400-1516492799@www.bsv-ski.de
SUMMARY:2. Göttfried - Inklusions- Cup
DESCRIPTION:Ausschreibung 2. Göttfried – Inklusions – Cup
URL:https://www.bsv-ski.de/veranstaltung/2-goettfried-inklusions-cup/
LOCATION:Hirschberglifte\, Kreuth
END:VEVENT
BEGIN:VEVENT
DTSTART;VALUE=DATE:20180120
DTEND;VALUE=DATE:20180122
DTSTAMP:20260424T041744
CREATED:20171206T105042Z
LAST-MODIFIED:20180118T115937Z
UID:7130-1516406400-1516579199@www.bsv-ski.de
SUMMARY:Ausschreibung FIS-CIT SL Piesendorf
DESCRIPTION:2018_01_20-21 Piesendorf SL
URL:https://www.bsv-ski.de/veranstaltung/ausschreibung-fis-cit-sl-piesendorf/
LOCATION:Salzburg
END:VEVENT
BEGIN:VEVENT
DTSTART;VALUE=DATE:20180120
DTEND;VALUE=DATE:20180122
DTSTAMP:20260424T041744
CREATED:20180109T104730Z
LAST-MODIFIED:20180118T115918Z
UID:7411-1516406400-1516579199@www.bsv-ski.de
SUMMARY:Deutschlandpokal mit Skiliga Bayern und DSV Punkterennen in Seefeld
DESCRIPTION:Ausschreibung Deutschlandpokal 20.-21.01.2018 Seefeld
URL:https://www.bsv-ski.de/veranstaltung/deutschlandpokal-mit-skiliga-bayern-und-dsv-punkterennen-in-seefeld/
LOCATION:Salzburg
END:VEVENT
BEGIN:VEVENT
DTSTART;VALUE=DATE:20180120
DTEND;VALUE=DATE:20180122
DTSTAMP:20260424T041744
CREATED:20180124T132816Z
LAST-MODIFIED:20180124T132816Z
UID:7657-1516406400-1516579199@www.bsv-ski.de
SUMMARY:DSV JOKA Schülercup Biathlon in Oberwiesenthal
DESCRIPTION:Hier die Ergebnisse des Wochenendes:\nErgebnisliste Technik Sprint \nErgebnisliste Verfolgung Gesamt \nEndergebnisliste Verfolgung Nettolaufzeiten \nPokal-Wertung
URL:https://www.bsv-ski.de/veranstaltung/dsv-joka-schuelercup-biathlon-in-oberwiesenthal/
LOCATION:Salzburg
END:VEVENT
BEGIN:VEVENT
DTSTART;VALUE=DATE:20180120
DTEND;VALUE=DATE:20180128
DTSTAMP:20260424T041744
CREATED:20180104T131559Z
LAST-MODIFIED:20180118T115855Z
UID:7381-1516406400-1517097599@www.bsv-ski.de
SUMMARY:Ausschreibung und Programm DSV-Skilehrer Schneelehrgang in Maria Alm
DESCRIPTION:Ausschreibung_A_LG_1_1 \nProgramm_A_LG_1_1
URL:https://www.bsv-ski.de/veranstaltung/ausschreibung-und-programm-dsv-skilehrer-schneelehrgang-in-maria-alm/
LOCATION:Salzburg
END:VEVENT
BEGIN:VEVENT
DTSTART;VALUE=DATE:20180121
DTEND;VALUE=DATE:20180122
DTSTAMP:20260424T041744
CREATED:20180105T111030Z
LAST-MODIFIED:20180118T115840Z
UID:7396-1516492800-1516579199@www.bsv-ski.de
SUMMARY:World Snow Day 2018
DESCRIPTION:World Snow Day
URL:https://www.bsv-ski.de/veranstaltung/world-snow-day-2018/
LOCATION:Salzburg
END:VEVENT
BEGIN:VEVENT
DTSTART;VALUE=DATE:20180125
DTEND;VALUE=DATE:20180129
DTSTAMP:20260424T041744
CREATED:20180119T103940Z
LAST-MODIFIED:20180119T105135Z
UID:7514-1516838400-1517183999@www.bsv-ski.de
SUMMARY:Ausschreibung Weiterbildung zum "DSV-Freeride-Guide" in Fieberbrunn
DESCRIPTION:Hier geht´s zur offiziellen Ausschreibung \nHier gibt´s das vorläufige Programm als PDF zum Download
URL:https://www.bsv-ski.de/veranstaltung/ausschreibung-weiterbildung-zum-dsv-freeride-guide-in-fieberbrunn/
LOCATION:Salzburg
CATEGORIES:Aus- und Fortbildung
END:VEVENT
BEGIN:VEVENT
DTSTART;VALUE=DATE:20180126
DTEND;VALUE=DATE:20180129
DTSTAMP:20260424T041744
CREATED:20171222T124905Z
LAST-MODIFIED:20180118T115815Z
UID:7315-1516924800-1517183999@www.bsv-ski.de
SUMMARY:Ausschreibung Bayerische Schülermeisterschaften 2018 Einzel & Team mit Bayerischem Schülercup Skispringen / Nordische Kombination
DESCRIPTION:Ausschreibung BSM-BSC Partenkirchen 26.-28.01.2018
URL:https://www.bsv-ski.de/veranstaltung/ausschreibung-bayerische-schuelermeisterschaften-2018-einzel-team-mit-bayerischem-schuelercup-skispringen-nordische-kombination/
LOCATION:Salzburg
END:VEVENT
BEGIN:VEVENT
DTSTART;VALUE=DATE:20180126
DTEND;VALUE=DATE:20180129
DTSTAMP:20260424T041744
CREATED:20180124T094110Z
LAST-MODIFIED:20180124T094110Z
UID:7624-1516924800-1517183999@www.bsv-ski.de
SUMMARY:Zentrale Landeslehrteamschulung 1 in Oberwiesenthal (nur für LLT Mitglieder)
DESCRIPTION:Hier geht´s zur Ausschreibung
URL:https://www.bsv-ski.de/veranstaltung/zentrale-landeslehrteamschulung-1-in-oberwiesenthal-nur-fuer-llt-mitglieder/
LOCATION:Salzburg
CATEGORIES:Aus- und Fortbildung
END:VEVENT
BEGIN:VEVENT
DTSTART;VALUE=DATE:20180127
DTEND;VALUE=DATE:20180129
DTSTAMP:20260424T041744
CREATED:20180102T140118Z
LAST-MODIFIED:20180201T102708Z
UID:7340-1517011200-1517183999@www.bsv-ski.de
SUMMARY:Bayerische Meisterschaften Biathlon 2018 in Kaltenbrunn
DESCRIPTION:Ausschreibung Bayerische Meisterschaft Biathlon 2018 \nHier gibt´s die Ergebnisse als PDFs zum downloaden:\nErgebnisliste_Altersklassen \nErgebnisliste_Staffel \nPokal-Wertung \nPunkteliste_nach_Nettolaufzeit
URL:https://www.bsv-ski.de/veranstaltung/bayerische-meisterschaften-biathlon-2018/
LOCATION:Kaltenbrunn\, Kaltenbrunn
END:VEVENT
BEGIN:VEVENT
DTSTART;VALUE=DATE:20180127
DTEND;VALUE=DATE:20180129
DTSTAMP:20260424T041744
CREATED:20180220T115304Z
LAST-MODIFIED:20180220T115606Z
UID:8213-1517011200-1517183999@www.bsv-ski.de
SUMMARY:Ausschreibung und Ergebnisse zum Kids Cross Cup 2018
DESCRIPTION:Hier gibt’s die Ausschreibung als PDF zum Download: \nAusschreibung Kids Cross Cup \nDie Ergebnisse vom Kids Cross Cup als PDF zum Download: \n\nErgebnisliste 1\nErgebnisliste 2
URL:https://www.bsv-ski.de/veranstaltung/ausschreibung-und-ergebnisse-zum-kids-cross-cup-2018/
LOCATION:Salzburg
END:VEVENT
BEGIN:VEVENT
DTSTART;VALUE=DATE:20180127
DTEND;VALUE=DATE:20180130
DTSTAMP:20260424T041744
CREATED:20180118T141848Z
LAST-MODIFIED:20180118T144115Z
UID:7507-1517011200-1517270399@www.bsv-ski.de
SUMMARY:Ausschreibung Bayerische Meisterschaften 2018 Alpin Schüler ATA Oberjoch
DESCRIPTION:Hier gibt´s die Einladung und Ausschreibung als PDF zum Download
URL:https://www.bsv-ski.de/veranstaltung/ausschreibung-bayerische-meisterschaften-2018-alpin-schueler-ata-oberjoch/
LOCATION:Salzburg
END:VEVENT
END:VCALENDAR