BEGIN:VCALENDAR
VERSION:2.0
PRODID:-//Bayerischer Skiverband e.V. - ECPv6.15.20//NONSGML v1.0//EN
CALSCALE:GREGORIAN
METHOD:PUBLISH
X-ORIGINAL-URL:https://www.bsv-ski.de
X-WR-CALDESC:Veranstaltungen für Bayerischer Skiverband e.V.
REFRESH-INTERVAL;VALUE=DURATION:PT1H
X-Robots-Tag:noindex
X-PUBLISHED-TTL:PT1H
BEGIN:VTIMEZONE
TZID:Europe/Berlin
BEGIN:DAYLIGHT
TZOFFSETFROM:+0100
TZOFFSETTO:+0200
TZNAME:CEST
DTSTART:20160327T010000
END:DAYLIGHT
BEGIN:STANDARD
TZOFFSETFROM:+0200
TZOFFSETTO:+0100
TZNAME:CET
DTSTART:20161030T010000
END:STANDARD
BEGIN:DAYLIGHT
TZOFFSETFROM:+0100
TZOFFSETTO:+0200
TZNAME:CEST
DTSTART:20170326T010000
END:DAYLIGHT
BEGIN:STANDARD
TZOFFSETFROM:+0200
TZOFFSETTO:+0100
TZNAME:CET
DTSTART:20171029T010000
END:STANDARD
BEGIN:DAYLIGHT
TZOFFSETFROM:+0100
TZOFFSETTO:+0200
TZNAME:CEST
DTSTART:20180325T010000
END:DAYLIGHT
BEGIN:STANDARD
TZOFFSETFROM:+0200
TZOFFSETTO:+0100
TZNAME:CET
DTSTART:20181028T010000
END:STANDARD
BEGIN:DAYLIGHT
TZOFFSETFROM:+0100
TZOFFSETTO:+0200
TZNAME:CEST
DTSTART:20190331T010000
END:DAYLIGHT
BEGIN:STANDARD
TZOFFSETFROM:+0200
TZOFFSETTO:+0100
TZNAME:CET
DTSTART:20191027T010000
END:STANDARD
END:VTIMEZONE
BEGIN:VEVENT
DTSTART;VALUE=DATE:20171219
DTEND;VALUE=DATE:20180401
DTSTAMP:20260424T030036
CREATED:20171219T125324Z
LAST-MODIFIED:20180118T120043Z
UID:7241-1513641600-1522540799@www.bsv-ski.de
SUMMARY:Informationen und Ausschreibung für "DAS GRÜNE BAND"
DESCRIPTION:Ausschreibung_Das_Grüne_Band_2018_online \nErgänzende_Info_Bewerbung_gb_an_lsv \nBewerbung_Das_Grüne_Band_2018_ausfüllbar_01 \n 
URL:https://www.bsv-ski.de/veranstaltung/informationen-und-ausschreibung-fuer-das-gruene-band/
LOCATION:Salzburg
END:VEVENT
BEGIN:VEVENT
DTSTART;VALUE=DATE:20180202
DTEND;VALUE=DATE:20180205
DTSTAMP:20260424T030036
CREATED:20180124T095827Z
LAST-MODIFIED:20180124T095827Z
UID:7630-1517529600-1517788799@www.bsv-ski.de
SUMMARY:Ausschreibung Fördergruppentraining Methodik im Alpbachtal
DESCRIPTION:Hier geht´s zur Ausschreibung \nHier finden Sie das Anmeldeformular als PDF zum Download
URL:https://www.bsv-ski.de/veranstaltung/ausschreibung-foerdergruppentraining-methodik-im-alpbachtal/
LOCATION:Salzburg
CATEGORIES:Aus- und Fortbildung
END:VEVENT
BEGIN:VEVENT
DTSTART;VALUE=DATE:20180202
DTEND;VALUE=DATE:20180205
DTSTAMP:20260424T030036
CREATED:20180124T123612Z
LAST-MODIFIED:20180124T123612Z
UID:7636-1517529600-1517788799@www.bsv-ski.de
SUMMARY:Fortbildung DSV-Skilehrer: Verbesserung persönliches Fahrkönnen - Technik
DESCRIPTION:Hier geht´s zur Ausschreibung
URL:https://www.bsv-ski.de/veranstaltung/fortbildung-dsv-skilehrer-verbesserung-persoenliches-fahrkoennen-technik/
LOCATION:Salzburg
CATEGORIES:Aus- und Fortbildung
END:VEVENT
BEGIN:VEVENT
DTSTART;VALUE=DATE:20180202
DTEND;VALUE=DATE:20180205
DTSTAMP:20260424T030036
CREATED:20180124T123957Z
LAST-MODIFIED:20180124T124037Z
UID:7640-1517529600-1517788799@www.bsv-ski.de
SUMMARY:Vorbereitungslehrgang zum DSV-Skilehrer "Unterrichten leicht gemacht"
DESCRIPTION:Hier geht´s zur Ausschreibung
URL:https://www.bsv-ski.de/veranstaltung/vorbereitungslehrgang-zum-dsv-skilehrer-unterrichten-leicht-gemacht/
LOCATION:Salzburg
CATEGORIES:Aus- und Fortbildung
END:VEVENT
BEGIN:VEVENT
DTSTART;VALUE=DATE:20180203
DTEND;VALUE=DATE:20180204
DTSTAMP:20260424T030036
CREATED:20180208T124407Z
LAST-MODIFIED:20180208T124407Z
UID:7989-1517616000-1517702399@www.bsv-ski.de
SUMMARY:50. Mini-Tournee für Kinder in Reit im Winkl
DESCRIPTION:Die Ergebnisse der 50. Mini-Tournee als PDFs zum downloaden: \nErgebnisliste Mini SP \nErgebnisliste Mini NK
URL:https://www.bsv-ski.de/veranstaltung/50-mini-tournee-fuer-kinder-in-reit-im-winkl/
LOCATION:Salzburg
END:VEVENT
BEGIN:VEVENT
DTSTART;VALUE=DATE:20180203
DTEND;VALUE=DATE:20180205
DTSTAMP:20260424T030036
CREATED:20180109T104911Z
LAST-MODIFIED:20180118T115735Z
UID:7404-1517616000-1517788799@www.bsv-ski.de
SUMMARY:Ausschreibung Münchner Meisterschaft - Alpin (Deutschlandpokal mit Wertung Skiliga Bayern)
DESCRIPTION:Ausschreibung Skiliga Bayern und DP Sudelfeld 2018
URL:https://www.bsv-ski.de/veranstaltung/ausschreibung-muenchner-meisterschaft-alpin-deutschlandpokal-mit-wertung-skiliga-bayern/
LOCATION:Salzburg
END:VEVENT
BEGIN:VEVENT
DTSTART;VALUE=DATE:20180203
DTEND;VALUE=DATE:20180205
DTSTAMP:20260424T030036
CREATED:20180123T082735Z
LAST-MODIFIED:20180123T082735Z
UID:7563-1517616000-1517788799@www.bsv-ski.de
SUMMARY:Vorbereitungslehrgang zum DSV-Skilehrer "Gelände und Freeride" im Stubaital
DESCRIPTION:Hier geht´s zur Einladung und Ausschreibung
URL:https://www.bsv-ski.de/veranstaltung/vorbereitungslehrgang-zum-dsv-skilehrer-gelaende-und-freeride-im-stubaital/
LOCATION:Salzburg
CATEGORIES:Aus- und Fortbildung
END:VEVENT
BEGIN:VEVENT
DTSTART;VALUE=DATE:20180209
DTEND;VALUE=DATE:20180210
DTSTAMP:20260424T030036
CREATED:20171206T105600Z
LAST-MODIFIED:20180118T115717Z
UID:7136-1518134400-1518220799@www.bsv-ski.de
SUMMARY:Ausschreibung DSV Jugendcup Breitenberg/Rastbüchl
DESCRIPTION:Ausschreibung DP SSP 2018 II
URL:https://www.bsv-ski.de/veranstaltung/ausschreibung-dsv-jugendcup-breitenbergrastbuechl/
LOCATION:Salzburg
END:VEVENT
BEGIN:VEVENT
DTSTART;VALUE=DATE:20180209
DTEND;VALUE=DATE:20180212
DTSTAMP:20260424T030036
CREATED:20171219T132828Z
LAST-MODIFIED:20180208T131907Z
UID:7258-1518134400-1518393599@www.bsv-ski.de
SUMMARY:Einladung und Ausschreibung zum  6.DSV Jugendcup/Deutschlandpokal Biathlon 09.-11.Februar 2018
DESCRIPTION:Hier die Ausschreibung und der Zeitplan als PDF zum downloaden: \nAusschreibung \nZeitplan
URL:https://www.bsv-ski.de/veranstaltung/einladung-und-ausschreibung-zum-6-dsv-jugendcupdeutschlandpokal-biathlon-09-11-februar-2018/
LOCATION:Salzburg
END:VEVENT
BEGIN:VEVENT
DTSTART;VALUE=DATE:20180209
DTEND;VALUE=DATE:20180212
DTSTAMP:20260424T030036
CREATED:20171221T135102Z
LAST-MODIFIED:20180205T113848Z
UID:7280-1518134400-1518393599@www.bsv-ski.de
SUMMARY:Ausschreibung Bayerische Meisterschaft Skilanglauf
DESCRIPTION:Die offizielle Ausschreibung der Bayerische Meisterschaft Langlauf als PDF zum Download \nDie Meldeliste Grafenau BM 2018 LL
URL:https://www.bsv-ski.de/veranstaltung/ausschreibung-bayerische-meisterschaft-skilanglauf-hohenzollern/
LOCATION:Hohenzollern Skistadion\, Bayerisch Eisenstein\, 94252\, Deutschland
ORGANIZER;CN="Bayerischer Skiverband e.V.":MAILTO:info@bsv-ski.de
END:VEVENT
BEGIN:VEVENT
DTSTART;VALUE=DATE:20180209
DTEND;VALUE=DATE:20180212
DTSTAMP:20260424T030036
CREATED:20180208T125521Z
LAST-MODIFIED:20180214T093845Z
UID:7993-1518134400-1518393599@www.bsv-ski.de
SUMMARY:Ausschreibung DSV Jugendcup/Deutschlandpokal Nordische Kombination in Oberhof
DESCRIPTION:Hier die offizielle Ausschreibung und die Ergebnisse des Wochenendes als PDF zum downloaden: \n\nAusschreibung\nErgebnisse von Samstag (10.02.18)\nErgebnisse von Sonntag (11.02.18)\n\n 
URL:https://www.bsv-ski.de/veranstaltung/ausschreibung-dsv-jugendcupdeutschlandpokal-nordische-kombination-in-oberhof/
LOCATION:Salzburg
END:VEVENT
BEGIN:VEVENT
DTSTART;VALUE=DATE:20180215
DTEND;VALUE=DATE:20180219
DTSTAMP:20260424T030036
CREATED:20180124T095407Z
LAST-MODIFIED:20180221T102816Z
UID:7627-1518652800-1518998399@www.bsv-ski.de
SUMMARY:Ausschreibung zum 3. DSV JOKA Schülercup Biathlon in Luisenthal/Oberhof
DESCRIPTION:Hier geht´s zur Einladung und Ausschreibung \n  \nDie Ergebnislisten vom Wochenende: \nErgebnisliste Techniksprint \nPokal-Wertung nach Techniksprint \nErgebnisliste alle Staffeln \nErgebnisliste mit Kategorien ohne Wertung \nRundenzeiten \nPokal-Wertung AK13
URL:https://www.bsv-ski.de/veranstaltung/ausschreibung-zum-3-dsv-joka-schuelercup-biathlon-in-luisenthaloberhof/
LOCATION:Salzburg
END:VEVENT
BEGIN:VEVENT
DTSTART;VALUE=DATE:20180215
DTEND;VALUE=DATE:20180219
DTSTAMP:20260424T030036
CREATED:20180214T094753Z
LAST-MODIFIED:20180214T094753Z
UID:8101-1518652800-1518998399@www.bsv-ski.de
SUMMARY:Einladung zum Alpencup Baiersbronn vom 15. bis 18.02.2018
DESCRIPTION:Hier gibt´s die offizielle Einladung für den Alpencup Baiersbronn als PDF zum Download
URL:https://www.bsv-ski.de/veranstaltung/einladung-zum-alpencup-baiersbronn-vom-15-bis-18-02-2018/
LOCATION:Salzburg
END:VEVENT
BEGIN:VEVENT
DTSTART;VALUE=DATE:20180216
DTEND;VALUE=DATE:20180219
DTSTAMP:20260424T030036
CREATED:20171201T084442Z
LAST-MODIFIED:20180118T104628Z
UID:7118-1518739200-1518998399@www.bsv-ski.de
SUMMARY:Ausschreibung zum DSV Milka Schülercup SSP u. NK in Johanngeorgenstadt
DESCRIPTION:Ausschreibung DSV Milka SC 2018 NK u. SSP
URL:https://www.bsv-ski.de/veranstaltung/ausschreibung-zum-dsv-milka-schuelercup-ssp-u-nk-in-johanngeorgenstadt/
LOCATION:Salzburg
END:VEVENT
BEGIN:VEVENT
DTSTART;VALUE=DATE:20180217
DTEND;VALUE=DATE:20180218
DTSTAMP:20260424T030036
CREATED:20180208T143501Z
LAST-MODIFIED:20180208T143501Z
UID:8020-1518825600-1518911999@www.bsv-ski.de
SUMMARY:Ausschreibung SiLi-Pokal-Langlauf in Warmensteinach
DESCRIPTION:Hier geht´s zur offiziellen Ausschreibung
URL:https://www.bsv-ski.de/veranstaltung/ausschreibung-sili-pokal-langlauf-in-warmensteinach/
LOCATION:Salzburg
END:VEVENT
BEGIN:VEVENT
DTSTART;VALUE=DATE:20180217
DTEND;VALUE=DATE:20180219
DTSTAMP:20260424T030036
CREATED:20171211T100901Z
LAST-MODIFIED:20180118T104557Z
UID:7173-1518825600-1518998399@www.bsv-ski.de
SUMMARY:Europacup der Damen - Nachtslalom in Bad Wiessee
DESCRIPTION:Programm: \nSamstag\, 17. Februar \nab 15 Uhr:\nEuropacup-Rennen\nKommentatoren: Bernhard Fleischmann (von Bayern 3) und Andreas Erlacher \nZwischen den Durchgängen:\nSlopestyle Base Team Oberland\npräsentiert Freeskiing am Kicker \nBernhard-Fleischmann-Party\nmit Bernhard Fleischmann von Bayern 3 \nab 19 Uhr:\nSiegerehrung\nNudelparty\noder Einkehrschwung in der Sonnenbichl-Ski-Hütt`n \nSonntag\, 18. Februar \nab 15 Uhr:\nEuropacup-Rennen\nim Anschluss Siegerehrung \nDie Europacup-Broschüre als PDF zum Download \nDas komplette Rahmenprogramm als PDF zum Download
URL:https://www.bsv-ski.de/veranstaltung/europacup-der-damen-nachtslalom-in-bad-wiessee/
LOCATION:Audi Skizentrum Sonnenbichl\, Sonnenbichlweg 2\, Bad Wiessee\, 83707\, Deutschland
ATTACH;FMTTYPE=image/png:https://www.bsv-ski.de/wp-content/uploads/2017/12/ec_sonnenbichl_2018-e1516191871744.png
END:VEVENT
BEGIN:VEVENT
DTSTART;VALUE=DATE:20180217
DTEND;VALUE=DATE:20180219
DTSTAMP:20260424T030036
CREATED:20180117T102501Z
LAST-MODIFIED:20180118T104537Z
UID:7470-1518825600-1518998399@www.bsv-ski.de
SUMMARY:Bayerische Seniorenmeisterschaft im Skilanglauf 2018
DESCRIPTION:Ausschreibung Bayerische Seniorenmeisterschaft Langlauf 2018
URL:https://www.bsv-ski.de/veranstaltung/bayerische-seniorenmeisterschaft-im-skilanglauf-2018/
LOCATION:Warmensteinach\, Warmensteinach
END:VEVENT
BEGIN:VEVENT
DTSTART;VALUE=DATE:20180217
DTEND;VALUE=DATE:20180219
DTSTAMP:20260424T030036
CREATED:20180208T143207Z
LAST-MODIFIED:20180208T143207Z
UID:8017-1518825600-1518998399@www.bsv-ski.de
SUMMARY:Ausschreibung Bayerische Seniorenmeisterschaften Langlauf in Warmensteinach
DESCRIPTION:Hier geht´s zur offiziellen Ausschreibung
URL:https://www.bsv-ski.de/veranstaltung/ausschreibung-bayerische-seniorenmeisterschaften-langlauf-in-warmensteinach/
LOCATION:Salzburg
END:VEVENT
BEGIN:VEVENT
DTSTART;VALUE=DATE:20180217
DTEND;VALUE=DATE:20180223
DTSTAMP:20260424T030036
CREATED:20180201T143707Z
LAST-MODIFIED:20180201T143707Z
UID:7868-1518825600-1519343999@www.bsv-ski.de
SUMMARY:Ausschreibung Lawinen-/Risikomanagementlehrgang 2 im Stubaital
DESCRIPTION:Hier geht´s zur Ausschreibung
URL:https://www.bsv-ski.de/veranstaltung/ausschreibung-lawinen-risikomanagementlehrgang-2-im-stubaital/
LOCATION:Salzburg
CATEGORIES:Aus- und Fortbildung
END:VEVENT
BEGIN:VEVENT
DTSTART;VALUE=DATE:20180217
DTEND;VALUE=DATE:20180225
DTSTAMP:20260424T030036
CREATED:20180207T083959Z
LAST-MODIFIED:20180207T083959Z
UID:7944-1518825600-1519516799@www.bsv-ski.de
SUMMARY:Ausschreibung Schneelehrgang 1: DSV Snowboardlehrer in Grasgehren
DESCRIPTION:Hier geht´s zur Ausschreibung und zum vorläufigen Programm
URL:https://www.bsv-ski.de/veranstaltung/ausschreibung-schneelehrgang-1-dsv-snowboardlehrer-in-grasgehren/
LOCATION:Salzburg
CATEGORIES:Aus- und Fortbildung
END:VEVENT
BEGIN:VEVENT
DTSTART;VALUE=DATE:20180218
DTEND;VALUE=DATE:20180219
DTSTAMP:20260424T030036
CREATED:20180214T101740Z
LAST-MODIFIED:20180214T101740Z
UID:8106-1518912000-1518998399@www.bsv-ski.de
SUMMARY:Zwergerlrennen am Sonntag\, 18. Februar in Ostin am Ödberg (Tegernsee)
DESCRIPTION:Auf geht´s durch den Stangenwald für die kleinen Skistars von morgen \n  \nAm Sonntag\, den 18. Februar 2017 lädt der Wintersportverein München e.V. alle skibegeisterten Kinder zum traditionellen Zwergerlrennen ein. Teilnahmeberechtigt sind alle Kinder der Jahrgänge 2009 und jünger\, die einen spannenden und leicht zu fahrenden Riesentorlauf erleben möchten. Das Rennen findet in Ostin am Ödberg statt. Start ist um 14.30 Uhr. Helme sind Pflicht! \nAnmeldungen sind noch möglich – E-Mail an T.Bangerter@wsv-muenchen.de unter Angabe von Name\, Jahrgang\, Adresse\, Telefonnummer und Email. Die Startgebühr beträgt 10€. Am Renntag kann bis 30 Minuten vor Startbeginn beim Veranstalter in der Ödbergalm nachgemeldet werden.  \nFür alle Teilnehmer gibt es Urkunden\, für die drei Bestplatzierten einer Altersklasse Pokale\, ab Platz 4 Medaillen. Die Startnummern können am Sonntag ab 12.30 in der Ödbergalm abgeholt werden.  \nWeitere Informationen zum Zwergerlrennen unter www.wintersportverein-muenchen.de \nHier gibt´s die offizielle Ausschreibung für das Zwergerlrennen als PDF zum Download.
URL:https://www.bsv-ski.de/veranstaltung/zwergerlrennen-am-sonntag-18-februar-in-ostin-am-oedberg-tegernsee/
LOCATION:Salzburg
ATTACH;FMTTYPE=image/jpeg:https://www.bsv-ski.de/wp-content/uploads/2018/02/k-ZWERG01.jpg
END:VEVENT
BEGIN:VEVENT
DTSTART;VALUE=DATE:20180220
DTEND;VALUE=DATE:20180226
DTSTAMP:20260424T030036
CREATED:20180208T140514Z
LAST-MODIFIED:20180208T140514Z
UID:8005-1519084800-1519603199@www.bsv-ski.de
SUMMARY:Weiterbildung zum DSV-Freeride-Guide 2 in Fieberbrunn
DESCRIPTION:Nachfolgend die offizielle Ausschreibung\, das vorläufige Programm und eine Materialliste für die Teilnehmer jeweils als PDF zum Download: \nAusschreibung \nProgramm \nMaterialliste \n 
URL:https://www.bsv-ski.de/veranstaltung/weiterbildung-zum-dsv-freeride-guide-2-in-fieberbrunn/
LOCATION:Salzburg
CATEGORIES:Aus- und Fortbildung
END:VEVENT
BEGIN:VEVENT
DTSTART;VALUE=DATE:20180222
DTEND;VALUE=DATE:20180223
DTSTAMP:20260424T030036
CREATED:20180109T115800Z
LAST-MODIFIED:20180118T104516Z
UID:7419-1519257600-1519343999@www.bsv-ski.de
SUMMARY:Ausschreibung zum regionalen Schulwettbewerb Snowboard in Bayern 2018
DESCRIPTION:Ausschreibung Snowboard Schulsportwettbewerb
URL:https://www.bsv-ski.de/veranstaltung/ausschreibung-schulsportwettbewerb-snowboard-in-sudelfeld/
LOCATION:Salzburg
END:VEVENT
BEGIN:VEVENT
DTSTART;VALUE=DATE:20180222
DTEND;VALUE=DATE:20180225
DTSTAMP:20260424T030036
CREATED:20180208T115537Z
LAST-MODIFIED:20180208T115537Z
UID:7973-1519257600-1519516799@www.bsv-ski.de
SUMMARY:Ausschreibung zum Nachprüfungslehrgang DSV Snowboardlehrer in Grasgehren
DESCRIPTION:Hier geht´s zur Ausschreibung des Nachprüfungslehrgangs
URL:https://www.bsv-ski.de/veranstaltung/ausschreibung-zum-nachpruefungslehrgang-dsv-snowboardlehrer-in-grasgehren/
LOCATION:Salzburg
CATEGORIES:Aus- und Fortbildung
END:VEVENT
BEGIN:VEVENT
DTSTART;VALUE=DATE:20180223
DTEND;VALUE=DATE:20180226
DTSTAMP:20260424T030036
CREATED:20170531T080222Z
LAST-MODIFIED:20180118T104451Z
UID:4961-1519344000-1519603199@www.bsv-ski.de
SUMMARY:Deutsche Jugendmeisterschaft/Deutschlandpokal FIS Langlauf
DESCRIPTION:
URL:https://www.bsv-ski.de/veranstaltung/deutsche-jugendmeisterschaftdeutschlandpokal-fis/
LOCATION:Oberstdorf\, Oberstdorf\, 87561\, Deutschland
END:VEVENT
BEGIN:VEVENT
DTSTART;VALUE=DATE:20180223
DTEND;VALUE=DATE:20180226
DTSTAMP:20260424T030036
CREATED:20171123T090826Z
LAST-MODIFIED:20180118T104419Z
UID:6948-1519344000-1519603199@www.bsv-ski.de
SUMMARY:Ausschreibung zur Offenen Bayerischen Ski- und Tennismeisterschaft 2018
DESCRIPTION:Auch dieses Jahr veranstaltet der Bayerische Tennis-Verband wieder gemeinsam mit dem Ski-Club Passau und dem Tennsiclub Hutthurm die „Bayerischen Ski- und Tennismeisterschaften“. Unterstützt werden sie dabei auch vom Bayerischen Skiverband.\nBei den Rennen am Kißlinger-Hang messen sich Damen und Herren verschiedener Altersklassen sowohl im Riesenslalom als auch abseits der Piste im Tennis-Einzel. Bei den Tennisspielen können auch LK Punkte gesammelt werden. Das Event geht jeweils von Freitag bis Sonntag und ist bei den Teilnehmern allseits sehr beliebt. Ein besonderer Dank gilt wie immer den Organisatoren aus den Vereinen Ski-Club Passau und Tennsiclub Hutthurm\, die von den Kooperationspartnern DJK TC Büchlberg\, DJK TC Passau-Grubweg\, TC Rot-Weiß Passau\, TSV Obernzell/Tennis\, dem Skiverband Bayerwald und dem WSV Mitterfirmiansreut unterstützt werden.\n\n\n\n\n\n\n\n\n\n\nDie Teilnehmer schätzen seit Jahren die professionelle Organisation und familiäre Stimmung bei diesen Bayerischen Meisterschaften:\n\n\n\n„Ihr habt durch Euer Engagement und Eure warmherzige Freundlichkeit den Ski – und Tennismeisterschaften zu einer neuen Wertigkeit verholfen.“ \n\n\n„Die Veranstaltung war rundherum gelungen und hervorragend organisiert.“\n\n\n„Die Veranstaltung wurde von Euch hervorragend gemanagt und auch dem Ski Club Passau gilt ein großes Kompliment. Endlich mal wieder ein Skirennen\, dass von Profis organisiert wurde.“\n\n\n„Vielen Dank nochmals für die perfekte Organisation und die familiäre Stimmung\, die ihr ermöglicht habt.“\n\n\n„Vielen Dank für die super Organisation\, liebevolle Durchführung und sehr persönliche Betreuung in den tollen 3 Tagen\, die wir mit euch verbringen durften.“\n\n\n\n\n\n\n  \nMöchten auch Sie im Februar mit am Start sein? Dann melden Sie sich gleich online an! Anmeldeschluss ist der 09.02.2018: www.tc-hutthurm.de\n\n\nTeilnahmeberechtigt sind alle Spielerinnen und Spieler\, welche die entsprechenden Altersvoraussetzungen erfüllen\, Mitglied in einem dem DTB angeschlossenen Vereine sind sowie eine gültige Spiellizenz\, eine ID-Nummer und Leistungsklasse für einen Verein 2018 besitzen. Ferner dürfen alle Personen teilnehmen\, die erst ab 2018 eine gültige Spiellizenz haben werden\, wenn sie eine diesbezügliche Bescheinigung des neuen Vereins vorlegen können. Die Altersklasse muss im Kalenderjahr 2018 erreicht werden.\n\n\n\nDie Ausschreibung zur Offenen Bayerischen Ski – und Tennis – Meisterschaft 2018 als PDF zum Download \nHier der Link zur Anmeldung
URL:https://www.bsv-ski.de/veranstaltung/ausschreibung-zur-offenen-bayerischen-ski-und-tennismeisterschaft-2018/
LOCATION:Salzburg
END:VEVENT
BEGIN:VEVENT
DTSTART;VALUE=DATE:20180223
DTEND;VALUE=DATE:20180226
DTSTAMP:20260424T030036
CREATED:20180212T121014Z
LAST-MODIFIED:20180212T121014Z
UID:8076-1519344000-1519603199@www.bsv-ski.de
SUMMARY:Ausschreibung für die Fortbildung DSV-Skilehrer: Verbesserung persönliches Fahrkönnen - Technik (A-FB-SL-5) am Feldberg
DESCRIPTION:Hier gehts zur offiziellen Ausschreibung als PDF zum Download: \nAusschreibung: Ausschreibung FB DSV-Skilehrer_A-FB-SL-5
URL:https://www.bsv-ski.de/veranstaltung/ausschreibung-fuer-die-fortbildung-dsv-skilehrer-verbesserung-persoenliches-fahrkoennen-technik-a-fb-sl-5-am-feldberg/
LOCATION:Salzburg
CATEGORIES:Aus- und Fortbildung
END:VEVENT
BEGIN:VEVENT
DTSTART;VALUE=DATE:20180224
DTEND;VALUE=DATE:20180225
DTSTAMP:20260424T030036
CREATED:20180102T140008Z
LAST-MODIFIED:20180118T104400Z
UID:7344-1519430400-1519516799@www.bsv-ski.de
SUMMARY:Meister Nordic Cup 2018 Mitterteich
DESCRIPTION:Ausschreibung Meister Nordic Cup 2018 Mitterteich
URL:https://www.bsv-ski.de/veranstaltung/meister-nordic-cup-2018-mitterteich/
LOCATION:Mitterteich\, Mitterteich
END:VEVENT
BEGIN:VEVENT
DTSTART;VALUE=DATE:20180224
DTEND;VALUE=DATE:20180226
DTSTAMP:20260424T030036
CREATED:20180104T134546Z
LAST-MODIFIED:20180118T104252Z
UID:7391-1519430400-1519603199@www.bsv-ski.de
SUMMARY:Ausschreibung Deutsche Seniorenmeisterschaften Skilanglauf in Johanngeorgenstadt
DESCRIPTION:Einladung_und_Ausschreibung_DM_LL_Senioren_2018
URL:https://www.bsv-ski.de/veranstaltung/ausschreibung-deutsche-seniorenmeisterschaften-skilanglauf-in-johanngeorgenstadt/
LOCATION:Salzburg
END:VEVENT
BEGIN:VEVENT
DTSTART;VALUE=DATE:20180224
DTEND;VALUE=DATE:20180226
DTSTAMP:20260424T030036
CREATED:20180122T102031Z
LAST-MODIFIED:20180227T074309Z
UID:7530-1519430400-1519603199@www.bsv-ski.de
SUMMARY:Ausschreibung Bayerischer Schülercup 2017/18 SSP/NK in Rastbüchl
DESCRIPTION:Hier geht´s zur Ausschreibung 2018 \nHier gibt’s die Ergebnisse vom Wettkampf: \nErgebnisse Bayerncup SSP_NK in Rastbüchl
URL:https://www.bsv-ski.de/veranstaltung/ausschreibung-bayerischer-schuelercup-201718-sspnk-in-rastbuechl/
LOCATION:Salzburg
END:VEVENT
END:VCALENDAR