BEGIN:VCALENDAR
VERSION:2.0
PRODID:-//Bayerischer Skiverband e.V. - ECPv6.15.20//NONSGML v1.0//EN
CALSCALE:GREGORIAN
METHOD:PUBLISH
X-ORIGINAL-URL:https://www.bsv-ski.de
X-WR-CALDESC:Veranstaltungen für Bayerischer Skiverband e.V.
REFRESH-INTERVAL;VALUE=DURATION:PT1H
X-Robots-Tag:noindex
X-PUBLISHED-TTL:PT1H
BEGIN:VTIMEZONE
TZID:Europe/Berlin
BEGIN:DAYLIGHT
TZOFFSETFROM:+0100
TZOFFSETTO:+0200
TZNAME:CEST
DTSTART:20170326T010000
END:DAYLIGHT
BEGIN:STANDARD
TZOFFSETFROM:+0200
TZOFFSETTO:+0100
TZNAME:CET
DTSTART:20171029T010000
END:STANDARD
BEGIN:DAYLIGHT
TZOFFSETFROM:+0100
TZOFFSETTO:+0200
TZNAME:CEST
DTSTART:20180325T010000
END:DAYLIGHT
BEGIN:STANDARD
TZOFFSETFROM:+0200
TZOFFSETTO:+0100
TZNAME:CET
DTSTART:20181028T010000
END:STANDARD
BEGIN:DAYLIGHT
TZOFFSETFROM:+0100
TZOFFSETTO:+0200
TZNAME:CEST
DTSTART:20190331T010000
END:DAYLIGHT
BEGIN:STANDARD
TZOFFSETFROM:+0200
TZOFFSETTO:+0100
TZNAME:CET
DTSTART:20191027T010000
END:STANDARD
END:VTIMEZONE
BEGIN:VEVENT
DTSTART;VALUE=DATE:20180403
DTEND;VALUE=DATE:20180408
DTSTAMP:20260424T000134
CREATED:20180215T084841Z
LAST-MODIFIED:20180514T111537Z
UID:8145-1522713600-1523145599@www.bsv-ski.de
SUMMARY:ArGe Renn- und Trainingscamp in Kaprun
DESCRIPTION:Hier gibt’s die offizielle Einladung als PDF zum Download: \n\nEinladung_ArGe Renn- und Trainingscamp\n\nHier geht’s zur verbindlichen Anmeldung: \n\nAnmeldung
URL:https://www.bsv-ski.de/veranstaltung/einladung-zum-arge-renn-und-trainingscamp-in-kaprun/
LOCATION:Salzburg
END:VEVENT
BEGIN:VEVENT
DTSTART;VALUE=DATE:20180420
DTEND;VALUE=DATE:20180423
DTSTAMP:20260424T000134
CREATED:20180215T114900Z
LAST-MODIFIED:20180514T111355Z
UID:8149-1524182400-1524441599@www.bsv-ski.de
SUMMARY:Ski-Golf-Masters 2018 presented by AUDI
DESCRIPTION:Vom 20.-22.04.2018 findet die 6. Auflage der Ski-Golf-Masters presented by AUDI in Garmisch-Partenkirchen statt. Der Bayerische Skiverband und der Bayerische Golfverband laden Sie recht herzlich zu diesem abwechslungsreichen Wettbewerb ein. Mit von der Partie ist auch wieder Kitzbühel-Sieger Thomas Dressen. \nDass Skifahren und Golfen gut zusammenpassen\, hat Thomas Dressen bereits im vergangenen Jahr bei der 5. Auflage der Ski-Golf-Masters presented by AUDI unter Beweis gestellt. Der Hobbygolfer schwang gekonnt den Schläger und auf der Piste macht Thomas Dressen ohnehin eine gute Figur. So freuen wir uns\, dass sich der Sieger des Hahnenkammrennens für die diesjährige Ausgabe der Ski-Golf-Masters presented by AUDI angekündigt hat. Los geht es am Freitag mit dem traditionellen Stehempfang und einem Bayerischem Buffet im Sporthotel Dorint am Abend. \nDer Riesenslalom auf der Zugspitze am darauffolgenden Tag ist dann zwar etwas weniger anspruchsvoll als die legändere Streif\, dennoch werden die Sportler dort beste Bedingungen für ein spannendes Rennen vorfinden. Hinauf geht es mit der spektakulären neuen Gondel der Bayerischen Zugspitzbahn. Oben angekommen wartet ein fair gesteckter Parcours\, der für alle Teilnehmer gut zu bewältigen ist. \nDas Golfturnier findet wieder auf dem Golfplatz in Oberau statt. Wir freuen uns auf den bestens gepflegten Golfplatz und die große Gastfreudschaft vom Golfclub Garmisch-Partenkirchen. \nLassen wir uns überraschen\, ob die amtierenden Bayerischen Meister Isabelle Lang (GC Hellergerst)\, Michael Öttl (GC Valley) und das Team „Klug-Conversation“ ihren Titel verteidigen können. \nDie Ausschreibung und Anmeldung unter findet ihr unter: www.ski-golf-masters.de \n  \nHier noch weitere Infos im Überblick: \n  \nSkigebiet und Golfplatz \nSkigebiet: GAP / Zugspitze \nGolfclub: GC Garmisch‐Partenkirchen\, Gut Buchwies\, 82496 Oberau \n  \nTerminplan ‐ Programm \nFreitag\, 20.04.2018 \nEinspielrunde im GC Garmisch‐Partenkirchen\, bitte Startzeit reservieren oder Skifahren \n19:30 Uhr: gemütlicher Bayerischer Abend im Dorint Sporthotel mit Startnummern‐Auslosung Samstag\, 21.04.2018 \n07:30 Uhr: Startnummer‐Ausgabe Talstation neue Gondelbahn \n08:15 Uhr: Aufahrt mit der neue Gondelbahn \n10:30 Uhr: Start Riesenslalom 1. Durchgang\, anschl. Start Riesenslalom 2. Durchgang \n  \nSonntag\, 22.04.2018 \n09:30 Uhr: Beginn Golf‐Wettspiel über 18 Loch an Tee 1 / Tee 10 \n16:30 Uhr: Siegerehrung \n  \nMeldegebühr \nIn der Meldegebühr sind beinhaltet: \n\nTeilnahmegebühr für das 6. Ski‐Golf‐Masters 2018\nHalfway‐Verpflegung und Welcome Back beim Golf‐Wettspiel\nBayerisches Buffet beim Bayerischen Abend im Dorint Sporthotel (Begleitperson zzgl. 30€)\n\nJugend 100\,00€ \nErwachsene 160\,00€ \nLiftkarten: \nLiftkarten können bei der Anmeldung zum Preis von 34\,50‐ EUR für Erwachsene und 23\,50€ für Jugendliche\, zzgl. 2\,‐ EUR Pfand mitgebucht werden. Diese werden dann am Samstag an der Talstation Zugspitzbahn Bahnhof Eibsee ausgegeben. \nÜbernachtungen: \nIm Dorint Sporthotel Garmisch‐Partenkirchen können unter dem Stichwort „SkiGolf“ vergünstigte Einzel‐ und Doppelzimmer zur Verfügung. Bei Bedarf bitte Kontakt und Buchung über das Sporthotel
URL:https://www.bsv-ski.de/veranstaltung/jetzt-anmelden-und-sich-einen-startplatz-fuer-die-ski-golf-masters-2018-presented-by-audi-sichern/
LOCATION:Salzburg
ATTACH;FMTTYPE=image/jpeg:https://www.bsv-ski.de/wp-content/uploads/2018/02/k-Ski_Golf-Masters-2018.jpg
END:VEVENT
END:VCALENDAR