BEGIN:VCALENDAR
VERSION:2.0
PRODID:-//Bayerischer Skiverband e.V. - ECPv6.15.20//NONSGML v1.0//EN
CALSCALE:GREGORIAN
METHOD:PUBLISH
X-WR-CALNAME:Bayerischer Skiverband e.V.
X-ORIGINAL-URL:https://www.bsv-ski.de
X-WR-CALDESC:Veranstaltungen für Bayerischer Skiverband e.V.
REFRESH-INTERVAL;VALUE=DURATION:PT1H
X-Robots-Tag:noindex
X-PUBLISHED-TTL:PT1H
BEGIN:VTIMEZONE
TZID:Europe/Berlin
BEGIN:DAYLIGHT
TZOFFSETFROM:+0100
TZOFFSETTO:+0200
TZNAME:CEST
DTSTART:20170326T010000
END:DAYLIGHT
BEGIN:STANDARD
TZOFFSETFROM:+0200
TZOFFSETTO:+0100
TZNAME:CET
DTSTART:20171029T010000
END:STANDARD
BEGIN:DAYLIGHT
TZOFFSETFROM:+0100
TZOFFSETTO:+0200
TZNAME:CEST
DTSTART:20180325T010000
END:DAYLIGHT
BEGIN:STANDARD
TZOFFSETFROM:+0200
TZOFFSETTO:+0100
TZNAME:CET
DTSTART:20181028T010000
END:STANDARD
BEGIN:DAYLIGHT
TZOFFSETFROM:+0100
TZOFFSETTO:+0200
TZNAME:CEST
DTSTART:20190331T010000
END:DAYLIGHT
BEGIN:STANDARD
TZOFFSETFROM:+0200
TZOFFSETTO:+0100
TZNAME:CET
DTSTART:20191027T010000
END:STANDARD
END:VTIMEZONE
BEGIN:VEVENT
DTSTART;VALUE=DATE:20180531
DTEND;VALUE=DATE:20180602
DTSTAMP:20260423T205230
CREATED:20180507T110931Z
LAST-MODIFIED:20180622T080733Z
UID:9136-1527724800-1527897599@www.bsv-ski.de
SUMMARY:Trainingscamp Ski-Inline in Nagold
DESCRIPTION:Hier die offizielle Einladung zum Trainingscamp: \nTrainingscamp Nagold 2018
URL:https://www.bsv-ski.de/veranstaltung/einladung-zum-trainingscamp-ski-inline-in-nagold/
LOCATION:Salzburg
END:VEVENT
BEGIN:VEVENT
DTSTART;VALUE=DATE:20180610
DTEND;VALUE=DATE:20180611
DTSTAMP:20260423T205230
CREATED:20180312T102848Z
LAST-MODIFIED:20180514T111436Z
UID:8674-1528588800-1528675199@www.bsv-ski.de
SUMMARY:14. Nordic-Walking-Gipfel in Breitnau
DESCRIPTION:Wir freuen uns euch hiermit ganz herzlich zu unserem 14. Nordic-Walking-Gipfel am 10. Juni 2018 einladen zu dürfen! \nZur Anmeldung und weiteren Infos geht’s hier lang: http://sz-breitnau.de/nordicwalking \nAuf der Homepage könnt ihr euch die neuen Strecken schonmal genau anschauen. \n  \nFür den Saisonstart wünschen wir euch optimales Trainingswetter und hoffen auf ein Wiedersehen im Juni zum Nordic-Walking-Gipfel 2018 in Breitnau!
URL:https://www.bsv-ski.de/veranstaltung/einladung-zum-14-nordic-walking-gipfel-am-10-juni-2018-in-breitnau/
LOCATION:Salzburg
END:VEVENT
BEGIN:VEVENT
DTSTART;VALUE=DATE:20180614
DTEND;VALUE=DATE:20180618
DTSTAMP:20260423T205230
CREATED:20180516T080220Z
LAST-MODIFIED:20180516T080220Z
UID:9219-1528934400-1529279999@www.bsv-ski.de
SUMMARY:Einladung zum DSV Skisprung Mädchencamp in Oberstdorf
DESCRIPTION:Hier die offizielle Einladung zum DSV Skisprung Mädchencamp: \nEinladung DSV Mädchencamp
URL:https://www.bsv-ski.de/veranstaltung/einladung-zum-dsv-skisprung-maedchencamp-in-oberstdorf/
LOCATION:Salzburg
END:VEVENT
BEGIN:VEVENT
DTSTART;VALUE=DATE:20180616
DTEND;VALUE=DATE:20180617
DTSTAMP:20260423T205230
CREATED:20180523T063025Z
LAST-MODIFIED:20180523T073639Z
UID:9294-1529107200-1529193599@www.bsv-ski.de
SUMMARY:5. Messerpokallauf des WSV 1907 Steinbach
DESCRIPTION:Ausschreibung 5. Messerpokallauf 2018 \nAusschreibung Juniorcross des 5. Messerpokallaufs 2018
URL:https://www.bsv-ski.de/veranstaltung/5-messerpokallauf-des-wsv-1907-steinbach/
LOCATION:Steinbach\, Steinbach\, 36448
END:VEVENT
BEGIN:VEVENT
DTSTART;VALUE=DATE:20180623
DTEND;VALUE=DATE:20180624
DTSTAMP:20260423T205230
CREATED:20180611T062534Z
LAST-MODIFIED:20180611T062810Z
UID:9419-1529712000-1529798399@www.bsv-ski.de
SUMMARY:Internationales Sommerskispringen K64 in Berchtesgaden
DESCRIPTION:Ausschreibung Internationales Sommerskispringen K64 Berchtesgaden
URL:https://www.bsv-ski.de/veranstaltung/internationales-sommerskispringen-k64-in-berchtesgaden/
LOCATION:Berchtesgaden\, Berchtesgaden\, 83484\, Deutschland
END:VEVENT
BEGIN:VEVENT
DTSTART;VALUE=DATE:20180624
DTEND;VALUE=DATE:20180625
DTSTAMP:20260423T205230
CREATED:20180606T132134Z
LAST-MODIFIED:20180606T132134Z
UID:9398-1529798400-1529884799@www.bsv-ski.de
SUMMARY:Pokalskispringen auf drei Schanzen am Sonntag\, 24. Juni 2018 in Bischofsgrün
DESCRIPTION:Mitten in der Sommersaison findet das Pokalskipsringen des Ski-Club Bischofsgrün auf den drei Ochsenkopfschanzen statt (Normen = Hillsize 17\, 34  und 71 Meter). \nBeginn zum Pokalspringen ist am Sonntag\, 24. Juni 2018 um 13:30 Uhr auf der kleinen Anlage für Anfänger bis zu elf Jahren. Der Anschluss erfolgt auf der mittleren Schanze bis 14 Jahre und um 14 Uhr ist der Start ab 14 Jahre für Qualifizierte auf der großen Anlage\, jeweils für beide Geschlechter vorgesehen. \nDer Schanzenrekord liegt auf der großen Schanze bei 73\,5 Metern\, auf der mittleren bei 33 und auf der kleinen Anlage bei 18 Metern. \nDer Ski-Club Bischofsgrün erwartet für die kleine Anlage rund 15\, für die mittlere ca.10 und für die große ca.40 Springerinnen und Springer. \nDie Athleten kommen in erster Linie aus der Region und aus den benachbarten Bundesländern Thüringen\, Sachsen-Anhalt und Sachsen\, wo sich ja Hochburgen des nordischen Skisports befinden. \nInteressant wird sein\, wie intensiv die jeweiligen Sportler die Trainingsmöglichkeiten genutzt und sich in Form gebracht haben. Meldeschluss ist am Donnerstag\, 21. Juli 2018. \nDie besten Bischofsgrüner Isabell Kandziora (15) und Felix Neidhardt (16) zeigen momentan gute Leistungen. Und mit Jeanine Drechsel (23) aus Geroldsgrün hat der SC  Bischofsgrün mittlerweile nicht nur eine leistungsstarke sondern auch sympathische Skispringerin in seinen Reihen. Dazu kommt noch\, dass sie mit dem jüngsten Nachwuchs gerne trainiert und diesen das Skispringen engagiert lehrt. \nDer Ski-Club steht nach wie vor mit einer bewährten Helferschar bereit um hervorragende Wettbewerbe auf die Beine zu stellen.
URL:https://www.bsv-ski.de/veranstaltung/pokalskispringen-auf-drei-schanzen-am-sonntag-24-juni-2018-in-bischofsgruen/
LOCATION:Salzburg
END:VEVENT
BEGIN:VEVENT
DTSTART;VALUE=DATE:20180629
DTEND;VALUE=DATE:20180702
DTSTAMP:20260423T205230
CREATED:20180618T064831Z
LAST-MODIFIED:20180618T064831Z
UID:9472-1530230400-1530489599@www.bsv-ski.de
SUMMARY:BSV Mädchencamp Skisprung 2018
DESCRIPTION:Einladung zum BSV Mädchencamp Skisprung 2018
URL:https://www.bsv-ski.de/veranstaltung/bsv-maedchencamp-skisprung-2018/
LOCATION:Oberstdorf\, Oberstdorf\, 87561\, Deutschland
ORGANIZER;CN="Bayerischer Skiverband e.V.":MAILTO:info@bsv-ski.de
END:VEVENT
BEGIN:VEVENT
DTSTART;VALUE=DATE:20180630
DTEND;VALUE=DATE:20180701
DTSTAMP:20260423T205230
CREATED:20180618T070041Z
LAST-MODIFIED:20180622T080712Z
UID:9483-1530316800-1530403199@www.bsv-ski.de
SUMMARY:Swiss Open Race mit Schweizer Meisterschaft Ski Inline
DESCRIPTION:Ausschreibung Swiss Open Race \n 
URL:https://www.bsv-ski.de/veranstaltung/swiss-open-race-mit-schweizer-meisterschaft-ski-inline/
LOCATION:Hergiswil\, Hergiswil\, Schweiz
END:VEVENT
END:VCALENDAR