BEGIN:VCALENDAR
VERSION:2.0
PRODID:-//Bayerischer Skiverband e.V. - ECPv6.15.20//NONSGML v1.0//EN
CALSCALE:GREGORIAN
METHOD:PUBLISH
X-ORIGINAL-URL:https://www.bsv-ski.de
X-WR-CALDESC:Veranstaltungen für Bayerischer Skiverband e.V.
REFRESH-INTERVAL;VALUE=DURATION:PT1H
X-Robots-Tag:noindex
X-PUBLISHED-TTL:PT1H
BEGIN:VTIMEZONE
TZID:Europe/Berlin
BEGIN:DAYLIGHT
TZOFFSETFROM:+0100
TZOFFSETTO:+0200
TZNAME:CEST
DTSTART:20170326T010000
END:DAYLIGHT
BEGIN:STANDARD
TZOFFSETFROM:+0200
TZOFFSETTO:+0100
TZNAME:CET
DTSTART:20171029T010000
END:STANDARD
BEGIN:DAYLIGHT
TZOFFSETFROM:+0100
TZOFFSETTO:+0200
TZNAME:CEST
DTSTART:20180325T010000
END:DAYLIGHT
BEGIN:STANDARD
TZOFFSETFROM:+0200
TZOFFSETTO:+0100
TZNAME:CET
DTSTART:20181028T010000
END:STANDARD
BEGIN:DAYLIGHT
TZOFFSETFROM:+0100
TZOFFSETTO:+0200
TZNAME:CEST
DTSTART:20190331T010000
END:DAYLIGHT
BEGIN:STANDARD
TZOFFSETFROM:+0200
TZOFFSETTO:+0100
TZNAME:CET
DTSTART:20191027T010000
END:STANDARD
END:VTIMEZONE
BEGIN:VEVENT
DTSTART;VALUE=DATE:20180629
DTEND;VALUE=DATE:20180702
DTSTAMP:20260423T193218
CREATED:20180618T064831Z
LAST-MODIFIED:20180618T064831Z
UID:9472-1530230400-1530489599@www.bsv-ski.de
SUMMARY:BSV Mädchencamp Skisprung 2018
DESCRIPTION:Einladung zum BSV Mädchencamp Skisprung 2018
URL:https://www.bsv-ski.de/veranstaltung/bsv-maedchencamp-skisprung-2018/
LOCATION:Oberstdorf\, Oberstdorf\, 87561\, Deutschland
ORGANIZER;CN="Bayerischer Skiverband e.V.":MAILTO:info@bsv-ski.de
END:VEVENT
BEGIN:VEVENT
DTSTART;VALUE=DATE:20180707
DTEND;VALUE=DATE:20180708
DTSTAMP:20260423T193218
CREATED:20180704T152230Z
LAST-MODIFIED:20180704T152230Z
UID:9690-1530921600-1531007999@www.bsv-ski.de
SUMMARY:4. Michael Sandel Cup
DESCRIPTION:Bitte alle Informationen dem PDF entnehmen!
URL:https://www.bsv-ski.de/veranstaltung/4-michael-sandel-cup/
LOCATION:TSV Degmarn e.V.\, Neuenstädter Straße\, Oedheim\, 74229\, Deutschland
END:VEVENT
BEGIN:VEVENT
DTSTART;VALUE=DATE:20180707
DTEND;VALUE=DATE:20180709
DTSTAMP:20260423T193218
CREATED:20180618T070816Z
LAST-MODIFIED:20180629T125749Z
UID:9488-1530921600-1531094399@www.bsv-ski.de
SUMMARY:28. Mattenskispringen in Rastbüchl
DESCRIPTION:Ausschreibung zum 28. Mattenskispringen in Rastbüchl
URL:https://www.bsv-ski.de/veranstaltung/28-mattenskispringen-in-rastbuechl/
LOCATION:Rastbüchl
END:VEVENT
BEGIN:VEVENT
DTSTART;VALUE=DATE:20180713
DTEND;VALUE=DATE:20180715
DTSTAMP:20260423T193218
CREATED:20180606T130326Z
LAST-MODIFIED:20180606T130326Z
UID:9395-1531440000-1531612799@www.bsv-ski.de
SUMMARY:Ausschreibung Deutsche Meisterschaften Skisprung Deutschland Pokal in Hinterzarten
DESCRIPTION:Hier die offizielle Ausschreibung und der Zeitplan für die Deutschen Meisterschaften Skisprung Juniorinnen\, Junior\, Damen und Herren J17 Deutschland Pokal: \nAusschreibung und Zeitplan DM 2018 in Hinterzarten \n  \n 
URL:https://www.bsv-ski.de/veranstaltung/ausschreibung-deutsche-meisterschaften-skisprung-deutschland-pokal-in-hinterzarten/
LOCATION:Salzburg
END:VEVENT
BEGIN:VEVENT
DTSTART;VALUE=DATE:20180714
DTEND;VALUE=DATE:20180715
DTSTAMP:20260423T193218
CREATED:20180704T152025Z
LAST-MODIFIED:20180704T152025Z
UID:9686-1531526400-1531612799@www.bsv-ski.de
SUMMARY:Einladung und Ausschreibung Offene Deutsche Meisterschaft 2018 Ski-Inline Riesenslalom
DESCRIPTION:Alle Informationen bitte dem PDF entnehmen!
URL:https://www.bsv-ski.de/veranstaltung/einladung-und-ausschreibung-offene-deutsche-meisterschaft-2018-ski-inline-riesenslalom/
LOCATION:Sport-Club Lanzenhain 1969 e.V.\, Zum Hohenrain\, Grebenhain\, 36355\, Deutschland
END:VEVENT
BEGIN:VEVENT
DTSTART;VALUE=DATE:20180721
DTEND;VALUE=DATE:20180722
DTSTAMP:20260423T193218
CREATED:20180704T114158Z
LAST-MODIFIED:20180704T114158Z
UID:9682-1532131200-1532217599@www.bsv-ski.de
SUMMARY:8. Hohenburger Schlosslauf im Rahmen der Oberland Challenge
DESCRIPTION:Flyer Hohenburger Schlosslauf 2018
URL:https://www.bsv-ski.de/veranstaltung/8-hohenburger-schlosslauf-im-rahmen-der-oberland-challenge/
LOCATION:Lenggries\, 83661\, Deutschland
END:VEVENT
BEGIN:VEVENT
DTSTART;VALUE=DATE:20180727
DTEND;VALUE=DATE:20180731
DTSTAMP:20260423T193218
CREATED:20180704T061448Z
LAST-MODIFIED:20180709T072515Z
UID:9672-1532649600-1532995199@www.bsv-ski.de
SUMMARY:Sommermattenskispringen in Degenfeld
DESCRIPTION:Ausschreibung Sommermattenskispringen Degenfeld am 28./29.7.
URL:https://www.bsv-ski.de/veranstaltung/sommermattenskispringen-in-degenfeld/
LOCATION:Schwäbisch Gmünd-Degenfeld\, Degenfeld\, Deutschland
END:VEVENT
BEGIN:VEVENT
DTSTART;VALUE=DATE:20180728
DTEND;VALUE=DATE:20180729
DTSTAMP:20260423T193218
CREATED:20180625T070202Z
LAST-MODIFIED:20180712T061920Z
UID:9557-1532736000-1532822399@www.bsv-ski.de
SUMMARY:Internationales Sommerskispringen HS 98 am Kälberstein / Berchtesgaden
DESCRIPTION:Ausschreibung Sommerskispringen SKB HS 98 \nZeitplan \n 
URL:https://www.bsv-ski.de/veranstaltung/internationales-sommerskispringen-hs-98-am-kaelberstein-berchtesgaden/
LOCATION:Berchtesgaden\, Berchtesgaden\, 83484\, Deutschland
END:VEVENT
BEGIN:VEVENT
DTSTART;VALUE=DATE:20180729
DTEND;VALUE=DATE:20180730
DTSTAMP:20260423T193218
CREATED:20180709T063250Z
LAST-MODIFIED:20180709T063250Z
UID:9712-1532822400-1532908799@www.bsv-ski.de
SUMMARY:Sommerleistungskontrolle 2018 Nesselwang/Hohenschwangau
DESCRIPTION:Ausschreibung – BC Sommerleistungskontrolle – SK Nesselwang 29 07 2018 \nMeldelste BC – SLK -Nesselwang 2018
URL:https://www.bsv-ski.de/veranstaltung/sommerleistungskontrolle-2018-nesselwanghohenschwangau/
LOCATION:Nesselwang\, Nesselwang
END:VEVENT
BEGIN:VEVENT
DTSTART;VALUE=DATE:20180731
DTEND;VALUE=DATE:20180804
DTSTAMP:20260423T193218
CREATED:20180507T111309Z
LAST-MODIFIED:20180622T080657Z
UID:9139-1532995200-1533340799@www.bsv-ski.de
SUMMARY:Sommerferien Trainingscamp Ski-Inline 2018
DESCRIPTION:Hier die offizielle Einladung zum Sommerferien-Trainingscamp: \nSommerferien Trainingscamp 2018
URL:https://www.bsv-ski.de/veranstaltung/einladung-zum-sommerferien-trainingscamp-ski-inline-2018/
LOCATION:Salzburg
END:VEVENT
END:VCALENDAR