BEGIN:VCALENDAR
VERSION:2.0
PRODID:-//Bayerischer Skiverband e.V. - ECPv6.15.20//NONSGML v1.0//EN
CALSCALE:GREGORIAN
METHOD:PUBLISH
X-ORIGINAL-URL:https://www.bsv-ski.de
X-WR-CALDESC:Veranstaltungen für Bayerischer Skiverband e.V.
REFRESH-INTERVAL;VALUE=DURATION:PT1H
X-Robots-Tag:noindex
X-PUBLISHED-TTL:PT1H
BEGIN:VTIMEZONE
TZID:Europe/Berlin
BEGIN:DAYLIGHT
TZOFFSETFROM:+0100
TZOFFSETTO:+0200
TZNAME:CEST
DTSTART:20170326T010000
END:DAYLIGHT
BEGIN:STANDARD
TZOFFSETFROM:+0200
TZOFFSETTO:+0100
TZNAME:CET
DTSTART:20171029T010000
END:STANDARD
BEGIN:DAYLIGHT
TZOFFSETFROM:+0100
TZOFFSETTO:+0200
TZNAME:CEST
DTSTART:20180325T010000
END:DAYLIGHT
BEGIN:STANDARD
TZOFFSETFROM:+0200
TZOFFSETTO:+0100
TZNAME:CET
DTSTART:20181028T010000
END:STANDARD
BEGIN:DAYLIGHT
TZOFFSETFROM:+0100
TZOFFSETTO:+0200
TZNAME:CEST
DTSTART:20190331T010000
END:DAYLIGHT
BEGIN:STANDARD
TZOFFSETFROM:+0200
TZOFFSETTO:+0100
TZNAME:CET
DTSTART:20191027T010000
END:STANDARD
END:VTIMEZONE
BEGIN:VEVENT
DTSTART;VALUE=DATE:20180731
DTEND;VALUE=DATE:20180804
DTSTAMP:20260423T181052
CREATED:20180507T111309Z
LAST-MODIFIED:20180622T080657Z
UID:9139-1532995200-1533340799@www.bsv-ski.de
SUMMARY:Sommerferien Trainingscamp Ski-Inline 2018
DESCRIPTION:Hier die offizielle Einladung zum Sommerferien-Trainingscamp: \nSommerferien Trainingscamp 2018
URL:https://www.bsv-ski.de/veranstaltung/einladung-zum-sommerferien-trainingscamp-ski-inline-2018/
LOCATION:Salzburg
END:VEVENT
BEGIN:VEVENT
DTSTART;VALUE=DATE:20180809
DTEND;VALUE=DATE:20180813
DTSTAMP:20260423T181052
CREATED:20180716T125949Z
LAST-MODIFIED:20180716T130030Z
UID:9814-1533772800-1534118399@www.bsv-ski.de
SUMMARY:Fortbildung Hochtour\, Bergsteigen
DESCRIPTION:BSV‐Lehrgangs‐Nr. T 5 / 2018\nLehrgangsart:\nBSV‐zentrale Fortbildung „Hochtour\, Bergsteigen“ auf der Vernagthütte anerkannt als Fortbildung zur Lizenzverlängerung \nTermin:\n09.08. – 12.08.2018 Vernagthütte im Ötztal \nDurchführung:\nBayerischer Skiverband e.V.\, verantwortlich der Referent und Ausbildungsleiter Skitour\, Jürgen Kohl \nAusbilder:\nRoland Zschorn\, r.zschorn@googlemail.de \n  \nUnterkunft:\nVernagthütte (DAV Sektion Würzburg)\nA‐6458 Vent\nPächter: Martin Scheiber\nTel.: 0043/664/1412119\nmobil: 0043/5254/8128\nE‐Mail: info@wieshof.at \nLehrgangsprogramm:\nFortbildung zur Lizenzverlängerung Trainer C und Trainer B für ÜLAlpin\, ‐Skitour\, ‐Nordic\, ‐Snowboard\, Telemark\, … \n\nErlernen der grundlegenden Techniken im Fels\, Umgang mit Seil und Begehen von Seilgeländern\nBasis Steigeisentechnik und Umgang mit Pickel sowie Anseilen am Gletscher\nleichte Hochtouren im vergletscherten und kombinierten Gelände\nAbseilen über eine Kletterroute\n\nAnreisetermin:\nDonnerstag\, 09. August 2018 bis 15:00 Uhr Vent Rofenhöfe \nRückreisetermin:\nSonntag\, 12. August 2018 \nMeldeschluss:\nFreitag\, 20.07.2018 \nQuartiereinteilung bei Ankunft auf der Hütte (Zimmer bzw. Lager) \nKosten:\nBitte entnehmen Sie die Kosten der Ausschreibung im PDF-Format. \nTeilnahmebedingungen:\n\nBSV‐Anmeldeformular mit Vereinsstempel\nDSV‐Übungsleiter Grundstufe oder höher der Disziplinen Alpin\, Skitour\, Nordic\, Snowboard oder Telemark\nKondition für Auf‐ und Abstiege von ca. 5 – 7 Stunden\n\nAusrüstung:\n\nFeste Bergschuhe\nSteigeisen\nPickel\nKlettergurt\nKletterhelm\nKarabiner\nReepschnüre\, Bandschlingen\nHüttenschlafsack\nWenn vorhanden: Alpenvereinsausweis\n\nEine detaillierte Ausrüstungsliste erhalten alle Teilnehmer nach Anmeldung per Mail vom Ausbilder Roland Zschorn. \nWissenswertes:\nDer Hüttenzustieg dauert ca. 3 ½ Stunden ab Rofenhöfen. Nach ½ Stunde erreicht man die Talstation der Materialseilbahn. Gepäcktransport ist möglich. Auf der Hütte gibt es auch Duschmöglichkeit. \nMeldeadresse:\nBayerischer Skiverband e.V.\nGeorg‐Brauchle‐Ring 93\n80992 München\nz. Hd. Franziska Welzmüller\nTel. 089 / 15702‐324\nFax 089 / 155961 \nRücktritt:\nDer Teilnehmer ist berechtigt\, jederzeit vor Kursbeginn von der Anmeldung zurückzutreten. Maßgeblich ist der Zeitpunkt des Zugangs der Rücktrittserklärung \nRücktritt bis 22 Tage vor Beginn: 10 % der Lehrgangsgebühr\nRücktritt 21 Tage bis 7 Tage vor Beginn: 30 % der Lehrgangsgebühr\nRücktritt 6 Tage bis 3 Tage vor Beginn: 50 % der Lehrgangsgebühr\nRücktritt 2 Tage vor Beginn: 80 % der Lehrgangsgebühr \nZusätzlich fallen bei Übernachtungen die jeweilige Stornogebühren des Hotels an. Diese werden dem Teilnehmer in Rechnung gestellt. Zur Sicherheit empfehlen wir eine Reiserücktrittsversicherung.
URL:https://www.bsv-ski.de/veranstaltung/fortbildung-hochtour-bergsteigen/
LOCATION:6458 Vent\, Vernagthütte\, Vent\, 6458\, Österreich
CATEGORIES:Aus- und Fortbildung
END:VEVENT
BEGIN:VEVENT
DTSTART;VALUE=DATE:20180810
DTEND;VALUE=DATE:20180812
DTSTAMP:20260423T181052
CREATED:20180704T062923Z
LAST-MODIFIED:20180704T062923Z
UID:9677-1533859200-1534031999@www.bsv-ski.de
SUMMARY:Skispringen Int. Alpencup der Damen in Bischofsgrün
DESCRIPTION:Internationaler Alpencup der Damen im Skispringen/ NK
URL:https://www.bsv-ski.de/veranstaltung/skispringen-int-alpencup-der-damen-in-bischofsgruen/
LOCATION:Bischofsgrün
END:VEVENT
BEGIN:VEVENT
DTSTART;VALUE=DATE:20180815
DTEND;VALUE=DATE:20180816
DTSTAMP:20260423T181052
CREATED:20180716T075332Z
LAST-MODIFIED:20180716T075332Z
UID:9810-1534291200-1534377599@www.bsv-ski.de
SUMMARY:14. Hallertauer Inline-Tour
DESCRIPTION:Inline-Tour Hallertau 2018
URL:https://www.bsv-ski.de/veranstaltung/14-hallertauer-inline-tour/
LOCATION:Salzburg
END:VEVENT
BEGIN:VEVENT
DTSTART;VALUE=DATE:20180831
DTEND;VALUE=DATE:20180903
DTSTAMP:20260423T181052
CREATED:20180709T070603Z
LAST-MODIFIED:20180709T070603Z
UID:9719-1535673600-1535932799@www.bsv-ski.de
SUMMARY:Deutschlandpokal in Berchtesgaden
DESCRIPTION:Ausschreibung Deutschlandpokal Kälberstein
URL:https://www.bsv-ski.de/veranstaltung/deutschlandpokal-in-berchtesgaden/
LOCATION:Berchtesgaden\, Deutschland
END:VEVENT
END:VCALENDAR