BEGIN:VCALENDAR
VERSION:2.0
PRODID:-//Bayerischer Skiverband e.V. - ECPv6.15.20//NONSGML v1.0//EN
CALSCALE:GREGORIAN
METHOD:PUBLISH
X-WR-CALNAME:Bayerischer Skiverband e.V.
X-ORIGINAL-URL:https://www.bsv-ski.de
X-WR-CALDESC:Veranstaltungen für Bayerischer Skiverband e.V.
REFRESH-INTERVAL;VALUE=DURATION:PT1H
X-Robots-Tag:noindex
X-PUBLISHED-TTL:PT1H
BEGIN:VTIMEZONE
TZID:Europe/Berlin
BEGIN:DAYLIGHT
TZOFFSETFROM:+0100
TZOFFSETTO:+0200
TZNAME:CEST
DTSTART:20170326T010000
END:DAYLIGHT
BEGIN:STANDARD
TZOFFSETFROM:+0200
TZOFFSETTO:+0100
TZNAME:CET
DTSTART:20171029T010000
END:STANDARD
BEGIN:DAYLIGHT
TZOFFSETFROM:+0100
TZOFFSETTO:+0200
TZNAME:CEST
DTSTART:20180325T010000
END:DAYLIGHT
BEGIN:STANDARD
TZOFFSETFROM:+0200
TZOFFSETTO:+0100
TZNAME:CET
DTSTART:20181028T010000
END:STANDARD
BEGIN:DAYLIGHT
TZOFFSETFROM:+0100
TZOFFSETTO:+0200
TZNAME:CEST
DTSTART:20190331T010000
END:DAYLIGHT
BEGIN:STANDARD
TZOFFSETFROM:+0200
TZOFFSETTO:+0100
TZNAME:CET
DTSTART:20191027T010000
END:STANDARD
END:VTIMEZONE
BEGIN:VEVENT
DTSTART;VALUE=DATE:20180831
DTEND;VALUE=DATE:20180903
DTSTAMP:20260423T164748
CREATED:20180709T070603Z
LAST-MODIFIED:20180709T070603Z
UID:9719-1535673600-1535932799@www.bsv-ski.de
SUMMARY:Deutschlandpokal in Berchtesgaden
DESCRIPTION:Ausschreibung Deutschlandpokal Kälberstein
URL:https://www.bsv-ski.de/veranstaltung/deutschlandpokal-in-berchtesgaden/
LOCATION:Berchtesgaden\, Deutschland
END:VEVENT
BEGIN:VEVENT
DTSTART;VALUE=DATE:20180907
DTEND;VALUE=DATE:20180910
DTSTAMP:20260423T164748
CREATED:20180710T091803Z
LAST-MODIFIED:20180710T091803Z
UID:9757-1536278400-1536537599@www.bsv-ski.de
SUMMARY:Deutsche Meisterschaft Biathlon Teil 1
DESCRIPTION:dm_altenberg
URL:https://www.bsv-ski.de/veranstaltung/deutsche-meisterschaft-biathlon-teil-1/
LOCATION:Altenberg\, Altenberg
END:VEVENT
BEGIN:VEVENT
DTSTART;VALUE=DATE:20180909
DTEND;VALUE=DATE:20180910
DTSTAMP:20260423T164748
CREATED:20180816T062112Z
LAST-MODIFIED:20180817T055237Z
UID:10231-1536451200-1536537599@www.bsv-ski.de
SUMMARY:15. Kloster Kreuzberg Pokal
DESCRIPTION:KlosterKreuzbergPokal2018
URL:https://www.bsv-ski.de/veranstaltung/15-kloster-kreuzberg-pokal/
LOCATION:Haselbach/Rhön\, Haselbach in der Rhön\, Deutschland
END:VEVENT
BEGIN:VEVENT
DTSTART;VALUE=DATE:20180916
DTEND;VALUE=DATE:20180917
DTSTAMP:20260423T164748
CREATED:20180831T073615Z
LAST-MODIFIED:20180831T073615Z
UID:10455-1537056000-1537142399@www.bsv-ski.de
SUMMARY:M-net Münchner Outdoorsportfestival
DESCRIPTION:https://www.muenchner-sportfestivals.de/m-net-muenchner-outdoorsportfestival/
URL:https://www.bsv-ski.de/veranstaltung/m-net-muenchner-outdoorsportfestival/
LOCATION:Olympiapark München\, Am Olympiapark 1\, München\, Deutschland
END:VEVENT
BEGIN:VEVENT
DTSTART;VALUE=DATE:20180921
DTEND;VALUE=DATE:20180924
DTSTAMP:20260423T164748
CREATED:20180709T075936Z
LAST-MODIFIED:20180709T075936Z
UID:9733-1537488000-1537747199@www.bsv-ski.de
SUMMARY:Deutschlandpokal Skisprung in Oberhof
DESCRIPTION:Deutschlandpokal Skisprung DP Oberhof
URL:https://www.bsv-ski.de/veranstaltung/deutschlandpokal-skisprung-in-oberhof/
LOCATION:Oberhof\, Oberhof\, Deutschland
END:VEVENT
BEGIN:VEVENT
DTSTART;TZID=Europe/Berlin:20180921T180000
DTEND;TZID=Europe/Berlin:20180923T120000
DTSTAMP:20260423T164748
CREATED:20180828T113855Z
LAST-MODIFIED:20180917T154523Z
UID:10342-1537552800-1537704000@www.bsv-ski.de
SUMMARY:Trainerfortbildung Nordisch 2018
DESCRIPTION:Anmeldeformular \n\n\n\nBeginn:\nFreitag\, 21.09.2018 – 18.00 Uhr (Anreise ab 16.00 Uhr)\n\n\nEnde:\nSonntag\, 23.09.2018 – 12.00 Uhr (Abreise bis 14.00 Uhr)\n\n\nOrt:\nBLSV Sportschule Oberhaching\nIm Loh 2\, 82041 Oberhaching\nTel. 089/61384-0\n\n\n\nDas Programm ist geringfügig angepasst worden!\nProgramm für Freitag:\n\n\n\n18.00 – 18.45 Uhr\nLehrgangsbeginn\nmit gemeinsamen Abendessen\n\n\n18.45 – 21.00 Uhr\nSystematische Bewegungsvorbereitung für die Trainingspraxis\n„Sportpraxis“\n\n\n\nProgramm für Samstag:\n\n\n\n09.00 – 09.15 Uhr\nBegrüßung und aktuelle Informationen aus dem BSV\nDominik Feldmann (stellv. Geschäftsführer BSV)\n\n\n09.15 – 11.15 Uhr\nSportpsychologie für die Trainingspraxis\nCaja Schöpf\, Sportpsychologin\n\n\n09.45 – 11.45 Uhr\nVerbundstudium – Trainer im Skisport\nDominik Feldmann\n\n\n11.45 – 14.00 Uhr\nSportmesse und Mittagspause\nUnsere Partnerfirmen informieren über aktuelle Trends\n\n\n14.00 – 16.00 Uhr\nOption 1 – Workshop Leichtathletische Grundausbildung / „Lauf-ABC“\nn.n.\n\n\n14.00 – 16.00 Uhr\nOption 2 – Workshop „Reaktiv-Kraft steigert Schnell-Kraft“\nChristian Koch (Sportwissenschaftler)\n\n\n14.00 – 16.00 Uhr\nOption 3 – Workshop Social Media – Chancen\, Nutzen\, Risiken\nSven Gettler (BSV)\n\n\n\nProgramm für Sonntag:\n\n\n\n08.45 – 09.45 Uhr\nAktuelle Informationen\nBSV / DSV\n\n\n09.45 – 12.00 Uhr\nYoga für Sportler und Trainer in Theorie und Praxis –\nPraktische Trainingstipps als Ausgleich und Zugewinn im Sport\nChristian Koch (Sportwissenschaftler)\n\n\n12.00 – 14.00 Uhr\nMittagessen\, Nachbesprechung und Abreise\n\n\n\nAnmeldung zur Trainer-Fortbildung – Freitag bis Sonntag 21.-23.09.2018:\nDie Teilnahme am Fortbildungs-Lehrgang Nordisch wird von der DSV-Trainerschule anerkannt und berechtigt zur Verlängerung der Trainerlizenz bzw. der BLSV-Übungsleiterlizenz.\nDie Trainerlizenz kann nur verlängert werden\, wenn die komplette 3 tägige Fortbildung (Fr\, Sa\, So) besucht wurde.\nDie Lehrgangsgebühr beträgt 50\,– € (ohne Übernachtung/Verpflegung)\, und wird vom BSV über Einzugsermächtigung erhoben. \nBitte Sportkleidung und Hallenturnschuhe mitbringen. \nAnmeldeschluss ist spätestens am Freitag\, den 14.09.2018 \nEs steht nur ein begrenztes Übernachtungskontingent zur Verfügung. Wir bitten um Ankreuzen auf dem Anmeldeformular\, ob eine Übernachtung benötigt wird. Die Kosten sind selbst zu tragen und vor Ort zu bezahlen. \nVerspätete Anmeldungen können nicht mehr berücksichtigt werden. \nFür die Teilnahme an der Trainerfortbildung ist das Anmeldeformular zu verwenden. \nDie Kosten der Anreise sind selbst zu tragen.
URL:https://www.bsv-ski.de/veranstaltung/trainerfortbildung-nordisch-2018/
LOCATION:BLSV Sportschule Oberhaching\, Im Loh 2\, Oberhaching\, 82041\, Deutschland
CATEGORIES:Aus- und Fortbildung,Verband
ORGANIZER;CN="Bayerischer Skiverband e.V.":MAILTO:info@bsv-ski.de
END:VEVENT
BEGIN:VEVENT
DTSTART;VALUE=DATE:20180922
DTEND;VALUE=DATE:20180923
DTSTAMP:20260423T164748
CREATED:20180718T213722Z
LAST-MODIFIED:20180917T154500Z
UID:9846-1537574400-1537660799@www.bsv-ski.de
SUMMARY:25. BSV Forum Nordisch/Biathlon
DESCRIPTION:Das BSV Forum feiert 2018 Jubiläum! Zum 25. Mal treffen sich Trainerinnen und Trainer in Oberhaching um topaktuelle Themen zu diskutieren und sich in den angebotenen Workshops weiterzubilden. \nVoraussichtliches Programm: \n\n\n\nTermin:\nSamstag\, den 22.09.2018\n9.00 Uhr bis ca. 17.00 Uhr\n\n\nOrt:\nBLSV Sportschule Oberhaching\nIm Loh 2\, 82041 Oberhaching\nTel. 089/61384-0\n\n\n\nDie Kosten der Anreise sind selbst zu tragen.\n\n\n\nProgramm:\n\n\n\n09.00 Uhr\nBegrüßung\nDominik Feldmann\, stellv. Geschäftsführer (BSV)\n\n\n09.15 Uhr\nSportpsychologie für die Trainingspraxis\nCaja Schöpf\, Sportpsychologin\n\n\n09.45 Uhr\nVerbundstudium – Trainer im Skisport\nDominik Feldmann\n\n\n11.45 – 14.00 Uhr\nSportmesse und Mittagspause\nUnsere Partnerfirmen informieren über aktuelle Trends\n\n\n14.00 – 16.00 Uhr\nWorkshop-Option 1\nLeichtathletische Grundausbildung / „Lauf-ABC“\n\n\n14.00 – 16.00 Uhr\nWorkshop-Option 2\nReaktivkraft steigert Schnellkraft\n\n\n14.00 – 16.00\nWorkshop-Option 3\nSocial Media – Chancen\, Nutzen\, Risiken\n\n\n\nEine Teilnahmegebühr wird nicht erhoben. Bitte Sportkleidung und Hallenturnschuhe mitbringen. \nHier geht`s zur Online-Anmeldung!\nAnmeldeschluss: Mittwoch\, der 19.09.2018.
URL:https://www.bsv-ski.de/veranstaltung/25-bsv-forum-nordischbiathlon/
LOCATION:BLSV Sportschule Oberhaching\, Im Loh 2\, Oberhaching\, 82041\, Deutschland
CATEGORIES:Aus- und Fortbildung,Verband
ATTACH;FMTTYPE=image/png:https://www.bsv-ski.de/wp-content/uploads/2018/07/BSV_forum.png
ORGANIZER;CN="Bayerischer Skiverband e.V.":MAILTO:info@bsv-ski.de
END:VEVENT
BEGIN:VEVENT
DTSTART;VALUE=DATE:20180922
DTEND;VALUE=DATE:20180924
DTSTAMP:20260423T164748
CREATED:20180816T061332Z
LAST-MODIFIED:20180816T061332Z
UID:10225-1537574400-1537747199@www.bsv-ski.de
SUMMARY:Bayerncup Nordische Kombination/Skisprung
DESCRIPTION:Ausschreibung Bayerncup 2018-2019
URL:https://www.bsv-ski.de/veranstaltung/bayerncup-nordische-kombinationskisprung/
LOCATION:Neubau\, Deutschland
END:VEVENT
BEGIN:VEVENT
DTSTART;VALUE=DATE:20180927
DTEND;VALUE=DATE:20181001
DTSTAMP:20260423T164748
CREATED:20180709T072220Z
LAST-MODIFIED:20180709T072920Z
UID:9722-1538006400-1538351999@www.bsv-ski.de
SUMMARY:DSV Milka Schülercup in Degenfeld
DESCRIPTION:2018NK_DSC_Degenfeld_PROG
URL:https://www.bsv-ski.de/veranstaltung/dsv-milka-schuelercup-in-degenfeld/
LOCATION:Ski Club Degenfeld\, Kreuzbergweg \, Degenfeld\, 73529\, Deutschland
END:VEVENT
BEGIN:VEVENT
DTSTART;VALUE=DATE:20180930
DTEND;VALUE=DATE:20181001
DTSTAMP:20260423T164748
CREATED:20180830T062918Z
LAST-MODIFIED:20180830T063516Z
UID:10397-1538265600-1538351999@www.bsv-ski.de
SUMMARY:Herbstfest Audi Skizentrum Sonnenbichl
DESCRIPTION:Einladung Herbstfest Sonnenbichl
URL:https://www.bsv-ski.de/veranstaltung/herbstfest-audi-skizentrum-sonnenbichl/
LOCATION:Bad Wiessee
END:VEVENT
END:VCALENDAR