BEGIN:VCALENDAR
VERSION:2.0
PRODID:-//Bayerischer Skiverband e.V. - ECPv6.15.20//NONSGML v1.0//EN
CALSCALE:GREGORIAN
METHOD:PUBLISH
X-WR-CALNAME:Bayerischer Skiverband e.V.
X-ORIGINAL-URL:https://www.bsv-ski.de
X-WR-CALDESC:Veranstaltungen für Bayerischer Skiverband e.V.
REFRESH-INTERVAL;VALUE=DURATION:PT1H
X-Robots-Tag:noindex
X-PUBLISHED-TTL:PT1H
BEGIN:VTIMEZONE
TZID:Europe/Berlin
BEGIN:DAYLIGHT
TZOFFSETFROM:+0100
TZOFFSETTO:+0200
TZNAME:CEST
DTSTART:20180325T010000
END:DAYLIGHT
BEGIN:STANDARD
TZOFFSETFROM:+0200
TZOFFSETTO:+0100
TZNAME:CET
DTSTART:20181028T010000
END:STANDARD
BEGIN:DAYLIGHT
TZOFFSETFROM:+0100
TZOFFSETTO:+0200
TZNAME:CEST
DTSTART:20190331T010000
END:DAYLIGHT
BEGIN:STANDARD
TZOFFSETFROM:+0200
TZOFFSETTO:+0100
TZNAME:CET
DTSTART:20191027T010000
END:STANDARD
BEGIN:DAYLIGHT
TZOFFSETFROM:+0100
TZOFFSETTO:+0200
TZNAME:CEST
DTSTART:20200329T010000
END:DAYLIGHT
BEGIN:STANDARD
TZOFFSETFROM:+0200
TZOFFSETTO:+0100
TZNAME:CET
DTSTART:20201025T010000
END:STANDARD
END:VTIMEZONE
BEGIN:VEVENT
DTSTART;TZID=Europe/Berlin:20190301T120000
DTEND;TZID=Europe/Berlin:20190303T150000
DTSTAMP:20260423T080723
CREATED:20190219T134958Z
LAST-MODIFIED:20190219T134958Z
UID:19689-1551441600-1551625200@www.bsv-ski.de
SUMMARY:Next Generation Ski Cross Tour am Ödberg
DESCRIPTION:Rasante Geschwindigkeiten\, enge Kurven und gewaltige Sprünge – Ski Cross ist eine Sportart für den besonderen Adrenalinkick. Vom 1. bis 3. März öffnen sich die Tore der Ski Cross Weltcupstrecke Ödberg für die Nachwuchs-Fahrer der Jahrgänge 2001-2006.\nLernen von den Profis\, so die Devise beim Pistenbully Ski Cross Camp unter der Leitung von Daniel Bohnacker. Der erfolgreichste Skicrosser Deutschlands wird den Interessierten am Freitag und Samstag die wesentlichen Elemente der Sportart näherbringen und einige wertvolle Tipps und Tricks verraten. \nDas eigentliche Rennen findet dann am Sonntag\, dem 3. März\, statt. Im Rahmen der Next Generation Ski Cross Tour 2018/2019 liefern sich die Rennfahrer packende Kopf- an-Kopf-Duelle. Das Rennen startet um 10:30 Uhr mit der Qualifikation\, ehe ab 12:45 im Round&Robin- und KO-System der Sieger auserkoren wird. Das Ski-Spektakel ermöglicht der Skiclub Ostin\, der die zweite von insgesamt drei Stationen der Rennserie austrägt.\nMeldeschluss ist am 28. Februar. Die Anmeldegebühr beträgt 20€.\nAbgeschlossen wird die Serie am 30. und 31. März in Grasgehren. \nWeitere Informationen finden Sie hier.
URL:https://www.bsv-ski.de/veranstaltung/next-generation-ski-cross-tour-am-oedberg/
LOCATION:Ödberg Ski Cross Weltcup Strecke\, Ostin\, Bayern\, Deutschland
END:VEVENT
BEGIN:VEVENT
DTSTART;VALUE=DATE:20190302
DTEND;VALUE=DATE:20190304
DTSTAMP:20260423T080723
CREATED:20190218T123456Z
LAST-MODIFIED:20190218T123751Z
UID:19654-1551484800-1551657599@www.bsv-ski.de
SUMMARY:Bayerische Schülermeisterschaften mit Bayerischem Schülercup
DESCRIPTION:Die Ausschreibung als PDF-Datei \nVeranstalter: Bayerischer Skiverband e.V. \nAusrichtender Verein: SC Partenkirchen e.V. \nAktuelle Infos und Ergebnisse: http://www.skiclub-partenkirchen.de \nProgramm\nBAYERISCHER SCHÜLERCUP:\nK20 Keramikspur: S9/10w\, S9/10m\, S11w\, S11m \nK43 Edelstahlspur: S12/13w\, S12m\, S13m\, S14w \nK80 Eisspur: S15/J16w\, S14/15m \nBAYERISCHE SCHÜLERMEISTERSCHAFTEN EINZEL:\nS12/13m\, S12/13w SSP/NK K 43 (HS47) \nS14/15m\, S14 /S15w SSP/NK K 80 (HS89) \nZEITPLAN Training BSC & BSM\nFreitag\, 01.03.2019 Anreise der Mannschaften\n13:00-17:00 Uhr Freies Training \n18:00 Uhr Mannschaftsführersitzung SCP Clubheim\nZEITPLAN Bayerncup \nSamstag\, 02.03.2019\n09:00 Uhr Probedurchgang K 80\n09:45 Uhr 1. Wertungsdurchgang\nanschl. 2. Wertungsdurchgang \n10 Minuten Pause \n3 Wertungsdurchgänge K 20 (2 Besten in Wertung) \n10 Minuten Pause \nProbedurchgang K 43 bzw. S11m WertungsDG (2 aus 3)\nanschl. 1. Wertungsdurchgang\nanschl. 2. Wertungsdurchgang \n14:30 Kombinationslanglauf in KALTENBRUNN\nanschl. Siegerehrung SP und NK im Langlaufstadion \nZEITPLAN Bayerische Schülermeisterschaften\nSonntag\, 03.03.2019\n09:00 Uhr Probedurchgang K 80\nanschl. 1. Wertungsdurchgang\nanschl. 2. Wertungsdurchgang \n11:00 Uhr Probedurchgang K 43\nanschl. 1. Wertungsdurchgang\nanschl. 2. Wertungsdurchgang\nanschl. Siegerehrung Spezialsprung im Schanzenauslauf \n14:30 Uhr Kombinationslanglauf S14/15m\, S14/15w (6 km) \n15:00 Uhr Kombinationslanglauf S12/13m\, S12/13w (3 km)\nanschl. Siegerehrung Nordische Kombination im Langlaufstadion\nWETTKAMPFKOMITEE \nWettkampfbeauftragter des BSV: Hans SCHMID\, Sportwart Skisprung/ NK \nWettkampfleiter: \n\nFabian EBENHOCH (K43 & K20)\,\nMaximilian ECHSLER (K80)\n\nChef der Berechnung: Stefan SCHIERBEL \nChef der Zeitnahme: Stefan SCHIERBEL \nSchanzenchef: Fabian SCHULTZ \nChef Weitenmessung: Hias KARG \nSanitätsdienst: BRK Partenkirchen \nSprungrichter: gemäß Einteilung Skigau Werdenfels \nWETTKAMPFBESTIMMUNGEN BSM\nDie Veranstaltung wird nach den Bestimmungen der gültigen DWO durchgeführt. Teilnahmeberechtigt sind Sportler/innen von S12 –S15 mit gültigem Startpass. In der Nord. Kombination werden 2 Sprünge absolviert\, die Mädchen können bei den Buben mitstarten. Die Mannschaft im Regionen Springen besteht aus drei Sportlern aus einer Region. Bezüglich Aufteilung der Jahrgänge in einer Mannschaft gibt es keine Begrenzung. Es dürfen z.B. drei S 15 Springer aufgestellt werden. Auch Mädchen bis S15 dürfen aufgestellt werden. \nKlasseneinteilung und Streckenlängen NK:\nBayerncup laut Reglement \nBSM wie folgt:\nS12/13w\, S12/13m\, S 14/15w 3 km\nS14/15 m 6 km \nFür eine eigene Klasse weiblich müssen mindestens 3 Athletinnen am Start sein. Ansonsten haben die Mädchen die Möglichkeit bei den Jungs mit zu starten. \nMELDUNGEN und MELDESCHLUSS \nMeldungen online über rennmeldung.de bis Mittwoch\, 27.02.2019\, 12 Uhr \nNENNGELD pro Wettbewerb 6\,- € pro Teilnehmer und Wettkampf \nDie Laufwettbewerbe finden im Langlaufstadion in Kaltenbrunn statt. \n1 Runde = 1\,5km \nTITEL\, SIEGEREHRUNG und PREISE\nFolgende Titel werden vergeben: \nBayerischer Schülermeister im Skispringen S 12/13 K 43\nBayerischer Schülermeister im Skispringen S 14/15 K 80\nBayerischer Schülermeister in der Nordischen Kombination S 12/13 3 km\nBayerischer Schülermeister in der Nordischen Kombination S 14/15 6 km\nBayerische Schülermeisterin im Skispringen S 12/13 K 43\nBayerische Schülermeisterin im Skispringen S 14/15 K 80\nBayerische Schülermeisterin in der Nordischen Kombination S 12/13 3 km\nBayerische Schülermeisterin in der Nordischen Kombination S 14/15 6 km \nFür eine Titelvergabe müssen mindestens 5 Teilnehmer/innen in der Wertung sein. \nHaftung\n1.Risikobeurteilung und Eigenverantwortlichkeit der Teilnehmer:\nAuf die Versicherungspflicht der Vereine für ihre Aktiven wird besonders hingewiesen. Risikobeurteilung und Eigenverantwortlichkeit der Teilnehmer (DSV): In der DSV-Aktivenerklärung für den Erhalt ihres Startpasses haben die Teilnehmer detailliert erklärt Kenntnis zu haben von den wettkampfspezifischen Risiken und Gefahren sowie diese zu akzeptieren. Weiter darüber informiert zu sein\, dass sie insoweit bei der Ausübung der von ihnen gewählten Skidisziplin Schaden an Leib oder Leben erleiden können. Schließlich haben sie sich verpflichtet eine eigene Risikobeurteilung dahingehend vorzunehmen\, ob sie auf Grund ihres individuellen Könnens sich zutrauen die Schwierigkeiten der Strecke bzw. Anlage sicher zu bewältigen und sich zudem verpflichtet auf von ihnen erkannte Sicherheitsmängel hinzuweisen. Durch ihren Start bringen sie zum einen die Geeignetheit der Strecke zum Ausdruck sowie zum anderen deren Anforderungen gewachsen zu sein. Zudem haben sie in der Aktiven Erklärung ausdrücklich bestätigt für das von ihnen verwendete Material selbst verantwortlich zu sein. Diese Erklärungen sind gerade auch für diesen Wettkampf verbindlich. \n2.Verschulden des Organisators und seiner Erfüllungsgehilfen:\nDer Teilnehmer am Wettkampf akzeptiert\, wenn er im Wettkampf einen Schaden erleidet und der Meinung ist\, den zuständigen Organisator bzw. dessen Erfüllungsgehilfen treffe hierfür ein Verschulden\, dass diese im Hinblick auf Sachschäden nur bei Vorsatz oder grober Fahrlässigkeit haften. Diese Erklärung gilt auch für den Rechtsnachfolger des Athleten. Der Teilnehmer erklärt sich weiter bereit sich mit den jeweiligen Wettkampfbestimmungen vertraut zu machen. Wenn durch seine Teilnahme am Wettkampf ein Dritter Schaden erleidet\, akzeptiert er\, dass eine eventuelle Haftung allein ihn treffen kann. Es dient deshalb seinem eigenen Interesse\, ausreichend Versicherungsschutz zu haben.
URL:https://www.bsv-ski.de/veranstaltung/bayerische-schuelermeisterschaften-mit-bayerischem-schuelercup/
LOCATION:Olympia Skistadion\, Karl- und- Martin- Neuner- Platz 1\, Garmisch-Partenkirchen
ORGANIZER;CN="Bayerischer Skiverband e.V.":MAILTO:info@bsv-ski.de
END:VEVENT
BEGIN:VEVENT
DTSTART;VALUE=DATE:20190302
DTEND;VALUE=DATE:20190304
DTSTAMP:20260423T080723
CREATED:20190219T153110Z
LAST-MODIFIED:20190219T154149Z
UID:19705-1551484800-1551657599@www.bsv-ski.de
SUMMARY:NEXTGenerationTour Ski Cross 18/19
DESCRIPTION:Die Ausschreibung als PDF-Datei \nSC Ostin – Ödberg/SX Weltcupstrecke \n\n\n\nDatum:\n2./3. März 2019\n\n\nEvent:\nNextGenerationTour Ski Cross – DSC\n\n\nVeranstalter\nOK Chef\nBubi Reisberger\n\n\n\nRennleiter\nYann Rambla\n\n\n\nStreckenchef\nNN\n\n\n\nRennbeauftrager\nHeli Herdt\n\n\nWettkampfstrecke /\nRennnummer:\nWC Strecke Oedberg\n6001DXHX/6001MXBX\n\n\nMeldeadresse\nSC Ostin\, Neureutherstr. 10\n\n\nMeldeschluss\n28.2.2019 bis 18:00 Uhr\n\n\nMeldegebühr\n20 €\n\n\nLiftkarte\n12 € + 3 € Pfand\n\n\nTourist Office\nTegernsee Tourismus\n\n\nStartnummern:\n\n\n\nSiegerehrung\n15 min nach Rennende Terrasse Ödbergalm\n\n\nTeilnahmeberechtigt\nJahrgänge 2001-2006\n\n\nReglement\nEvent/Tour BeschreibungReglement\n\n\n\n  \n\n\n\nFreitag\, 1. März\n12:00 – 17:00\nFreies Training (Pistenbully Ski Cross Camp 2019)\nÖdberg Ski Cross Weltcupstrecke\n\n\nSamstag\, 2. März\n10:00 – 13:00\n(Pistenbully Ski Cross Camp 2019)\nÖdberg Ski Cross Weltcupstrecke\n\n\n\n14:00 – 17:00\n(Pistenbully Ski Cross Camp 2019)\nÖdberg Ski Cross Weltcupstrecke\n\n\nSonntag\, 3. März\n07:45 – 08:30\nStartnummernausgabe\nÖdbergalm\n\n\n\n08:30 – 09:00\nBesichtigung\nÖdberg Ski Cross Weltcupstrecke\n\n\n\n09:15 – 10:00\nTraining\nÖdberg Ski Cross Weltcupstrecke\n\n\n\n10:30 – 12:00\nQualifikation\nÖdberg Ski Cross Weltcupstrecke\n\n\n\n12:45 – 14:30\nRound Robin & KO Finals\nÖdberg Ski Cross Weltcupstrecke
URL:https://www.bsv-ski.de/veranstaltung/nextgenerationtour-ski-cross-1819/
LOCATION:Ödberg Ski Cross Weltcup Strecke\, Ostin\, Bayern\, Deutschland
END:VEVENT
BEGIN:VEVENT
DTSTART;VALUE=DATE:20190308
DTEND;VALUE=DATE:20190311
DTSTAMP:20260423T080723
CREATED:20190214T155015Z
LAST-MODIFIED:20190214T155015Z
UID:19619-1552003200-1552262399@www.bsv-ski.de
SUMMARY:DSV E.INFRA Schülercup Biathlon FINALE
DESCRIPTION:Ausschreibung DSC Finale Biathlon 2019
URL:https://www.bsv-ski.de/veranstaltung/dsv-e-infra-schuelercup-biathlon-finale/
LOCATION:Chiemgau Arena\, Biathlonzentrum 1\, Ruhpolding\, 83324 \, Deutschland
END:VEVENT
BEGIN:VEVENT
DTSTART;VALUE=DATE:20190309
DTEND;VALUE=DATE:20190310
DTSTAMP:20260423T080723
CREATED:20190124T132001Z
LAST-MODIFIED:20190124T132215Z
UID:13041-1552089600-1552175999@www.bsv-ski.de
SUMMARY:Bayerische Meisterschaft SNOWBOARD Freestyle in Garmisch
DESCRIPTION:Alle weiteren Infos finden Sie auf der Homepage von Snowboard Bayern und Snowboard Germany.
URL:https://www.bsv-ski.de/veranstaltung/bayerische-meisterschaft-snowboard-freestyle-in-garmisch/
LOCATION:Garmisch-Patenkirchen
END:VEVENT
BEGIN:VEVENT
DTSTART;VALUE=DATE:20190309
DTEND;VALUE=DATE:20190310
DTSTAMP:20260423T080723
CREATED:20190124T132417Z
LAST-MODIFIED:20190124T132603Z
UID:13163-1552089600-1552175999@www.bsv-ski.de
SUMMARY:Bayerische Meisterschaft SNOWBOARD SBX in Grasgehren
DESCRIPTION:Alle weiteren Infos finden Sie auf der Homepage von Snowboard Bayern und Snowboard Germany.
URL:https://www.bsv-ski.de/veranstaltung/bayerische-meisterschaft-snowboard-sbx-in-grasgehren/
LOCATION:Grasgehren\, Deutschland
END:VEVENT
BEGIN:VEVENT
DTSTART;TZID=Europe/Berlin:20190309T093000
DTEND;TZID=Europe/Berlin:20190310T160000
DTSTAMP:20260423T080723
CREATED:20190227T160519Z
LAST-MODIFIED:20190227T160519Z
UID:19816-1552123800-1552233600@www.bsv-ski.de
SUMMARY:Großes Finale der Skiliga Bayern
DESCRIPTION:Mit Vollgas in Richtung Sommerpause. Am 9. und 10. März veranstaltet der Bayerische Skivernand und der SC Reichersbeuern die finalen Rennen der diesjährigen Skiliga Bayern. Gefahren wird im Audi Skizentrum Sonnenbichl bei Bad Wissee\, wo am Samstag zunächst ein Riesenslalom auf dem Programm steht\, der das fünfte Rennen der Serie beinhalten wird. Der Start wird um 9:45 erfolgen. Am Sonntag wird abschließend im Parallel- Slalom Kopf-an-Kopf gefahren. Hierbei wird sowohl im Einzel als auch im Team um die schnellsten Zeiten gefahren. Wer am Ende der Saison den längsten Atem beweist\, zeigt sich ab Rennstart um 13 Uhr. Bei der anschließenden Siegerehrung wird die spannende Frage beantwortet\, welche Skitalente in dieser Saison die Nase vorne hatten. Startberechtigt sind die Jungen- und Mädchenklassen der U14 und U16. Beim Teamwettbewerb müssen immer zwei Mädchen plus drei weitere Starter/Starterinnen antreten. \nWeitere Informationen gibt es hier: \nAusschreibung Skiliga Finale Schüler PSL 2019 Sonenbichl \nAusschreibung Skiliga Finale RS Schüler 2019 Sonnenbichl \nInfo+Ausschreibung Skiliga Bayern Schüler_18-19
URL:https://www.bsv-ski.de/veranstaltung/grosses-finale-der-skiliga-bayern/
LOCATION:Audi Skizentrum Sonnenbichl\, Sonnenbichlweg 2\, Bad Wiessee\, 83707\, Deutschland
END:VEVENT
BEGIN:VEVENT
DTSTART;TZID=Europe/Berlin:20190316T150000
DTEND;TZID=Europe/Berlin:20190317T140000
DTSTAMP:20260423T080723
CREATED:20190311T115001Z
LAST-MODIFIED:20190311T115001Z
UID:20033-1552748400-1552831200@www.bsv-ski.de
SUMMARY:Deutschlandpokal und Skiliga Bayern Finale
DESCRIPTION:Auf in den letzten Akt. Der Deutschlandpokal und die Skiliga Bayern sorgen für Spannung im Saisonendspurt. Am 16. und 17. März wollen die besten Nachwuchsrennläufer Bayerns am Audi Skizentrum Sonnenbichl in Bad Wiessee ihre Saison krönen. Hierbei werden sich die Ski-Asse am Samstag sowohl im Einzel als auch im Team beim Parallel Slalom duellieren. Während im Einzel ab 15 Uhr die individuelle Qualität im Vordergrund steht\, geht es ab 18 Uhr um geballte Mannschaftsstärke im Teamwettbewerb. \nWelches bayerisches Nachwuchstalent über die gesamte Saison am schnellsten und vor allem konstantesten unterwegs war\, entscheidet sich am Sonntag. Der Riesenlalom-Wettbewerb wird nämlich den Abschluss der diesjährigen Bayernliga-Saison bilden. Wer hierbei die schnellsten Schwünge in den Schnee legt entscheidet sich ab 10 Uhr. Nach dem Rennen werden die besten Fahrer und Teams bei der Siegerehrung für ihre Leistungen sowohl am Renntag als auch in der Gesamtsaison geehrt. \nMeldungen können noch bis zum 15.03. 2019 bis 18 Uhr unter www. rennmeldung.de eingereicht werden. \nWeitere Informationen finden Sie in der Ausschreibung.
URL:https://www.bsv-ski.de/veranstaltung/deutschlandpokal-und-skiliga-bayern-finale/
LOCATION:Audi Skizentrum Sonnenbichl\, Sonnenbichlweg 2\, Bad Wiessee\, 83707\, Deutschland
END:VEVENT
BEGIN:VEVENT
DTSTART;TZID=Europe/Berlin:20190317T093000
DTEND;TZID=Europe/Berlin:20190317T143000
DTSTAMP:20260423T080723
CREATED:20190211T103512Z
LAST-MODIFIED:20190304T103033Z
UID:18506-1552815000-1552833000@www.bsv-ski.de
SUMMARY:Schneekristall Kinderskitag 2019
DESCRIPTION:Der Bayerische Skiverband und die Skischule Ga-Pa/ Michael Brunner mit ihren Skilehrern engagieren sich kostenfrei für die Schneekristall Kinder. Somit ist eine pädagogisch und fachlich hochwertige Betreuung sichergestellt. Bei der Verpflegung unterstützt uns dankenswertweise das Garmischer Haus\, Andrea’s Teeladen und die Konditorei Barbara Krönner Murnau. Die Liftkarten werden von der Bayerischen Zugspitzbahn gespendet. \nWichtige Informationen:\nDatum: \n17.03.2019 \nTreffpunkt: \n09.30 Uhr an der Skischule Ga-Pa\, Michael Brunner\,\nGarmisch-Partenkirchen\, Hausberg 0\, 110 m nach Bahngleis links \nRegistrierung:  \nab 09.00 Uhr am Infopunkt Schneekristall / Skischule Ga-Pa\, Michael Brunner\, Garmisch-Partenkirchen \nAbholung der Kinder \num 14.30 Uhr Talstation Hausbergbahn/ Skischule Ga-Pa \nTeilnahmeberechtigung: \n\n2 Altersbereiche: 6-9 und 10 –13 Jahre\n60 Kinder mit Skierfahrung\,\n20 Kinder ohne Skierfahrung für die Altersgruppe 6-9 Jahre\nBitte ziehen Sie ihre Kinder winterfest an!\n\nSonstiges: \n\nHelmpflicht für alle Kinder\nFunktionsfähiges Material\n\nAnmeldung: und Verlosungsmodalitäten:\nFrage: \nWelcher Athlet hat 2018 die Streif gewonnen und kann in der Saison 2018/2019 nicht starten? \nAnmeldeschluss: \n08.03.2019 – Bitte Absender\, genaue Adresse\, Skierfahrung und Altersangabe des Kindes wahrheitsgemäß angeben! \nGewinnbekanntgabe: \nWer gewinnt bekommt eine Teilnahmebestätigung bis zum 11.03.2019 per E-Mail durch den BSV. \nEs besteht Helmpflicht für alle teilnehmenden Kinder. Es wird vorausgesetzt\, das Skimaterial der Kinder ist funktionsfähig (Bindung\, präparierte Kanten). Der Rechtsweg ist wie immer ausgeschlossen. Mit der Teilnahme stimmen Sie der Veröffentlichung u. der Erstellung von Fotos im Rahmen der Veranstaltung zu. \nWir drücken die Daumen und viel Glück!
URL:https://www.bsv-ski.de/veranstaltung/schneekristall-kinderskitag-2019/
LOCATION:Skischule GaPa\, Am Hausberg 0\, Garmisch-Partenkirchen\, Am Hausberg\, Garmisch-Partenkirchen\, 82467\, Deutschland
CATEGORIES:Verband
ORGANIZER;CN="Bayerischer Skiverband e.V.":MAILTO:info@bsv-ski.de
END:VEVENT
BEGIN:VEVENT
DTSTART;VALUE=DATE:20190320
DTEND;VALUE=DATE:20190325
DTSTAMP:20260423T080723
CREATED:20190306T144029Z
LAST-MODIFIED:20190307T134408Z
UID:19958-1553040000-1553471999@www.bsv-ski.de
SUMMARY:Ettaler Skicamp - Von der Schulbank auf die Piste
DESCRIPTION:Von der Schulbank auf die Piste – gegen Ende der Saison steht für die Kinder noch einmal das Skivergnügen an oberster Stelle. Möglich macht dies das Benediktinerinternat Campus Ettal. Hierbei geht es vor allem darum\, jungen Skifahrern einen unvergessenen Saisonabschluss zu bieten. Zudem gilt es den Kindern aus nicht-alpennahen Wohnorten die Gelegenheit zu bieten\, Schulort und Pistenspaß unter ein Dach zu bringen und ein echtes Gemeinschaftsgefühl zu erleben. \nDas Camp startet am Mittwoch Abend\, dem 20. März und endet am Sonntag\, dem 24. März. Der Campus Ettal öffnet seine Türen für alle Kinder der Jahrgänge 2007 bis 2009 und bietet Verpflegung\, ganztägige Betreuung sowie Übernachtungsmöglichkeit. Neben dem Skifahren im Garmisch-Classic Gebiet\, erwartet die jungen Teilnehmer ein Besuch der Deutschen Meisterschaften und ein abwechslungsreiches Rahmen. \nZeit und Ort: 20. bis 24.03.2019 \nSkigebiet: Garmisch Classic\, Deutschland \nUnterkunft: Campus Ettal \nKosten: \n\nUnterkunft\, Verpflegung und Rahmenprogramm: 120 €\nSkipass 3 Tage: 70 €\nGesamt: 190 €\n\nWichtig: Eigene An-/Abreise! \nAnmeldung: E-Mail mit Name\, Geburtstag\, Verein des Kindes an Dominik.Hager@bsv-ski.de\n \nDie Einladung des Benediktinerinternats Campus Ettal finden Sie hier. Weitere Informationen können Sie in der Auschreibung einsehen.
URL:https://www.bsv-ski.de/veranstaltung/ettaler-skicamp-von-der-schulbank-auf-die-piste/
LOCATION:Gymnasium und Internat der Benediktiner\, Kaiser-Ludwig-Platz 1\, Ettal\, 82488
ATTACH;FMTTYPE=image/jpeg:https://www.bsv-ski.de/wp-content/uploads/2019/03/Skicamp-Ettal.jpg
END:VEVENT
BEGIN:VEVENT
DTSTART;TZID=Europe/Berlin:20190323T160000
DTEND;TZID=Europe/Berlin:20190323T164500
DTSTAMP:20260423T080723
CREATED:20190319T102155Z
LAST-MODIFIED:20190321T073257Z
UID:20124-1553356800-1553359500@www.bsv-ski.de
SUMMARY:Schneesport Symposium – Inklusion im Schneesport
DESCRIPTION:Die Schneesport Stiftung unterstützt sozial benachteiligte Kinder und Jugendliche\, Migranten\, Flüchtlinge und Menschen mit Behinderung mit dem Ziel möglichst vielen Menschen die Faszination des Sportes spürren zu lassen. Ein Meilenstein der Stiftung war die Gründung der ersten Skischule für Menschen mit Behinderung in Sarajevo/Bosnien. Im Rahmen des Münchner Stiftungsfrühling stellt die Stiftung dieses und viele weitere geförderte Inklusionsprojekte in Europa vor. Zudem wird der neu gegründete „Freundeskreis Inklusion Tegernsee“ von dem alljährlich stattfindenden „Göttfried Inklusions-Skicup“ an den Hirschbergliften berichten. Alle Interessierten sind eingeladen am 23. März in die BMW Welt zu kommen\, wo der Vortrag von 16:00 bis 16:45 Uhr stattfinden wird. \nWeitere Informationen gibt es hier: Münchner Stiftungsfrühling-Schneesport Symposium \n  \n \n  \n  \nBildrechte: Thomas Schiffelmann
URL:https://www.bsv-ski.de/veranstaltung/schneesport-symposium-inklusion-im-schneesport/
LOCATION:Olympiapark München\, Am Olympiapark 1\, München\, Deutschland
CATEGORIES:Verband
END:VEVENT
BEGIN:VEVENT
DTSTART;VALUE=DATE:20190328
DTEND;VALUE=DATE:20190330
DTSTAMP:20260423T080723
CREATED:20190705T072632Z
LAST-MODIFIED:20190710T090307Z
UID:21496-1553731200-1553903999@www.bsv-ski.de
SUMMARY:Langlauf: Deutsche Meisterschaften in Oberwiesenthal
DESCRIPTION:Deutschlands beste Langläufer werden vom 28. bis 29. März den zweiten Teil der Deutschen Meisterschaften absolvieren. \nAuf dem Programm stehen die Massenstartrennen der Damen und Herren sowie die Vereinsstaffeln.
URL:https://www.bsv-ski.de/veranstaltung/langlauf-deutsche-meisterschaften-in-oberwiesenthal/
LOCATION:Salzburg
END:VEVENT
END:VCALENDAR