BEGIN:VCALENDAR
VERSION:2.0
PRODID:-//Bayerischer Skiverband e.V. - ECPv6.15.20//NONSGML v1.0//EN
CALSCALE:GREGORIAN
METHOD:PUBLISH
X-WR-CALNAME:Bayerischer Skiverband e.V.
X-ORIGINAL-URL:https://www.bsv-ski.de
X-WR-CALDESC:Veranstaltungen für Bayerischer Skiverband e.V.
REFRESH-INTERVAL;VALUE=DURATION:PT1H
X-Robots-Tag:noindex
X-PUBLISHED-TTL:PT1H
BEGIN:VTIMEZONE
TZID:Europe/Berlin
BEGIN:DAYLIGHT
TZOFFSETFROM:+0100
TZOFFSETTO:+0200
TZNAME:CEST
DTSTART:20180325T010000
END:DAYLIGHT
BEGIN:STANDARD
TZOFFSETFROM:+0200
TZOFFSETTO:+0100
TZNAME:CET
DTSTART:20181028T010000
END:STANDARD
BEGIN:DAYLIGHT
TZOFFSETFROM:+0100
TZOFFSETTO:+0200
TZNAME:CEST
DTSTART:20190331T010000
END:DAYLIGHT
BEGIN:STANDARD
TZOFFSETFROM:+0200
TZOFFSETTO:+0100
TZNAME:CET
DTSTART:20191027T010000
END:STANDARD
BEGIN:DAYLIGHT
TZOFFSETFROM:+0100
TZOFFSETTO:+0200
TZNAME:CEST
DTSTART:20200329T010000
END:DAYLIGHT
BEGIN:STANDARD
TZOFFSETFROM:+0200
TZOFFSETTO:+0100
TZNAME:CET
DTSTART:20201025T010000
END:STANDARD
END:VTIMEZONE
BEGIN:VEVENT
DTSTART;VALUE=DATE:20190525
DTEND;VALUE=DATE:20190526
DTSTAMP:20260423T052531
CREATED:20190418T113344Z
LAST-MODIFIED:20190520T095310Z
UID:20562-1558742400-1558828799@www.bsv-ski.de
SUMMARY:26. BSV Forum Nordisch/Biathlon
DESCRIPTION:Beim diesjährigen BSV Forum treffen sich Trainerinnen und Trainer bereits zum 26. Mal\, auch dieses Jahr wieder in Oberhaching\, um topaktuelle Themen zu diskutieren und sich in den angebotenen Workshops weiterzubilden. \nDieses Jahr wird das Angebot wieder disziplinspezifisch sein. \nDas BSV Forum alleine reicht nicht zur Lizenzverlängerung aus. Zur Lizenzverlängerung bitte für die Trainerfortbildung Nordisch/Biathlon anmelden\, hier ist das BSV Forum integriert. \nVoraussichtliches Programm: \n\n\n\nTermin:\nSamstag\, den 25.05.2019\n9.00 Uhr bis ca. 17.00 Uhr\n\n\nOrt:\nBLSV Sportschule Oberhaching\nIm Loh 2\, 82041 Oberhaching\nTel. 089/61384-0\n\n\n\nDie Kosten der Anreise sind selbst zu tragen.\n\n\n\nProgramm:\n\n\n\n09.00 Uhr\nBegrüßung\nDominik Feldmann\, stellv. Geschäftsführer (BSV)\n\n\n09.15 Uhr\nTrainings- und Bewegungswissenschaftliche Betrachtungsweise der Skilanglauftechnik\nProf. Dr. Thomas Stöggl\, Universität Salzburg\n\n\n11.15 Uhr\nAktuelle organisatorische Informationen für Trainerinnen und Trainer in Vereinen\nDominik Feldmann\n\n\n11.45 – 14.00 Uhr\nSportmesse und Mittagspause\nUnsere Partnerfirmen informieren über aktuelle Trends\n\n\n14.00 – 16.00 Uhr\nWorkshop-Option 1\nRTP Neu\, Belastungsrhythmus DSV Nachwuchs\, Intensitätsbereiche DSV Neu\, Stephan Popp (BSV)\n\n\n14.00 – 16.00 Uhr\nWorkshop-Option 2\nAnalysemöglichkeiten im Biathlon\, Stefan Laube (BSV)\n\n\n14.00 – 16.00\nWorkshop-Option 3\nSkisprungspezifische Inlinerausbildung\, Christian Raimund (BSV)\n\n\n\nEine Teilnahmegebühr wird nicht erhoben. Bitte Sportkleidung und Hallenturnschuhe mitbringen. \nHier geht`s zur Online-Anmeldung!\nAnmeldeschluss: Mittwoch\, der 22.05.2019.
URL:https://www.bsv-ski.de/veranstaltung/26-bsv-forum-nordisch-biathlon/
LOCATION:BLSV Sportschule Oberhaching\, Im Loh 2\, Oberhaching\, 82041\, Deutschland
CATEGORIES:Aus- und Fortbildung,Verband
ATTACH;FMTTYPE=image/png:https://www.bsv-ski.de/wp-content/uploads/2018/07/BSV_forum.png
ORGANIZER;CN="Bayerischer Skiverband e.V.":MAILTO:info@bsv-ski.de
END:VEVENT
BEGIN:VEVENT
DTSTART;VALUE=DATE:20190530
DTEND;VALUE=DATE:20190601
DTSTAMP:20260423T052531
CREATED:20190523T075725Z
LAST-MODIFIED:20190523T075725Z
UID:20967-1559174400-1559347199@www.bsv-ski.de
SUMMARY:Trainingscamp Ski-Inline in Nagold
DESCRIPTION:Vor den Deutschen Meisterschaften im Ski-Inline Parallel- und Riesenslalom in Nagold veranstaltet die ArGe Ski-Inline ein zweitägiges Trainingscamp. \n Wichtige Infos: \nTrainer: erfahrenes Trainerteam aus den Skiverbänden \n Teilnehmerkreis: Deutschland \nJahrgang 2007 und jünger: Startpass Ski-Inline eines Landesskiverbands Jahrgang \n2006 und älter: RennID der ArGe Ski-Inline (Status: Aktiv / Gast-Ticket möglich) \n Trainingsinhalt: Ski-Inline Renntraining \n Trainingsbeginn: am 30.05.2019\, Treffen 10.30 Uhr /Beginn 11.00 Uhr (genauer Trainingsort wird noch bekannt gegeben) am 31.05 2019 nach Bekanntgabe vor Ort \n Trainingsende: am 30./31.05.2019 jeweils variabel\, Bekanntgabe vor Ort in den Tagesbesprechungen Alle Teilnehmer erhalten vor Trainingsbeginn einen detaillierten Zeitplan \nVerpflegung/ Übernachtung: Die Unterbringung erfolgt grundsätzlich selbstständig. Leider steht in Nagold keine Unterkunft zur Verfügung\, die alle Teilnehmer aufnehmen kann. Die Mittagverpflegung  wird wie immer organisiert. Eltern/Begleiter die hieran teilnehmen wollen\, melden sich bei der Anmeldung ihres Kindes/Sportlers unter Anmerkungen bitte gleich mit an. Trainingsgetränke sind nicht enthalten. \nKostenbeitrag: Der Lehrgang wird wie üblich zum Selbstkostenpreis angeboten. Sobald uns die Teilnehmerzahl vorliegt werden wir den Lehrgang kalkulieren. In den Vorjahren konnten die Lehrgänge in der Regel zu einem Kostenbeitrag von 40\,– – 45\,– Euro angeboten werden. Der Lehrgangsbeitrag wird mit der Benennung und Lehrgangsbestätigung fällig und ist dann unverzüglich auf das in der Lehrgangsbestätigung benannte Konto zu zahlen \n Transport: Die Anreise sowie der Transport vor Ort ist auf eigene Veranlassung und Kosten durchzuführen. Die ArGe Ski-Inline wird versuchen hierbei Hilfestellungen zu geben und insbesondere die Transporte vor Ort versuchen zu koordinieren. Bitte geben Sie daher bei Eurer Meldung an\, ob Sie vor Ort beim Transport zu den Trainingsstrecken noch freie Plätze in Autos oder Bussen zur Verfügung stellen könnt. \n Durchführung: Für die Durchführung des Lehrgangs in der vorgenannten Form und zu überschaubaren Kosten ist eine Mindestteilnehmerzahl erforderlich. \nAnmeldung: bis zum Samstag\, dem 25.05.2019\, 20:00 Uhr verbindlich unter http://bit.ly/2YB4rEm. Die Teilnehmerzahl ist begrenzt. \n  \nWeitere Informationen finden Sie hier: Einladung_Training_Nagold_19
URL:https://www.bsv-ski.de/veranstaltung/trainingscamp-ski-inline-in-nagold/
LOCATION:Nagold
END:VEVENT
END:VCALENDAR