BEGIN:VCALENDAR
VERSION:2.0
PRODID:-//Bayerischer Skiverband e.V. - ECPv6.15.20//NONSGML v1.0//EN
CALSCALE:GREGORIAN
METHOD:PUBLISH
X-ORIGINAL-URL:https://www.bsv-ski.de
X-WR-CALDESC:Veranstaltungen für Bayerischer Skiverband e.V.
REFRESH-INTERVAL;VALUE=DURATION:PT1H
X-Robots-Tag:noindex
X-PUBLISHED-TTL:PT1H
BEGIN:VTIMEZONE
TZID:Europe/Berlin
BEGIN:DAYLIGHT
TZOFFSETFROM:+0100
TZOFFSETTO:+0200
TZNAME:CEST
DTSTART:20180325T010000
END:DAYLIGHT
BEGIN:STANDARD
TZOFFSETFROM:+0200
TZOFFSETTO:+0100
TZNAME:CET
DTSTART:20181028T010000
END:STANDARD
BEGIN:DAYLIGHT
TZOFFSETFROM:+0100
TZOFFSETTO:+0200
TZNAME:CEST
DTSTART:20190331T010000
END:DAYLIGHT
BEGIN:STANDARD
TZOFFSETFROM:+0200
TZOFFSETTO:+0100
TZNAME:CET
DTSTART:20191027T010000
END:STANDARD
BEGIN:DAYLIGHT
TZOFFSETFROM:+0100
TZOFFSETTO:+0200
TZNAME:CEST
DTSTART:20200329T010000
END:DAYLIGHT
BEGIN:STANDARD
TZOFFSETFROM:+0200
TZOFFSETTO:+0100
TZNAME:CET
DTSTART:20201025T010000
END:STANDARD
END:VTIMEZONE
BEGIN:VEVENT
DTSTART;VALUE=DATE:20190730
DTEND;VALUE=DATE:20190803
DTSTAMP:20260423T002044
CREATED:20190715T111327Z
LAST-MODIFIED:20190715T132118Z
UID:21597-1564444800-1564790399@www.bsv-ski.de
SUMMARY:Trainingscamp Ski-Inline Sommerferien
DESCRIPTION:GDie ArGe Ski-Inline wird im Sommer ein großes Trainingscamp veranstalten. Als Lehrgangsort ist die Ferienregion rund um den Reschenpass geplant. \nWichtige Infos:\n \nLehrgangsleitung: Andre Lehmann \nTrainingsleitung: Johann Rumpf \nTrainer: erfahrenes Trainerteam aus den Landesskiverbänden \nTeilnehmerkreis: Sportler der Jahrgänge 2013 und älter\, kein Anfängertraining \nTrainingsinhalt: Ski-Inline Renntraining \nTrainingsbeginn (Planung): \n\nam 30.07.2019 um 14.30 Uhr in der Region Reschen (genauer Trainingsort wird noch bekannt gegeben)\nam 31.07 2019 nach Bekanntgabe vor Ort\nam 01.08.2019 nach Bekanntgabe vor Ort\nam 02.08.2019 nach Bekanntgabe vor Ort\n\n  \nTrainingsende: \n\nam 30.07. bis 02.08.2019 jeweils variabel\, Bekanntgabe vor Ort\nam 02.08.2019 vorher Abschlussveranstaltung und Abschlussbesprechung\nalle Teilnehmer erhalten vor Trainingsbeginn einen detaillierten Zeitplan\n\n  \nVerpflegung: Die Unterbringung erfolgt grundsätzlich selbstständig. Die Mittagverpflegung wird organisiert. Eltern/Begleiter die hieran teilnehmen wollen\, melden sich bei der Anmeldung ihres Kindes/Sportlers bitte unter Punkt Anmerkungen gleich mit an. \nÜbernachtung: Bitte gebt Euer Interesse unverbindlich in der Anmeldung mit an. Da die Preise stark von der tatsächlichen Übernachtungszahl abhängig sind\, erleichtert eine schnelle Anmeldung die Preisverhandlung und die Gestaltung eines guten Angebots. Entsprechende Fragen sind im Formular zur Anmeldung enthalten. \nTransport: Die Anreise sowie der Transport vor Ort ist auf eigene Veranlassung und Kosten durchzuführen. Bitte gebt bei Eurer Meldung an\, ob ihr vor Ort beim Transport zu den Trainingsstrecken noch freie Plätze in Autos oder Bussen zur Verfügung stellen könnt. \nDurchführung: Für die Durchführung des Lehrgangs in der vorgenannten Form\, ist eine Mindestteilnehmerzahl erforderlich. \nAnmeldung: verbindlich online unter http://bit.ly/2FtCl6K. Die Teilnehmerzahl ist begrenzt. \n Weitere Informationen finden Sie hier: Sommerferien_Trainingscamp_2019
URL:https://www.bsv-ski.de/veranstaltung/trainingscamp-ski-inline-sommerferien/
LOCATION:Salzburg
END:VEVENT
BEGIN:VEVENT
DTSTART;VALUE=DATE:20190809
DTEND;VALUE=DATE:20190811
DTSTAMP:20260423T002044
CREATED:20190808T105949Z
LAST-MODIFIED:20190808T110522Z
UID:21958-1565308800-1565481599@www.bsv-ski.de
SUMMARY:OPA-Women Alpencup 2019
DESCRIPTION:OPA-Women Alpencup 2019 – Internationale Damenskispringen am Freitag\, 9. und Samstag\, 10. August in Bischofsgrün \nFür die beiden Wettkampftage am Freitag und Samstag sind 61 Skispringerinnen von 13 bis 19 Jahren gemeldet. Davon sind es 34 die in der Nordischen Kombination starten. Das heißt\, dass diese zusätzlich am Freitag um 19 Uhr sich zu einem 3 km Skirollerwettbewerb auf der Neubauer Rollerbahn messen. \nErgebnislisten über: http://opa-alpencup.com/ \nDer Zeitplan für die zwei Tage: \nFreitag\, 9. August 2019: \n\n14:30 Uhr  Offizielles Training\nanschl. 1. Wertungsdurchgang Sprunglauf und Nord. Kombination\nanschl. Sprunglauf Finaldurchgang\n19:00 Uhr Skirollerlauf für Nord. Kombination in Neubau\, 3 km\n20:00 Uhr Begrüßung der teilnehmenden Nation am Marktplatz in Bischofsgrün\n\nSamstag\, 10. August 2019: \n\n10:30 Uhr Probedurchgang\n11:30 Uhr 2. Wettkampf Sprunglauf (2 Wertungsdurchgänge)\nanschl. Siegerehrung (Tageswertungen Sprung für beide Tage\, Nord. Kombination und Tourneewertung)
URL:https://www.bsv-ski.de/veranstaltung/opa-women-alpencup-2019/
LOCATION:Ochsenkopfschanzen in Bischofsgrün\, Bischofsgrün\, 95493\, Deutschland
END:VEVENT
END:VCALENDAR