BEGIN:VCALENDAR
VERSION:2.0
PRODID:-//Bayerischer Skiverband e.V. - ECPv6.15.20//NONSGML v1.0//EN
CALSCALE:GREGORIAN
METHOD:PUBLISH
X-ORIGINAL-URL:https://www.bsv-ski.de
X-WR-CALDESC:Veranstaltungen für Bayerischer Skiverband e.V.
REFRESH-INTERVAL;VALUE=DURATION:PT1H
X-Robots-Tag:noindex
X-PUBLISHED-TTL:PT1H
BEGIN:VTIMEZONE
TZID:Europe/Berlin
BEGIN:DAYLIGHT
TZOFFSETFROM:+0100
TZOFFSETTO:+0200
TZNAME:CEST
DTSTART:20180325T010000
END:DAYLIGHT
BEGIN:STANDARD
TZOFFSETFROM:+0200
TZOFFSETTO:+0100
TZNAME:CET
DTSTART:20181028T010000
END:STANDARD
BEGIN:DAYLIGHT
TZOFFSETFROM:+0100
TZOFFSETTO:+0200
TZNAME:CEST
DTSTART:20190331T010000
END:DAYLIGHT
BEGIN:STANDARD
TZOFFSETFROM:+0200
TZOFFSETTO:+0100
TZNAME:CET
DTSTART:20191027T010000
END:STANDARD
BEGIN:DAYLIGHT
TZOFFSETFROM:+0100
TZOFFSETTO:+0200
TZNAME:CEST
DTSTART:20200329T010000
END:DAYLIGHT
BEGIN:STANDARD
TZOFFSETFROM:+0200
TZOFFSETTO:+0100
TZNAME:CET
DTSTART:20201025T010000
END:STANDARD
END:VTIMEZONE
BEGIN:VEVENT
DTSTART;VALUE=DATE:20190906
DTEND;VALUE=DATE:20190909
DTSTAMP:20260422T225042
CREATED:20190705T064759Z
LAST-MODIFIED:20190705T071100Z
UID:21489-1567728000-1567987199@www.bsv-ski.de
SUMMARY:Deutsche Meisterschaften Biathlon im Bayerischen Wald
DESCRIPTION:Für die deutschen Skijäger geht es vom 6. bis 8. September in den Bayerischen Wald. Dort wird der erste Teil der Deutschen Meisterschaften stattfinden. \nIm „ARBER Hohenzollen Skistadion“ werden die besten nationalen Biathlondamen- und Herren den Sprint und die Verfolgung ausgetragen. Während am Freitag nur ein Training stattfindet\, geht es am Wochenende mit dem Sprint am Samstag und der Verfolgung am Sonntag um die Medaillen. \nDie Wettbewerbe im Massenstart und der Staffel folgen vom 13. bis 15. Oktober in Ruhpolding.
URL:https://www.bsv-ski.de/veranstaltung/deutsche-meisterschaften-biathlon-im-bayerischen-wald/
LOCATION:Salzburg
END:VEVENT
BEGIN:VEVENT
DTSTART;VALUE=DATE:20190906
DTEND;VALUE=DATE:20190909
DTSTAMP:20260422T225042
CREATED:20190816T093133Z
LAST-MODIFIED:20190816T095413Z
UID:22146-1567728000-1567987199@www.bsv-ski.de
SUMMARY:DSV Jugendcup/Deutschlandpokal/Deutsche Jugendmeisterschaft Skisprung und nordische Kombination in Berchtesgaden und Ruhpolding
DESCRIPTION:Am Wochenende\, vom 6. – 8. September 2019\, findet der DSV Jugendcup/Deutschlandpokal/\nDeutsche Jugendmeisterschaft im Skisprung und der nordischen Kombination in Berchtesgaden und Ruhpolding statt. \nDas Wettkampfwochenende startet am Freitag mit dem freien Training ab 9:00 Uhr. Abends findet die Mannschaftsführersitzung statt. \nAm Samstag geht es um 9:00 Uhr mit dem offiziellen Trainingssprung (NoKo Damen\, NoKo Herren\, SP Damen) los. Im Anschluss starten die Wertungsdurchgänge. Nach der Siegerehrung geht es um 13:00 Uhr mit dem offiziellen Trainingssprung (1 Durchgang) der Herren (SP) los. Danach gibt es zwei Wertungsdurchgänge und am Ende die Siegerehrung. \nIn Ruhpolding geht es am Samstag um 15:00 Uhr mit dem Lauf der Damen der NoKo los\, im Anschluss starten die NoKo Herren. Sobald diese auch im Ziel sind\, findet die Siegerehrung statt. \nDer Sonntag\, 08.09.2019 geht bereits um 08:30 mit dem Probedurchgang SP Damen\, NoKo Damen und NoKo Herren los. Im Anschluss starten die Wertungsdurchgänge. Siegerehrung der SP Damen ist im Anschluss. \nUm 11:00 Uhr starten dann die Herren mit dem Probedurchgang und den Wertungssprüngen. \nDie Läufe in Ruhpolding starten um 13:00 mit den Damen. Im Anschluss starten die Herren auf die Strecke. \nDanach findet die Siegerehrung der Nordischen Kombination statt \nAnbei finden Sie die offizielle Einladung und Ausschreibung. \nAusschreibung
URL:https://www.bsv-ski.de/veranstaltung/dsv-jugendcup-deutschlandpokal-deutsche-jugendmeisterschaft-skisprung-und-nordische-kombination-in-berchtesgaden-und-ruhpolding/
LOCATION:Chiemgau Arena\, Biathlonzentrum 1\, Ruhpolding\, 83324 \, Deutschland
END:VEVENT
BEGIN:VEVENT
DTSTART;VALUE=DATE:20190908
DTEND;VALUE=DATE:20190909
DTSTAMP:20260422T225042
CREATED:20190814T080649Z
LAST-MODIFIED:20190910T064948Z
UID:22043-1567900800-1567987199@www.bsv-ski.de
SUMMARY:16. Kloster Kreuzbergpokal
DESCRIPTION:Dieses Jahr findet zum 16. Mal der Kloster Kreuzbergpokal im Skispringen am 08. September 2019 in Haselbach/Rhön statt. \nBereits am Samstag\, dem 07. September 2019\, gibt es die Möglichkeit eines freien Trainings\, je nach Wetterlage. \nAm Sonntag\, dem 08. September\, geht es um 10 Uhr mit der Ausgabe der Startnummern los. \nDanach läuft das offizielle Training bis um 12:30. \nNach der Mannschaftsführersitzung geht es um 13 Uhr dann mit den Wertungssprüngen los. Jeder Athlet hat 2 Wertungssprünge. \nZum Abschluss des 16. Kloster Kreuzpokals findet die Siegerehrung statt. \nKloster Kreuzbergpokal Einladung und Ausschreibung2019 \n  \nDas sind die Ergebnisse vom Kloster Kreuzberg Pokal 2019: \nErgebnisliste Kloster Kreuzberg Pokal 2019
URL:https://www.bsv-ski.de/veranstaltung/16-kloster-kreuzbergpokal/
LOCATION:Kreuzberg Arena\, Haselbach in der Rhön\, Deutschland
END:VEVENT
BEGIN:VEVENT
DTSTART;VALUE=DATE:20190912
DTEND;VALUE=DATE:20190916
DTSTAMP:20260422T225042
CREATED:20190719T063517Z
LAST-MODIFIED:20190719T064206Z
UID:21657-1568246400-1568591999@www.bsv-ski.de
SUMMARY:Deutsche Biathlon Meisterschaft in Ruhpolding
DESCRIPTION:In Ruhpolding startet die Biathlonsaison bereits im vor dem ersten Schneefall: vom 13. bis 15. September finden die Deutschen Biathlon Meisterschaften in der Chiemgau Arena statt. Um auch ohne Schnee voran zu kommen\, werden bei den Rennen die Skier gegen Skiroller getauscht. Damit ausgestattet messen sich die besten deutschen Athleten in Sachen Schnelligkeit und Treffsicherheit. (Bild: Ruhpolding Tourismus GmbH – Andreas Plenk)\n \n  \n  \n[WPSM_AC_SH id=21659] \n Eintrittspreise: \nNormalpreis 9 € \nermäßigter Preis 6 €  (gültig für Jugendliche von 11-17\, Personen mit Schwerbehinderung) \nKinder bis 10 Jahre kostenfrei \n  \nWeitere Informationen finden Sie hier: Ausschreibung
URL:https://www.bsv-ski.de/veranstaltung/deutsche-biathlon-meisterschaft-in-ruhpolding/
LOCATION:Chiemgau Arena\, Biathlonzentrum 1\, Ruhpolding\, 83324 \, Deutschland
ATTACH;FMTTYPE=image/jpeg:https://www.bsv-ski.de/wp-content/uploads/2019/07/CGA_20771_Grafiken-Ticketshop-DM_fb-Titelbild_0719a1-scaled.jpg
END:VEVENT
BEGIN:VEVENT
DTSTART;TZID=Europe/Berlin:20190912T080000
DTEND;TZID=Europe/Berlin:20190912T170000
DTSTAMP:20260422T225042
CREATED:20190912T085449Z
LAST-MODIFIED:20190912T085449Z
UID:22458-1568275200-1568307600@www.bsv-ski.de
SUMMARY:Bayerncup Biathlon mit RWS-Wertung
DESCRIPTION:Am Samstag\, dem 14.09. und Sonntag\, dem 15.09\, findet der Bayerncup Biathlon in Neubau statt. \nAm Samstag Nachmittag startet um 16 Uhr der Massenstart (Berglauf)\,am Sonntag um 11:30 der Massensprint. \nStartberechtigt sind Schnupperer S11-S13 und Schüler der Klassen S 12–S 15\, die einem Mitgliedsverein des BSV angehören und im Besitz einer gültigen Racecard sind. \nAusschreibung RWS-Cup 2019
URL:https://www.bsv-ski.de/veranstaltung/bayerncup-biathlon-mit-rws-wertung/
LOCATION:Salzburg
END:VEVENT
BEGIN:VEVENT
DTSTART;TZID=Europe/Berlin:20190914T093000
DTEND;TZID=Europe/Berlin:20190915T160000
DTSTAMP:20260422T225042
CREATED:20190912T085438Z
LAST-MODIFIED:20190918T064427Z
UID:22452-1568453400-1568563200@www.bsv-ski.de
SUMMARY:Bayerischer Schülercup im Skispringen und Nordischer Kombination in Bischofsgrün und Neubau
DESCRIPTION:Am 14.09 und 15.09.2019 kommen Bayerns beste nordische Nachwuchsathleten wieder nach Bischofsgrün. \nDas Wettkampfwochenende startet mit dem Freien Training im Skispringen und der Besichtigung der Rollerbahn. Um 17 Uhr startet dann der Sprungwettkampf mit anschließender Siegerehrung. \nAm Sonntag geht es mit weiteren Sprungwettkämpfen weiter\, ab 13:30 starten die Laufwettbewerbe der Nordischen Kombination. Zum Abschluss findet die Siegerehrung der Nordischen Kombination statt. \nEingeladen sind vom Bayerischen Skiverband auch die deutschen Nordverbände wie Sachsen-Anhalt\, Brandenburg und Hessischer- und Westdeutscher Skiverband. \nAusschreibung BSC Bischofsgrün_Neubau 14._15.09.2019 final \n  \nHier nun die Ergebnisse vom Wochenende: \nPokal-Wertung Nordische Kombination \nPokal-Wertung Skispringen \nErgebnisliste NK \nErgebnisliste SSP
URL:https://www.bsv-ski.de/veranstaltung/bayerischer-schuelercup-im-skispringen-und-nordischer-kombination-in-bischofsgruen-und-neubau/
LOCATION:Bischofsgrün
CATEGORIES:Bayerischer Schülercup
ATTACH;FMTTYPE=image/jpeg:https://www.bsv-ski.de/wp-content/uploads/2019/09/19-08-16-SCB_NordKombination_A2_LY2.jpg
END:VEVENT
BEGIN:VEVENT
DTSTART;TZID=Europe/Berlin:20190915T100000
DTEND;TZID=Europe/Berlin:20190915T180000
DTSTAMP:20260422T225042
CREATED:20190913T072237Z
LAST-MODIFIED:20190913T072515Z
UID:22464-1568541600-1568570400@www.bsv-ski.de
SUMMARY:Münchner Outdoorsportfestival
DESCRIPTION:Am 15. September findet bereits zum vierten Mal im Olympiapark das Münchner Outdoorsportfestival statt. \nVon 10.00 bis 18:00 können im Olympiapark über 50 verschiedene Outdooraktivitäten ausprobiert werden. Der Bayerische Skiverband ist natürlich auch wieder mit seiner Skisprungschanze dabei. Also kommt vorbei und springt ins neue Schuljahr. \n2018 erlebten rund 55.000 Besucherinnen und Besucher aller Altersstufen beim M-net Münchner Outdoorsportfestival einen Tag voller einmaliger Erfahrungen. Und so soll es auch heuer wieder sein. Das Referat für Bildung und Sport der Landeshauptstadt München und die Olympiapark München GmbH laden erneut alle Sportinteressierten ein\, ein attraktives Programm rund ums Thema Outdoorsport zu erleben. „Spielwiese“ ist wieder der gesamte Park. Überall warten sportliche Mitmachangebote und Infotainment auf die Münchnerinnen und Münchner – und das alles bei freiem Eintritt! \nBerg-\, Wasser-\, Trend- und Actionsport – aber auch etablierte\, klassische Sportarten finden bei diesem beliebten Event\, der zur Familie der Münchner Sportfestivals gehört\, im Park ideale Präsentationsplattformen – auf dem Olympiasee\, am Olympiaberg\, im Olympiastadion und auf dem Coubertinplatz. \nUnd es darf auch wieder geflogen werden. Denn zu den Programm-Highlights des M-net Münchner Outdoorsportfestivals gehört auch in diesem Jahr der 400 Meter lange M-net Flying Fox – mit Start am Olympiaberg und Ziel auf dem Rasen vor der Olympia-Schwimmhalle. Dieser Flug ist ohne Zweifel ein ganz außergewöhnliches Erlebnis bei dem Event\, der in Sachen Outdoorsport nahezu alles präsentiert\, was die Münchner Szene zu bieten hat: So vermitteln beispielsweise professionelle Trainerinnen und Trainer am Olympiaberg die ersten Schritte zum Gleitschirmfliegen. Auf dem Olympiasee präsentiert der Wasserpark verschiedene Sportarten\, wie Stand-up Paddling\, Rudern oder Segeln. Ein umfangreiches Sportangebot für jede Jahreszeit steht zusätzlich auf dem Coubertinplatz bereit. Dabei versprechen eine mobile Skisprunganlage oder die Eiskletterwand den ultimativen Adrenalinschub … Und das sind nur einige Beispiele des erlebnisreichen Angebots. Insgesamt bieten rund 60 Sport-Partner\, darunter Vereine\, Verbände und Institutionen Mitmachprogramme\, Demonstrationen und Infotainment – gemäß dem Motto: Sei dabei und entdecke Deinen Sport! \nHier noch mal alle Locations im Überblick: \nCoubertinplatz: Umfangreiches Outdoorsport-Angebot aus den Bereichen Berg-\, Trend- und Actionsport wie Bouldern\, Klettern\, Mountainbiken oder Parcouring \nOlympiasee: zahlreiche Wassersportarten wie Stand-Up Paddling\, Ruder-Achter\, Kanu\, Windsurfen und vieles mehr \nOlympiastadion: Schnuppertouren auf dem Olympia-Zeltdach; Flying Fox sowie atemberaubende Action in schwindelerregender Höhe auf der Highline (Slackline) \nOlympiaberg: mit den Mountainkarts\, Dirtrollern\, Mountainskyvern und Bockerln zur Talabfahrt. Auf dem Berg gibt es das Fit im Park Programm\, Yoga\, einen Hochseilgarten und Bodenübungen mit Gleitschirmen zu entdecken \nAlle Locations und Details findet ihr noch mal auf: \nhttps://www.muenchner-sportfestivals.de/muenchner-outdoorsportfestival/
URL:https://www.bsv-ski.de/veranstaltung/muenchner-outdoorsportfestival/
LOCATION:Olympiapark München\, Am Olympiapark 1\, München\, Deutschland
CATEGORIES:Verband
END:VEVENT
END:VCALENDAR