BEGIN:VCALENDAR
VERSION:2.0
PRODID:-//Bayerischer Skiverband e.V. - ECPv6.15.20//NONSGML v1.0//EN
CALSCALE:GREGORIAN
METHOD:PUBLISH
X-WR-CALNAME:Bayerischer Skiverband e.V.
X-ORIGINAL-URL:https://www.bsv-ski.de
X-WR-CALDESC:Veranstaltungen für Bayerischer Skiverband e.V.
REFRESH-INTERVAL;VALUE=DURATION:PT1H
X-Robots-Tag:noindex
X-PUBLISHED-TTL:PT1H
BEGIN:VTIMEZONE
TZID:Europe/Berlin
BEGIN:DAYLIGHT
TZOFFSETFROM:+0100
TZOFFSETTO:+0200
TZNAME:CEST
DTSTART:20180325T010000
END:DAYLIGHT
BEGIN:STANDARD
TZOFFSETFROM:+0200
TZOFFSETTO:+0100
TZNAME:CET
DTSTART:20181028T010000
END:STANDARD
BEGIN:DAYLIGHT
TZOFFSETFROM:+0100
TZOFFSETTO:+0200
TZNAME:CEST
DTSTART:20190331T010000
END:DAYLIGHT
BEGIN:STANDARD
TZOFFSETFROM:+0200
TZOFFSETTO:+0100
TZNAME:CET
DTSTART:20191027T010000
END:STANDARD
BEGIN:DAYLIGHT
TZOFFSETFROM:+0100
TZOFFSETTO:+0200
TZNAME:CEST
DTSTART:20200329T010000
END:DAYLIGHT
BEGIN:STANDARD
TZOFFSETFROM:+0200
TZOFFSETTO:+0100
TZNAME:CET
DTSTART:20201025T010000
END:STANDARD
END:VTIMEZONE
BEGIN:VEVENT
DTSTART;VALUE=DATE:20191205
DTEND;VALUE=DATE:20191209
DTSTAMP:20260422T181745
CREATED:20191028T073555Z
LAST-MODIFIED:20191028T073754Z
UID:23171-1575504000-1575849599@www.bsv-ski.de
SUMMARY:Biathlon Alpencup in Obertilliach (AUT)
DESCRIPTION:Vom 05. bis zum 08.12.2019 findet in Obertilliach (AUT) der Biathlon Alpencup statt. \nHier finden Sie die Ausschreibung dazu und alle weiteren Infos \nAusschreibung Alpencup Biathlon
URL:https://www.bsv-ski.de/veranstaltung/biathlon-alpencup-obertilliach-aut/
LOCATION:Obertilliach\, Österreich
END:VEVENT
BEGIN:VEVENT
DTSTART;VALUE=DATE:20191213
DTEND;VALUE=DATE:20191216
DTSTAMP:20260422T181745
CREATED:20190926T110329Z
LAST-MODIFIED:20191204T115720Z
UID:22702-1576195200-1576454399@www.bsv-ski.de
SUMMARY:Bayerischer Schülercup in Rastbüchl
DESCRIPTION:Vom 13. bis zum 15.12 findet der Bayerische Schülercup in Rastbüchl statt. \nHier ist die Ausschreibung \nAusschreibung Rastbüchl
URL:https://www.bsv-ski.de/veranstaltung/bayerischer-schuelercup-rastbuehl/
LOCATION:Rastbüchl
CATEGORIES:Bayerischer Schülercup
END:VEVENT
BEGIN:VEVENT
DTSTART;VALUE=DATE:20191213
DTEND;VALUE=DATE:20191216
DTSTAMP:20260422T181745
CREATED:20191210T072437Z
LAST-MODIFIED:20200102T180858Z
UID:23768-1576195200-1576454399@www.bsv-ski.de
SUMMARY:2. Deutschlandpokal Biathlon in Martell\, ITA
DESCRIPTION:In Martell findet vom 13. bis 15. Dezember 2019 der Deutschland Pokal Biathlon statt. \nAusschreibung DP Martell
URL:https://www.bsv-ski.de/veranstaltung/2-deutschlandpokal-biathlon-in-martell-ita/
LOCATION:Salzburg
CATEGORIES:Deutschlandpokal
END:VEVENT
BEGIN:VEVENT
DTSTART;VALUE=DATE:20191221
DTEND;VALUE=DATE:20191223
DTSTAMP:20260422T181745
CREATED:20190926T115009Z
LAST-MODIFIED:20200102T180135Z
UID:22714-1576886400-1577059199@www.bsv-ski.de
SUMMARY:-ABSAGE- Deutscher Schülercup in Rastbüchl
DESCRIPTION:Vom 20. bis zum 22.12.2020 findet der Deutscher Schülercup in Rastbüchl stat. \nDSC Rastbüchl \nDer Nachholtermin ist für den 3.-5.01.2020 geplant
URL:https://www.bsv-ski.de/veranstaltung/deutscher-schuelercup-gross-in-rastbuechl-2/
LOCATION:Rastbüchl
CATEGORIES:Deutscher Schülercup
END:VEVENT
BEGIN:VEVENT
DTSTART;VALUE=DATE:20191221
DTEND;VALUE=DATE:20191223
DTSTAMP:20260422T181745
CREATED:20191209T083252Z
LAST-MODIFIED:20200102T180001Z
UID:23757-1576886400-1577059199@www.bsv-ski.de
SUMMARY:Bayern Cup Biathlon in Ruhpolding / Chiemgau Arena
DESCRIPTION:Am 21.-22.12.2019 findet der Bayern Cup Biathlon in Ruhpolding / Chiemgau Arena statt. \n  \nAnbei finden Sie die Einladung und Ausschreibung sowie die Meldeliste. \nEinladung und Ausschreibung BC Ruhpolding 2019 \n  \nMeldeliste
URL:https://www.bsv-ski.de/veranstaltung/bayern-cup-biathlon-in-ruhpolding-chiemgau-arena/
LOCATION:Chiemgau Arena\, Biathlonzentrum 1\, Ruhpolding\, 83324 \, Deutschland
CATEGORIES:Bayerischer Schülercup
END:VEVENT
BEGIN:VEVENT
DTSTART;VALUE=DATE:20191226
DTEND;VALUE=DATE:20191231
DTSTAMP:20260422T181745
CREATED:20190715T125608Z
LAST-MODIFIED:20200102T175849Z
UID:21620-1577318400-1577750399@www.bsv-ski.de
SUMMARY:ArGe Renntraining und Skischul-Schnuppercamp
DESCRIPTION:Die ArGe Ski-Inline veranstaltet vom 26. bis 30.12 ein Renntraining und Skischul-Schnuppercamp. Freifahr- u. Renntraining ist hierbei getrennt buchbar. \nRenn- und Trainingscamp-Infos: \nLehrgangsleitung: Andre Lehmann \nTrainingsleitung: Georg Meeh \nTrainerteam: erfahrene und erfolgreiche Trainer/Sportler der Landesskiverbände \nTeilnehmerkreis: Sportler der Jahrgänge 2013 und älter \n(es erfolgt eine Einteilung in alters- und leistungsgerechte Gruppen) \nTrainingsinhalte (bitte individuell auswählen): \nSki Alpin Renntraining (Stangen- und Techniktraining) \nEs wird darauf geachtet\, die Kids und Teens altersgerecht „sauber“ auf den Ski zu stellen. Parallel zu den „Profis“ kommen also auch die jüngeren Sportler oder Einsteiger ins alpine Renngeschäft bei diesem Angebot voll auf ihre Kosten. Aufgrund der zu erwartenden Möglichkeiten vor Ort (Schnee- und Pistenverhältnisse) werden sich bei diesem Lehrgang intensives Training im SL/RSL -Parcours und Techniktraining in etwa die Waage halten \n  \nSki Alpin Fahr- und Skischulschnuppertraining \n(ausschließlich Freifahr-Techniktraining\, ab 12 Jahre\, KEINE SKISCHULE) \nBei diesem Training geht es vor allem darum Euer eigenes Können auf Ski zu verbessern und Euch altersgerecht skitechnisch weiter zu entwickeln. Versierte Trainer werden Euch zudem zeigen\, wie viel Spaß es macht\, anderen gutes Skifahren beizubringen und Euch erste Tipps hierfür mit auf den Weg geben. \n  \nTrainingsbeginn (vorläufige Planung) : \n\n26.12.2019 um 19:30 Uhr; Begrüßung/Einteilung (Ort: Lehrgangshotel) (Übernachtungsgäste im Lehrgangshotel: Anreise bis 17:30 Uhr)\n27.12.2019 um 08.15 Uhr Zell am See / Kaprun (AUT) (genauer Trainingsort wird noch bekannt gegeben)\n28.12 2019 bis 30.12.2019 nach Bekanntgabe vor Ort\n\n  \nTrainingsende: \n\ntäglich variabel vor Ort\nam 30.12.2019 spätestens 15.00 Uhr\,\nalle Teilnehmer erhalten vor Trainingsbeginn einen detaillierten Zeitplan\n\n  \nÜbernachtung: \nDie Unterbringung ist grundsätzlich jedem freigestellt. Es wird eine zentrale Lehrgangsunterkunft zu günstigen Preisen angeboten. Der Preisrahmen bei Vollverpflegung wird sich in etwa wie folgt bewegen: \nKinder/Jugendliche (17 Jahre)              circa EUR 40\,– bis 42\,– \nErwachsene (18 J. + älter)                     circa EUR 50\,– \nBei Verzicht auf das Lunchpaket reduziert sich der Betrag um EUR 4\,50. EZ/DZ-Zuschlag EUR 5\,– Erw./Nacht. \n Zeitnahe Anmeldung ist für die Unterbringung in der Unterkunft unbedingt erforderlich. \nKostenbeitrag: \nDer Lehrgang wird zum Selbstkostenpreis angeboten. Sobald die die genaue Teilnehmerzahl vorliegt wird der Lehrgang final kalkuliert. Aufgrund der bisherigen Erfahrungen wird von einer Lehrgangsumlage von max. EUR 32\,50 täglich\, also insgesamt EUR 130\,– ausgegangen. Der Lehrgangsbeitrag wird mit der Benennung und Lehrgangsbestätigung fällig und ist dann unverzüglich auf das in der Lehrgangsbestätigung benannte Konto zu zahlen. \nSkipasspreise: \nNachstehend die letztjährigen Skipasspreise für 4 Tage exkl. EUR 2\,– Pfand für Keycard. Bitte rechnet mit einer ca. 5%igen Steigerung!!! Bei entsprechender Teilnehmerzahl wird versucht ein Nachlass auszuhandeln. \nEUR     0\,–       Kinder (Jg. 2012 und jünger) \nEUR   96\,–        Kids/Teens (Jg. 2002 – 2011) \nEUR 144\,–        Jugend (Jg. 1999 – 2001) \nEUR 192\,–        Erwachsene (Jg. 1998 und älter) \nTransport: Die Anreise sowie der Transport vor Ort ist auf eigene Veranlassung und Kosten durchzuführen. Es wird versucht\, hierbei Hilfestellungen zu geben und insbesondere die Transporte vor Ort zu koordinieren. Bitte gebt daher bei Eurer Meldung an\, ob Ihr vor Ort beim Transport zu den Trainingsstrecken noch freie Plätze zur Verfügung stellen könnt. \nDurchführung: Für die Durchführung des Lehrgangs in der vorgenannten Form/Kosten\, ist eine Mindestteilnehmerzahl von 16 Sportlern je Lehrgangsinhalt erforderlich. Sollte die Mindestteilnehmerzahl bis zum 30. August 2019 nicht erreicht sein\, behalten sich die Organisatoren die Absage (Teilabsage) des Lehrgangs vor. \nAbschließende detaillierte Lehrgangsinformationen mit genauen Zeiten\, Orten\, Einteilungen\, etc. erhaltet Ihr wie immer mit der personalisierten Lehrgangseinladung ausreichend frühzeitig vor Lehrgangsbeginn. \nAnmeldung: verbindlich unter: http://bit.ly/WeihnachtsRC19. Die Teilnehmerzahl ist begrenzt\, es entscheidet  die Reihenfolge der Anmeldung. \nWeitere Informationen finden Sie hier Einladung_Weihnachtscamp_2019 \n  \n 
URL:https://www.bsv-ski.de/veranstaltung/arge-renntraining-und-skischul-schnuppercamp/
LOCATION:Salzburg
CATEGORIES:ArGe Ski-Inline
END:VEVENT
END:VCALENDAR