BEGIN:VCALENDAR
VERSION:2.0
PRODID:-//Bayerischer Skiverband e.V. - ECPv6.15.20//NONSGML v1.0//EN
CALSCALE:GREGORIAN
METHOD:PUBLISH
X-WR-CALNAME:Bayerischer Skiverband e.V.
X-ORIGINAL-URL:https://www.bsv-ski.de
X-WR-CALDESC:Veranstaltungen für Bayerischer Skiverband e.V.
REFRESH-INTERVAL;VALUE=DURATION:PT1H
X-Robots-Tag:noindex
X-PUBLISHED-TTL:PT1H
BEGIN:VTIMEZONE
TZID:Europe/Berlin
BEGIN:DAYLIGHT
TZOFFSETFROM:+0100
TZOFFSETTO:+0200
TZNAME:CEST
DTSTART:20190331T010000
END:DAYLIGHT
BEGIN:STANDARD
TZOFFSETFROM:+0200
TZOFFSETTO:+0100
TZNAME:CET
DTSTART:20191027T010000
END:STANDARD
BEGIN:DAYLIGHT
TZOFFSETFROM:+0100
TZOFFSETTO:+0200
TZNAME:CEST
DTSTART:20200329T010000
END:DAYLIGHT
BEGIN:STANDARD
TZOFFSETFROM:+0200
TZOFFSETTO:+0100
TZNAME:CET
DTSTART:20201025T010000
END:STANDARD
BEGIN:DAYLIGHT
TZOFFSETFROM:+0100
TZOFFSETTO:+0200
TZNAME:CEST
DTSTART:20210328T010000
END:DAYLIGHT
BEGIN:STANDARD
TZOFFSETFROM:+0200
TZOFFSETTO:+0100
TZNAME:CET
DTSTART:20211031T010000
END:STANDARD
END:VTIMEZONE
BEGIN:VEVENT
DTSTART;VALUE=DATE:20200103
DTEND;VALUE=DATE:20200106
DTSTAMP:20260422T164711
CREATED:20190926T110953Z
LAST-MODIFIED:20200107T090746Z
UID:22705-1578009600-1578268799@www.bsv-ski.de
SUMMARY:Bayerischer Schülercup in Berchtesgarden
DESCRIPTION:Vom 04. bis zum 05.01.2020 fand der Bayerische Schülercup in Berchtesgarden statt (Jahrgänge 2010 – 2005). \n \nHier finden Sie die Ergebnisse:\nErgebnisliste
URL:https://www.bsv-ski.de/veranstaltung/bayerischer-schuelercup-in-berchtesgarden/
LOCATION:Berchtesgaden\, Berchtesgaden\, 83484\, Deutschland
CATEGORIES:Bayerischer Schülercup
END:VEVENT
BEGIN:VEVENT
DTSTART;VALUE=DATE:20200103
DTEND;VALUE=DATE:20200106
DTSTAMP:20260422T164711
CREATED:20191218T151059Z
LAST-MODIFIED:20200102T175544Z
UID:23893-1578009600-1578268799@www.bsv-ski.de
SUMMARY:-Nachholtermin- Deutscher Schülercup in Rastbüchl
DESCRIPTION:Leider musste im Dezember der Deutschen Schülercup in Rastbüchl abgesagt werden.\nDer Nachholtermin ist für den 3.-5.01.2020 geplant
URL:https://www.bsv-ski.de/veranstaltung/nachholtermin-deutscher-schuelercup-in-rastbuechl/
LOCATION:Breitenberg / Rastbüchl\, 94139\, Deutschland
CATEGORIES:Deutscher Schülercup
END:VEVENT
BEGIN:VEVENT
DTSTART;VALUE=DATE:20200110
DTEND;VALUE=DATE:20200113
DTSTAMP:20260422T164711
CREATED:20191216T153445Z
LAST-MODIFIED:20200102T175417Z
UID:23846-1578614400-1578873599@www.bsv-ski.de
SUMMARY:DKB-Deutschlandpokal und LEONTEQ Biathlon Cup Biathlon im Nordic-Center-Notschrei / Todtnau
DESCRIPTION:Vom 10.-12. Januar 2020 findet im Nordic-Center-Notschrei / Todtnau der DKB-Deutschlandpokal und LEONTEQ Biathlon Cup Biathlon. \n  \nHier finden Sie die Einladung und Ausschreibung \nAusschreibung DP Notschrei 2020
URL:https://www.bsv-ski.de/veranstaltung/dkb-deutschlandpokal-und-leonteq-biathlon-cup-biathlon-im-nordic-center-notschrei-todtnau/
LOCATION:Todtnau
CATEGORIES:Deutschlandpokal
END:VEVENT
BEGIN:VEVENT
DTSTART;VALUE=DATE:20200110
DTEND;VALUE=DATE:20200120
DTSTAMP:20260422T164711
CREATED:20191016T123818Z
LAST-MODIFIED:20200102T175352Z
UID:22980-1578614400-1579478399@www.bsv-ski.de
SUMMARY:Winter World Masters Games 2020
DESCRIPTION:Von 10. bis 19. Januar 2020 ist Innsbruck Gastgeber der dritten Winter World Masters Games. Die WWMG 2020 bieten Hobby- und Amateurlangläufern ab 30 Jahren die einzigartige Möglichkeit bei diesen Winterspielen für Erwachsene dabei zu sein. Einen wichtigen Teil der Veranstaltung sind die Langlaufrennen in Seefeld. Insgesamt werden mehr als 3.000 Athleten aus über 50 Nationen nach Innsbruck kommen und unter dem Motto „spirit together“ in 12 Sportarten um Medaillen kämpfen. \nWWMG general Trailer – https://youtu.be/2dgK1YgFuWw \nWWMG online Folder – https://online.fliphtml5.com/uewex/dmbm/ \nAushang
URL:https://www.bsv-ski.de/veranstaltung/winter-world-masters-games-2020/
LOCATION:Innsbruck\, Österreich
CATEGORIES:International
END:VEVENT
BEGIN:VEVENT
DTSTART;VALUE=DATE:20200111
DTEND;VALUE=DATE:20200112
DTSTAMP:20260422T164711
CREATED:20191203T074518Z
LAST-MODIFIED:20200102T175325Z
UID:23687-1578700800-1578787199@www.bsv-ski.de
SUMMARY:34. Möbel Löffler Minitournee 2019 / 2020 Skisprung/Nordische Kombination
DESCRIPTION:4. Wettbewerb\nSamstag\, 11.01.2020 SC Partenkrichen HS 20 / HS 47 mit NK (Langlauf) \nInfo: Fabian Ebenhoch\nE-Mail: fabian (at) ebenhoch.coach \nInternet: www.skiclub-partenkirchen.de \nMeldungen bis 09.01.2020\, 19.00 Uhr über Rennmeldung.de \nAusschreibung & Einladung 34. MLMT_Winter
URL:https://www.bsv-ski.de/veranstaltung/34-moebel-loeffler-minitournee-2019-2020-skisprung-nordische-kombination/
LOCATION:Partenkirchen
CATEGORIES:Minitournee
END:VEVENT
BEGIN:VEVENT
DTSTART;VALUE=DATE:20200117
DTEND;VALUE=DATE:20200120
DTSTAMP:20260422T164711
CREATED:20190926T112550Z
LAST-MODIFIED:20200102T175259Z
UID:22712-1579219200-1579478399@www.bsv-ski.de
SUMMARY:Deutscher Schülercup in Rastbüchl
DESCRIPTION:Vom 17. bis zum 19.01.2020 findet der Deutsche Schülercup groß in Rastbüchl statt. \nAusschreibung: \nDSC Rastbüchl 2020
URL:https://www.bsv-ski.de/veranstaltung/deutscher-schuelercup-gross-in-rastbuechl/
LOCATION:Rastbüchl
CATEGORIES:Deutscher Schülercup
END:VEVENT
BEGIN:VEVENT
DTSTART;VALUE=DATE:20200124
DTEND;VALUE=DATE:20200125
DTSTAMP:20260422T164711
CREATED:20191204T120746Z
LAST-MODIFIED:20200102T175237Z
UID:23720-1579824000-1579910399@www.bsv-ski.de
SUMMARY:DSV Deutschlandpokal Skisprung in Rastbüchl/Breitenberg
DESCRIPTION:Hier finden Sie die Einladung und Ausschreibung zum DSV Deutschlandpokal Skisprung am 24.01.2020 in Rastbüchl / Breitenberg \nDeutschlandpokal RastbüchlBreitenberg \n  \n 
URL:https://www.bsv-ski.de/veranstaltung/dsv-deutschlandpokal-skisprung-in-rastbuechl-breitenberg/
LOCATION:Breitenberg / Rastbüchl\, 94139\, Deutschland
CATEGORIES:Deutschlandpokal
END:VEVENT
BEGIN:VEVENT
DTSTART;VALUE=DATE:20200124
DTEND;VALUE=DATE:20200127
DTSTAMP:20260422T164711
CREATED:20191204T121327Z
LAST-MODIFIED:20200102T175215Z
UID:23723-1579824000-1580083199@www.bsv-ski.de
SUMMARY:FIS-Cup Ski-Jumping Women and Men Rastbüchl/Breitenberg
DESCRIPTION:Anbei die Einladung und Ausschreibung zum FIS-Cup Ski-Jumping Women and Men\nin Rastbüchl am 24.-26.01.2020. \nFIS-Cup Ski-Jumping
URL:https://www.bsv-ski.de/veranstaltung/fis-cup-ski-jumping-women-and-men-rastbuechl-breitenberg/
LOCATION:Breitenberg / Rastbüchl\, 94139\, Deutschland
CATEGORIES:International
END:VEVENT
BEGIN:VEVENT
DTSTART;VALUE=DATE:20200124
DTEND;VALUE=DATE:20200127
DTSTAMP:20260422T164711
CREATED:20191210T071824Z
LAST-MODIFIED:20200102T175115Z
UID:23765-1579824000-1580083199@www.bsv-ski.de
SUMMARY:4. DSV Jugendcup Deutschlandpokal Biathlon in Oberhof
DESCRIPTION:Vom 24.-26.01.2020 findet der DSV Jugendcup Deutschlandpokal Biathlon in Oberhof statt. \nHier finden Sie die Einladung und Ausschreibung \nAusschreibung DP Biathlon 2020 Oberhof
URL:https://www.bsv-ski.de/veranstaltung/4-dsv-jugendcup-deutschlandpokal-biathlon-in-oberhof/
LOCATION:Salzburg
CATEGORIES:Deutschlandpokal
END:VEVENT
BEGIN:VEVENT
DTSTART;TZID=Europe/Berlin:20200131T080000
DTEND;TZID=Europe/Berlin:20200202T170000
DTSTAMP:20260422T164711
CREATED:20200121T100411Z
LAST-MODIFIED:20200121T100411Z
UID:24328-1580457600-1580662800@www.bsv-ski.de
SUMMARY:Deutschlandpokal Nordische Kombination Herren\, Alpencup Nordische Kombination + SkispringenDamen
DESCRIPTION:Ausschreibung AC+DP Schonach2020 \nAlpencup Damen\nDeutschlandpokal Herren Nordische Kombination\, Skispringen\n31.01. – 02.02. 2020 Schonach im Schwarzwald \n\nVeranstalter: Organization of the Ski Associations of the Alpine Countries Deutsche Skiverband\nDurchführung: Skiclub Schonach e. V. \n\nProgramm Ausweichtermin:\nFreitag\, 31. Januar 2020\n15.00 Uhr Mannschaftsführersitzung\, Haus des Gastes\, Hauptstr. 6\, 78136 Schonach\n18.00 Uhr Nordische Kombination (Herren/Damen)\n– 1 offizieller Trainingsdurchgang\n– 1 PCR\nSkisprung Damen\n– 2 offizielle Trainingsdurchgänge \n\nSamstag\, 01. Februar 2020\n09.00 Uhr Sprungwettbewerb Damen (Alpencup)\nProbedurchgang\n1. Wertungsdurchgang Sprung/NK\, 2. Wertungsdurchgang Sprung\n11.00 Uhr Wettbewerb Kombination Herren HS 106 (Deutschlandpokal)\n– 1 Probedurchgang\,1 Wertungsdurchgang\n14.30 Uhr NK Lauf Damen 5 km (2 x 2\,5 km) (Alpencup)\n15.00 Uhr NK Lauf Herren (Deutschlandpokal)\nJ 16 = 7\,5 km (3 x 2\,5 km)\nJ 17\, Jun/Herren = 10 km (4 x 2\,5 km) Skistadion Wittenbach\nanschl. Siegerehrung Damen/Herren \n\nSonntag\, 02. Januar 2020\n08.30 Uhr Sprungwettbewerb Damen (Alpencup)\nProbedurchgang\n1 Wertungsdurchgang Sprung/NK\, 2. Wertungsdurchgang Sprung\n10.30 Uhr Wettbewerb Kombination Herren\, HS 106 (Deutschlandpokal)\n– 1 Probedurchgang\,1 Wertungsdurchgang\n13.30 Uhr NK Lauf Damen\, 2\,5 km\, Skistadion Wittenbach (Alpencup)\n14.00 Uhr Kombinationslanglauf Herren\, 5 km (2 x 2\,5 km)\, (Deutschlandpokal)\nJ 16\, J 17\, Jun/Herren\, anschl. Siegerehrung \n\nWettkampfbestimmungen: Die Wettkämpfe werden nach den Bestimmungen der IWO\, dem Reglement Alpencup (Damen)\, sowie dem Reglement Deutschlandpokal (NK Herren) durchgeführt. \n\nKlasseneinteilung:\n– Nordische Kombination: Jugend 16 (JG 2004)\, J 17 (JG 2003\,2002)\, Jun/Herren (JG 2001 u. älter)\nDeutschlandpokal Herren\n– Skisprung/NK Damen: Juniorinnen Klasse 2019/20: Jahrgänge 2000 – 2007\nAlpencup „Lady of the Day“ ist die beste Jugendliche: Jahrgang 2002 und jünger \n\nStartgeld: 8 € pro Wettbewerb Einzel\nTechnische Daten Nr. 28/GER 11\, gültig bis 31.10.2020\nLangenwaldschanze: K 95\, HS 106 m (Schanzenrekord 2019: 108\,5 m = Jarl Magnus Riiber\, NOR)\nMit der Meldung ist zu gewährleisten\, dass die notwendige Qualifikation der gemeldeten Aktiven für die vorgegebene Schanzengröße sichergestellt ist. \nOrganisationskomitee\nVorsitzender: Gunter Schuster;\nStellvertreter: Norbert Joos\, Christian Herr \nRennbüro: Skiclub Schonach e. V\nab 31.01.2020 OK-Büro Langenwaldschanze Telefon (07722) 96 59 956\nOK-Büro Loipenhaus Wittenbach\, Telefon (07722) 96 59 959\nOrganisations- und Tourist-Information Schonach\, Haus des Gastes\, D-78136 Schonach\nQuartierbüro: T (07722) 96 481 0\, Fax (07722) 2548\, E-Mail: h.spitz@schonach.de \n\nMeldungen: Alpencup: über die nationalen Verbände an:\nSkiclub Schonach e. V.\, Haus des Gastes\, Hauptstr. 6\, D-78134 Schonach\nT (07722) 96 481 0\, Fax (07722) 2548\, E-Mail: h.spitz@schonach.de\nDeutschlandpokal: http://noko-sprung.rennverwaltung.de\nMeldeschluss: Mittwoch\, 29. Januar 2020
URL:https://www.bsv-ski.de/veranstaltung/deutschlandpokal-nordische-kombination-herren-alpencup-nordische-kombination-skispringendamen/
LOCATION:Schonach/Schönwald\, Schönwald\, Baden-Württemberg\, 78141\, Germany
CATEGORIES:Deutschlandpokal
END:VEVENT
END:VCALENDAR