BEGIN:VCALENDAR
VERSION:2.0
PRODID:-//Bayerischer Skiverband e.V. - ECPv6.15.20//NONSGML v1.0//EN
CALSCALE:GREGORIAN
METHOD:PUBLISH
X-ORIGINAL-URL:https://www.bsv-ski.de
X-WR-CALDESC:Veranstaltungen für Bayerischer Skiverband e.V.
REFRESH-INTERVAL;VALUE=DURATION:PT1H
X-Robots-Tag:noindex
X-PUBLISHED-TTL:PT1H
BEGIN:VTIMEZONE
TZID:Europe/Berlin
BEGIN:DAYLIGHT
TZOFFSETFROM:+0100
TZOFFSETTO:+0200
TZNAME:CEST
DTSTART:20190331T010000
END:DAYLIGHT
BEGIN:STANDARD
TZOFFSETFROM:+0200
TZOFFSETTO:+0100
TZNAME:CET
DTSTART:20191027T010000
END:STANDARD
BEGIN:DAYLIGHT
TZOFFSETFROM:+0100
TZOFFSETTO:+0200
TZNAME:CEST
DTSTART:20200329T010000
END:DAYLIGHT
BEGIN:STANDARD
TZOFFSETFROM:+0200
TZOFFSETTO:+0100
TZNAME:CET
DTSTART:20201025T010000
END:STANDARD
BEGIN:DAYLIGHT
TZOFFSETFROM:+0100
TZOFFSETTO:+0200
TZNAME:CEST
DTSTART:20210328T010000
END:DAYLIGHT
BEGIN:STANDARD
TZOFFSETFROM:+0200
TZOFFSETTO:+0100
TZNAME:CET
DTSTART:20211031T010000
END:STANDARD
END:VTIMEZONE
BEGIN:VEVENT
DTSTART;VALUE=DATE:20200912
DTEND;VALUE=DATE:20200914
DTSTAMP:20260422T050347
CREATED:20200915T095808Z
LAST-MODIFIED:20201005T134458Z
UID:33458-1599868800-1600041599@www.bsv-ski.de
SUMMARY:Bayerischer Schülercup Biathlon in Neubau\, 12./13.09.2020
DESCRIPTION:Ergebnisse: \nErgebnisliste_Cross \nErgebnisse RWS \nErgebnisliste_Sprint
URL:https://www.bsv-ski.de/veranstaltung/bayerischer-schuelercup-biathlon-in-neubau/
LOCATION:Neubau\, Deutschland
CATEGORIES:Bayerischer Schülercup
ATTACH;FMTTYPE=image/png:https://www.bsv-ski.de/wp-content/uploads/2020/10/BSV_bayerncup_2020.png
END:VEVENT
BEGIN:VEVENT
DTSTART;VALUE=DATE:20200918
DTEND;VALUE=DATE:20200919
DTSTAMP:20260422T050347
CREATED:20200803T123004Z
LAST-MODIFIED:20200804T065148Z
UID:27485-1600387200-1600473599@www.bsv-ski.de
SUMMARY:Deutschlandpokal Skilanglauf am OSP Thüringen\, 18.09.2020
DESCRIPTION:Am 18.09.2020 findet am OSP Thüringen in Rahmen des Deutschlandpokals Skilanglauf der int. Skihallensprint statt. \nDie komplette Terminserie finden Sie hier.
URL:https://www.bsv-ski.de/veranstaltung/deutschlandpokal-skilanglauf-am-osp-thueringen-18-09-2020/
LOCATION:Olympiastützpunkt Thüringen
CATEGORIES:Deutschlandpokal
ATTACH;FMTTYPE=image/png:https://www.bsv-ski.de/wp-content/uploads/2018/06/bsv-header-neu_df.png
END:VEVENT
BEGIN:VEVENT
DTSTART;VALUE=DATE:20200919
DTEND;VALUE=DATE:20200921
DTSTAMP:20260422T050347
CREATED:20200803T124222Z
LAST-MODIFIED:20200804T065114Z
UID:27489-1600473600-1600646399@www.bsv-ski.de
SUMMARY:Deutschlandpokal Skilanglauf in Zella-Mehlis von 19.-20.09.2020
DESCRIPTION:Von 19.09.2020 bis 20.09.2020 findet in Zehla-Mehlis die 2. Runde des DSV Deutschlandpokals im Skilanglauf der Saison 2020/2021 statt. \nDie komplette Terminserie finden Sie hier.
URL:https://www.bsv-ski.de/veranstaltung/deutschlandpokal-skilanglauf-in-zella-mehlis-von-19-20-09-2020/
LOCATION:Zella-Mehlis
CATEGORIES:Deutschlandpokal
ATTACH;FMTTYPE=image/png:https://www.bsv-ski.de/wp-content/uploads/2018/06/bsv-header-neu_df.png
END:VEVENT
BEGIN:VEVENT
DTSTART;VALUE=DATE:20200919
DTEND;VALUE=DATE:20200921
DTSTAMP:20260422T050347
CREATED:20200924T104730Z
LAST-MODIFIED:20201003T144153Z
UID:46861-1600473600-1600646399@www.bsv-ski.de
SUMMARY:Deutschlandpokal im Skisprung und der Nordischen Kombination
DESCRIPTION:Am 19.09. –  20.0.20 findet in Oberhof der 2.Deutschlandpokal Skisprung und Nordische Kombination für die Damen und Herren statt. \nErgebnisse: \n20_09_19_ NK_Herren \n20_09_19_Sprungwettkampf_Damen \n20_09_19_Sprungwettkampf_Damen (2) \n20_09_19_Sprungwettkampf_Herren \n20_09_20_NK_Herren \n20_09_20_Sprungwettkampf_Damen \n20_09_20_Sprungwettkampf_Damen (2) \n20_09_20_Sprungwettkampf_Herren \n 
URL:https://www.bsv-ski.de/veranstaltung/deutschlandpokal-im-skisprung-und-der-nordischen-kombination/
LOCATION:Oberhof\, Oberhof\, Deutschland
CATEGORIES:Deutschlandpokal
END:VEVENT
BEGIN:VEVENT
DTSTART;VALUE=DATE:20200920
DTEND;VALUE=DATE:20200921
DTSTAMP:20260422T050347
CREATED:20200803T125526Z
LAST-MODIFIED:20200804T065035Z
UID:27492-1600560000-1600646399@www.bsv-ski.de
SUMMARY:Deutschlandpokal Skilanglauf am Rennsteig\, 20.09.2020
DESCRIPTION:Am 20.09.2020 findet im Rahmen des Rennsteiglaufes die 2.Runde des Deutschlandpokals Skilanglauf der Saison 2020/2021 statt. \nDie komplette Terminserie finden Sie hier.
URL:https://www.bsv-ski.de/veranstaltung/deutschlandpokal-skilanglauf-am-rennsteig-20-09-2020/
LOCATION:Rennsteig
CATEGORIES:Deutschlandpokal
ATTACH;FMTTYPE=image/png:https://www.bsv-ski.de/wp-content/uploads/2018/06/bsv-header-neu_df.png
END:VEVENT
BEGIN:VEVENT
DTSTART;VALUE=DATE:20200920
DTEND;VALUE=DATE:20200921
DTSTAMP:20260422T050348
CREATED:20201007T090208Z
LAST-MODIFIED:20201007T090208Z
UID:81361-1600560000-1600646399@www.bsv-ski.de
SUMMARY:Junior Freestyle Tour Summer Bang
DESCRIPTION:
URL:https://www.bsv-ski.de/veranstaltung/junior-freestyle-tour-summer-bang/
LOCATION:Scharnitz
END:VEVENT
BEGIN:VEVENT
DTSTART;TZID=Europe/Berlin:20200924T120000
DTEND;TZID=Europe/Berlin:20200927T170000
DTSTAMP:20260422T050348
CREATED:20200923T133731Z
LAST-MODIFIED:20201014T140536Z
UID:45491-1600948800-1601226000@www.bsv-ski.de
SUMMARY:1. DSV E.INFRA Schülercup Biathlon
DESCRIPTION:Am 24.09.20 bis zum 27.09.20 findet der 1. DSV E.INFRA Schülercup Biathlon in der „Sparkassen-Arena„ Altenberg statt.\nWeitere Infos finden Sie hier \nErgebnisliste Einzelschießen \nErgebnisliste Massenstart \nErgebnisliste Verfolger \nPokal-Wertung
URL:https://www.bsv-ski.de/veranstaltung/1-dsv-e-infra-schuelercup-biathlon/
LOCATION:„SPARKASSEN-ARENA“ Altenberg\, Altenberg\, Deutschland
CATEGORIES:Deutscher Schülercup
END:VEVENT
END:VCALENDAR