BEGIN:VCALENDAR
VERSION:2.0
PRODID:-//Bayerischer Skiverband e.V. - ECPv6.15.20//NONSGML v1.0//EN
CALSCALE:GREGORIAN
METHOD:PUBLISH
X-WR-CALNAME:Bayerischer Skiverband e.V.
X-ORIGINAL-URL:https://www.bsv-ski.de
X-WR-CALDESC:Veranstaltungen für Bayerischer Skiverband e.V.
REFRESH-INTERVAL;VALUE=DURATION:PT1H
X-Robots-Tag:noindex
X-PUBLISHED-TTL:PT1H
BEGIN:VTIMEZONE
TZID:Europe/Berlin
BEGIN:DAYLIGHT
TZOFFSETFROM:+0100
TZOFFSETTO:+0200
TZNAME:CEST
DTSTART:20190331T010000
END:DAYLIGHT
BEGIN:STANDARD
TZOFFSETFROM:+0200
TZOFFSETTO:+0100
TZNAME:CET
DTSTART:20191027T010000
END:STANDARD
BEGIN:DAYLIGHT
TZOFFSETFROM:+0100
TZOFFSETTO:+0200
TZNAME:CEST
DTSTART:20200329T010000
END:DAYLIGHT
BEGIN:STANDARD
TZOFFSETFROM:+0200
TZOFFSETTO:+0100
TZNAME:CET
DTSTART:20201025T010000
END:STANDARD
BEGIN:DAYLIGHT
TZOFFSETFROM:+0100
TZOFFSETTO:+0200
TZNAME:CEST
DTSTART:20210328T010000
END:DAYLIGHT
BEGIN:STANDARD
TZOFFSETFROM:+0200
TZOFFSETTO:+0100
TZNAME:CET
DTSTART:20211031T010000
END:STANDARD
END:VTIMEZONE
BEGIN:VEVENT
DTSTART;VALUE=DATE:20201212
DTEND;VALUE=DATE:20201214
DTSTAMP:20260422T001115
CREATED:20200803T131218Z
LAST-MODIFIED:20201003T144759Z
UID:27498-1607731200-1607903999@www.bsv-ski.de
SUMMARY:Deutschlandpokal Skilanglauf in Partenkirchen/Seefeld von 12.-13.12.2020
DESCRIPTION:Von 12.12.2020 – 13.12.2020 findet in Partenkirchen/Seefeld die 3.Runde des Deutschlandpokals Skilanglauf der Saison 2020/2021 statt. \nDie komplette Terminserie finden Sie hier.
URL:https://www.bsv-ski.de/veranstaltung/deutschlandpokal-skilanglauf-in-partnekirchen-seefeld-von-12-13-12-2020/
LOCATION:Partenkirchen
CATEGORIES:Deutschlandpokal
END:VEVENT
BEGIN:VEVENT
DTSTART;VALUE=DATE:20201212
DTEND;VALUE=DATE:20201214
DTSTAMP:20260422T001115
CREATED:20201214T133819Z
LAST-MODIFIED:20201214T133819Z
UID:202597-1607731200-1607903999@www.bsv-ski.de
SUMMARY:Sichtungslehrgang Skisprung Audi Arena Oberstdorf
DESCRIPTION:Am 12.12.20 und 13.12.20 findet der Sichtungslehrgang in der Disziplin Skispung/Nordische Kombination\, für die Alterklassen J16- Senioren\, statt. \n  \n  \nErgebnisliste 12.12.2020 \nErgebnisliste 13.12.2020
URL:https://www.bsv-ski.de/veranstaltung/sichtungslehrgang-skisprung-audi-arena-oberstdorf/
LOCATION:Audi Arena Oberstdorf
END:VEVENT
END:VCALENDAR