BEGIN:VCALENDAR
VERSION:2.0
PRODID:-//Bayerischer Skiverband e.V. - ECPv6.15.20//NONSGML v1.0//EN
CALSCALE:GREGORIAN
METHOD:PUBLISH
X-WR-CALNAME:Bayerischer Skiverband e.V.
X-ORIGINAL-URL:https://www.bsv-ski.de
X-WR-CALDESC:Veranstaltungen für Bayerischer Skiverband e.V.
REFRESH-INTERVAL;VALUE=DURATION:PT1H
X-Robots-Tag:noindex
X-PUBLISHED-TTL:PT1H
BEGIN:VTIMEZONE
TZID:Europe/Berlin
BEGIN:DAYLIGHT
TZOFFSETFROM:+0100
TZOFFSETTO:+0200
TZNAME:CEST
DTSTART:20200329T010000
END:DAYLIGHT
BEGIN:STANDARD
TZOFFSETFROM:+0200
TZOFFSETTO:+0100
TZNAME:CET
DTSTART:20201025T010000
END:STANDARD
BEGIN:DAYLIGHT
TZOFFSETFROM:+0100
TZOFFSETTO:+0200
TZNAME:CEST
DTSTART:20210328T010000
END:DAYLIGHT
BEGIN:STANDARD
TZOFFSETFROM:+0200
TZOFFSETTO:+0100
TZNAME:CET
DTSTART:20211031T010000
END:STANDARD
BEGIN:DAYLIGHT
TZOFFSETFROM:+0100
TZOFFSETTO:+0200
TZNAME:CEST
DTSTART:20220327T010000
END:DAYLIGHT
BEGIN:STANDARD
TZOFFSETFROM:+0200
TZOFFSETTO:+0100
TZNAME:CET
DTSTART:20221030T010000
END:STANDARD
END:VTIMEZONE
BEGIN:VEVENT
DTSTART;VALUE=DATE:20210102
DTEND;VALUE=DATE:20210104
DTSTAMP:20260421T222754
CREATED:20200929T114904Z
LAST-MODIFIED:20200929T115159Z
UID:61295-1609545600-1609718399@www.bsv-ski.de
SUMMARY:Saisoneröffnung
DESCRIPTION:
URL:https://www.bsv-ski.de/veranstaltung/saisoneroeffnung/
LOCATION:Bad Wiessee
CATEGORIES:Deutschlandpokal
ORGANIZER;CN="SVR":MAILTO:diehenrichs.alpenrod@gmail.com
END:VEVENT
BEGIN:VEVENT
DTSTART;VALUE=DATE:20210109
DTEND;VALUE=DATE:20210111
DTSTAMP:20260421T222754
CREATED:20200803T134053Z
LAST-MODIFIED:20201003T144722Z
UID:27501-1610150400-1610323199@www.bsv-ski.de
SUMMARY:Deutschlandpokal Skilanglauf in Reit im Winkel von 09.-10.01.2021
DESCRIPTION:Von 09.01.2020 – 10.01.2020 findet in Reit im Winkel die 4.Runde des Deutschlandpokals Skilanglauf der Saison 2020/2021 statt. \nDie komplette Terminserie finden Sie hier.
URL:https://www.bsv-ski.de/veranstaltung/deutschlandpokal-skilanglauf-in-reit-im-winkel-von-09-10-01-2021/
LOCATION:Reit im Winkel\, Reit im Winkl\, 83242\, Deutschland
CATEGORIES:Deutschlandpokal
END:VEVENT
BEGIN:VEVENT
DTSTART;VALUE=DATE:20210109
DTEND;VALUE=DATE:20210111
DTSTAMP:20260421T222754
CREATED:20200929T115425Z
LAST-MODIFIED:20201003T145612Z
UID:61299-1610150400-1610323199@www.bsv-ski.de
SUMMARY:Skiliga Bayern Rennen
DESCRIPTION:
URL:https://www.bsv-ski.de/veranstaltung/skiliga-bayern-rennen/
LOCATION:Oberjoch
CATEGORIES:Deutschlandpokal,Skiliga Bayern
ATTACH;FMTTYPE=image/png:https://www.bsv-ski.de/wp-content/uploads/2020/09/Logo-Skiliga.png
ORGANIZER;CN="Bayerischer Skiverband e.V.":MAILTO:info@bsv-ski.de
END:VEVENT
BEGIN:VEVENT
DTSTART;VALUE=DATE:20210109
DTEND;VALUE=DATE:20210111
DTSTAMP:20260421T222754
CREATED:20201006T075829Z
LAST-MODIFIED:20201006T075829Z
UID:78240-1610150400-1610323199@www.bsv-ski.de
SUMMARY:Kids Snowboard Tour U12
DESCRIPTION:
URL:https://www.bsv-ski.de/veranstaltung/kids-snowboard-tour-u12/
LOCATION:Gaißkopf
END:VEVENT
BEGIN:VEVENT
DTSTART;VALUE=DATE:20210116
DTEND;VALUE=DATE:20210118
DTSTAMP:20260421T222754
CREATED:20200803T095933Z
LAST-MODIFIED:20201003T144655Z
UID:27459-1610755200-1610927999@www.bsv-ski.de
SUMMARY:Deutscher Schülercup Skilanglauf in Baiersbronn von 16.-17.01.2021
DESCRIPTION:Von 16.01.2021 bis 17.01.2021 findet in Baiersbronn die 1. Runde des DSV – E.Infra Schülercups im Skilanglauf statt.\nDie komplette Terminserie finden Sie hier.
URL:https://www.bsv-ski.de/veranstaltung/dsv-e-infra-schuelercup-skilanglauf-2021/
LOCATION:Baiersbronn
CATEGORIES:Deutscher Schülercup
END:VEVENT
BEGIN:VEVENT
DTSTART;VALUE=DATE:20210116
DTEND;VALUE=DATE:20210118
DTSTAMP:20260421T222754
CREATED:20200929T122643Z
LAST-MODIFIED:20201003T145341Z
UID:61320-1610755200-1610927999@www.bsv-ski.de
SUMMARY:Skiliga Bayern Schüler Saison 2020/21
DESCRIPTION:Die beliebte Rennserie Skiliga Bayern Schüler geht in die sechste Rennsaison. Die Skiliga Rennen der Kategorie III finden zeitgleich zum Deutschen Schüler Cup der U16 und U14 statt. Es stehen drei Parallelslalom Rennen Einzel und Team\, ein Slalom und zwei Riesenslalom auf dem Programm. Startberechtigt sind Mädchen und Buben der Altersklassen U14/U16. Bei jedem Rennen gibt es Einzel- und Mannschaftswertung und eine finale Gesamtwertung nach Punkten. Eine Mannschaft besteht aus max. 30 Läufern einer Region/Gau. Die Rennen werden nach den Bestimmungen der DWO Ski Alpin durchgeführt. \nAusschreibung Skiliga Bayern Schüler 2020/2021
URL:https://www.bsv-ski.de/veranstaltung/ausschreibung-skiliga-bayern-schueler-saison-2020-21/
LOCATION:Gudiberg\, Gudiberg\, Garmisch-Partenkirchen\, 82467\, Deutschland
CATEGORIES:Skiliga Bayern Schüler
ATTACH;FMTTYPE=image/png:https://www.bsv-ski.de/wp-content/uploads/2020/09/Logo-Skiliga.png
ORGANIZER;CN="Bayerischer Skiverband e.V.":MAILTO:info@bsv-ski.de
END:VEVENT
BEGIN:VEVENT
DTSTART;VALUE=DATE:20210116
DTEND;VALUE=DATE:20210118
DTSTAMP:20260421T222754
CREATED:20201006T075942Z
LAST-MODIFIED:20201006T075942Z
UID:78244-1610755200-1610927999@www.bsv-ski.de
SUMMARY:Kids Snowboard Tour U12
DESCRIPTION:
URL:https://www.bsv-ski.de/veranstaltung/kids-snowboard-tour-u12-2/
LOCATION:Snowpark Oberammergau\, Bahnhofstraße 6a\, Oberammergau\, 82487\, Deutschland
END:VEVENT
BEGIN:VEVENT
DTSTART;VALUE=DATE:20210122
DTEND;VALUE=DATE:20210125
DTSTAMP:20260421T222754
CREATED:20200803T135237Z
LAST-MODIFIED:20201003T144630Z
UID:27503-1611273600-1611532799@www.bsv-ski.de
SUMMARY:Deutschlandpokal Skilanglauf in Oberwiesenthal von 22.-24.01.2021
DESCRIPTION:Von 22.01.2021 – 24.01.2021 findet in Oberwiesenthal die 5.Runde des Deutschlandpokals Skilanglauf der Saison 2020/2021 statt. \nDie komplette Terminserie finden Sie hier.
URL:https://www.bsv-ski.de/veranstaltung/deutschlandpokal-skilanglauf-in-oberwiesenthal-von-22-24-01-2021/
LOCATION:Oberwiesenthal
CATEGORIES:Deutschlandpokal
END:VEVENT
BEGIN:VEVENT
DTSTART;VALUE=DATE:20210123
DTEND;VALUE=DATE:20210125
DTSTAMP:20260421T222754
CREATED:20201006T080106Z
LAST-MODIFIED:20201006T080106Z
UID:78246-1611360000-1611532799@www.bsv-ski.de
SUMMARY:Bayerische Meisterschaft Slalom und Riesenslalom
DESCRIPTION:
URL:https://www.bsv-ski.de/veranstaltung/bayerische-meisterschaft-slalom-und-riesenslalom/
LOCATION:Sudelfeld
END:VEVENT
BEGIN:VEVENT
DTSTART;VALUE=DATE:20210123
DTEND;VALUE=DATE:20210125
DTSTAMP:20260421T222754
CREATED:20201007T073854Z
LAST-MODIFIED:20201007T091620Z
UID:81350-1611360000-1611532799@www.bsv-ski.de
SUMMARY:German Race Series
DESCRIPTION:
URL:https://www.bsv-ski.de/veranstaltung/german-race-series/
LOCATION:Sudelfeld
END:VEVENT
BEGIN:VEVENT
DTSTART;VALUE=DATE:20210128
DTEND;VALUE=DATE:20210129
DTSTAMP:20260421T222754
CREATED:20201006T080313Z
LAST-MODIFIED:20201006T080313Z
UID:78250-1611792000-1611878399@www.bsv-ski.de
SUMMARY:LASPO Schulsport Regionalentscheid Snowboard 1
DESCRIPTION:
URL:https://www.bsv-ski.de/veranstaltung/laspo-schulsport-regionalentscheid-snowboard-1/
LOCATION:Götschen\, Götschen Skilifte\, Bischofswiesen\, Deutschland
END:VEVENT
BEGIN:VEVENT
DTSTART;VALUE=DATE:20210130
DTEND;VALUE=DATE:20210201
DTSTAMP:20260421T222754
CREATED:20200929T115635Z
LAST-MODIFIED:20201003T145435Z
UID:61301-1611964800-1612137599@www.bsv-ski.de
SUMMARY:Münchner Meisterschaften
DESCRIPTION:
URL:https://www.bsv-ski.de/veranstaltung/muenchner-meisterschaften/
LOCATION:Sudelfeld
CATEGORIES:Deutschlandpokal,Skiliga Bayern
ATTACH;FMTTYPE=image/png:https://www.bsv-ski.de/wp-content/uploads/2020/09/Logo-Skiliga.png
ORGANIZER;CN="Bayerischer Skiverband e.V.":MAILTO:info@bsv-ski.de
END:VEVENT
END:VCALENDAR