BEGIN:VCALENDAR
VERSION:2.0
PRODID:-//Bayerischer Skiverband e.V. - ECPv6.15.20//NONSGML v1.0//EN
CALSCALE:GREGORIAN
METHOD:PUBLISH
X-WR-CALNAME:Bayerischer Skiverband e.V.
X-ORIGINAL-URL:https://www.bsv-ski.de
X-WR-CALDESC:Veranstaltungen für Bayerischer Skiverband e.V.
REFRESH-INTERVAL;VALUE=DURATION:PT1H
X-Robots-Tag:noindex
X-PUBLISHED-TTL:PT1H
BEGIN:VTIMEZONE
TZID:Europe/Berlin
BEGIN:DAYLIGHT
TZOFFSETFROM:+0100
TZOFFSETTO:+0200
TZNAME:CEST
DTSTART:20200329T010000
END:DAYLIGHT
BEGIN:STANDARD
TZOFFSETFROM:+0200
TZOFFSETTO:+0100
TZNAME:CET
DTSTART:20201025T010000
END:STANDARD
BEGIN:DAYLIGHT
TZOFFSETFROM:+0100
TZOFFSETTO:+0200
TZNAME:CEST
DTSTART:20210328T010000
END:DAYLIGHT
BEGIN:STANDARD
TZOFFSETFROM:+0200
TZOFFSETTO:+0100
TZNAME:CET
DTSTART:20211031T010000
END:STANDARD
BEGIN:DAYLIGHT
TZOFFSETFROM:+0100
TZOFFSETTO:+0200
TZNAME:CEST
DTSTART:20220327T010000
END:DAYLIGHT
BEGIN:STANDARD
TZOFFSETFROM:+0200
TZOFFSETTO:+0100
TZNAME:CET
DTSTART:20221030T010000
END:STANDARD
END:VTIMEZONE
BEGIN:VEVENT
DTSTART;VALUE=DATE:20210206
DTEND;VALUE=DATE:20210208
DTSTAMP:20260421T203335
CREATED:20201006T080210Z
LAST-MODIFIED:20201006T080210Z
UID:78248-1612569600-1612742399@www.bsv-ski.de
SUMMARY:Kids Snowboard Tour U12
DESCRIPTION:
URL:https://www.bsv-ski.de/veranstaltung/kids-snowboard-tour-u12-3/
LOCATION:Nesselwang\, Nesselwang
END:VEVENT
BEGIN:VEVENT
DTSTART;VALUE=DATE:20210206
DTEND;VALUE=DATE:20210208
DTSTAMP:20260421T203335
CREATED:20201007T074007Z
LAST-MODIFIED:20201007T091552Z
UID:81352-1612569600-1612742399@www.bsv-ski.de
SUMMARY:German Race Series
DESCRIPTION:
URL:https://www.bsv-ski.de/veranstaltung/german-race-series-2/
LOCATION:Rossfeld
END:VEVENT
BEGIN:VEVENT
DTSTART;VALUE=DATE:20210211
DTEND;VALUE=DATE:20210212
DTSTAMP:20260421T203335
CREATED:20201006T080410Z
LAST-MODIFIED:20201006T080410Z
UID:78252-1613001600-1613087999@www.bsv-ski.de
SUMMARY:LASPO Schulsport Regionalentscheid Snowboard 2
DESCRIPTION:
URL:https://www.bsv-ski.de/veranstaltung/laspo-schulsport-regionalentscheid-snowboard-2/
LOCATION:Sudelfeld
END:VEVENT
BEGIN:VEVENT
DTSTART;VALUE=DATE:20210213
DTEND;VALUE=DATE:20210214
DTSTAMP:20260421T203335
CREATED:20201006T080807Z
LAST-MODIFIED:20201006T080807Z
UID:78254-1613174400-1613260799@www.bsv-ski.de
SUMMARY:Bayerische Meisterschaft Snowboard Slopestyle
DESCRIPTION:
URL:https://www.bsv-ski.de/veranstaltung/bayerische-meisterschaft-snowboard-slopestyle/
LOCATION:Snowpark Oberammergau\, Bahnhofstraße 6a\, Oberammergau\, 82487\, Deutschland
END:VEVENT
BEGIN:VEVENT
DTSTART;VALUE=DATE:20210213
DTEND;VALUE=DATE:20210214
DTSTAMP:20260421T203335
CREATED:20201007T090530Z
LAST-MODIFIED:20201007T090530Z
UID:81367-1613174400-1613260799@www.bsv-ski.de
SUMMARY:Junior Freestyle Tour SS & Bayerische Meisterschaft
DESCRIPTION:
URL:https://www.bsv-ski.de/veranstaltung/junior-freestyle-tour-ss-bayerische-meisterschaft/
LOCATION:Snowpark Oberammergau\, Bahnhofstraße 6a\, Oberammergau\, 82487\, Deutschland
END:VEVENT
BEGIN:VEVENT
DTSTART;VALUE=DATE:20210213
DTEND;VALUE=DATE:20210215
DTSTAMP:20260421T203335
CREATED:20200803T104204Z
LAST-MODIFIED:20201003T144545Z
UID:27464-1613174400-1613347199@www.bsv-ski.de
SUMMARY:Deutscher Schülercup Skilanglauf in Oberwiesenthal von 13.-14.02.2021
DESCRIPTION:Von 13.02.2021 bis 14.02.2021 findet in Gebirge-Gelobtland/AO Oberwiesenthal die 2. Runde des DSV – E.Infra Schülercups im Skilanglauf  statt.\nDie komplette Terminserie finden Sie hier.
URL:https://www.bsv-ski.de/veranstaltung/dsv-e-infra-schuelercups-im-skilanglauf-2021/
LOCATION:Oberwiesenthal
CATEGORIES:Deutscher Schülercup
END:VEVENT
BEGIN:VEVENT
DTSTART;VALUE=DATE:20210213
DTEND;VALUE=DATE:20210215
DTSTAMP:20260421T203335
CREATED:20200929T115826Z
LAST-MODIFIED:20200929T120907Z
UID:61304-1613174400-1613347199@www.bsv-ski.de
SUMMARY:Oberpfälzer Skiverband OSV 50-Jahre Jubiläumsrennen
DESCRIPTION:
URL:https://www.bsv-ski.de/veranstaltung/oberpfaelzer-skiverband-osv-50-jahre-jubilaeumsrennen/
LOCATION:St. Johann/ Tirol
CATEGORIES:Deutschlandpokal
ORGANIZER;CN="Bayerischer Skiverband e.V.":MAILTO:info@bsv-ski.de
END:VEVENT
BEGIN:VEVENT
DTSTART;VALUE=DATE:20210219
DTEND;VALUE=DATE:20210222
DTSTAMP:20260421T203335
CREATED:20200806T082209Z
LAST-MODIFIED:20201003T145537Z
UID:27587-1613692800-1613951999@www.bsv-ski.de
SUMMARY:Deutscher Schülercup Biathlon am Arber von 19.-21.02.2021
DESCRIPTION:Von 19.02.2021 bis 21.02.2021 findet das kleine Flinale des Deutschen Schülercups Biathlon am Arber statt.
URL:https://www.bsv-ski.de/veranstaltung/deutscher-schuelercup-biathlon-am-arber-von-19-21-02-2021/
LOCATION:Arber Germany
CATEGORIES:Deutscher Schülercup
END:VEVENT
BEGIN:VEVENT
DTSTART;VALUE=DATE:20210220
DTEND;VALUE=DATE:20210222
DTSTAMP:20260421T203335
CREATED:20200929T120040Z
LAST-MODIFIED:20201003T145203Z
UID:61307-1613779200-1613951999@www.bsv-ski.de
SUMMARY:Skiliga Bayern Rennen
DESCRIPTION:
URL:https://www.bsv-ski.de/veranstaltung/skiliga-bayern-rennen-2/
LOCATION:Tegelberg\, Schwangau\, 87645\, Deutschland
CATEGORIES:Deutschlandpokal,Skiliga Bayern
ATTACH;FMTTYPE=image/png:https://www.bsv-ski.de/wp-content/uploads/2020/09/Logo-Skiliga.png
ORGANIZER;CN="Bayerischer Skiverband e.V.":MAILTO:info@bsv-ski.de
END:VEVENT
BEGIN:VEVENT
DTSTART;VALUE=DATE:20210220
DTEND;VALUE=DATE:20210222
DTSTAMP:20260421T203335
CREATED:20201006T080905Z
LAST-MODIFIED:20201006T080905Z
UID:78256-1613779200-1613951999@www.bsv-ski.de
SUMMARY:Bayerische Meiseterschaft Snowboardcross
DESCRIPTION:
URL:https://www.bsv-ski.de/veranstaltung/bayerische-meiseterschaft-snowboardcross/
LOCATION:Grasgehren\, Deutschland
END:VEVENT
BEGIN:VEVENT
DTSTART;VALUE=DATE:20210220
DTEND;VALUE=DATE:20210222
DTSTAMP:20260421T203335
CREATED:20201007T085239Z
LAST-MODIFIED:20201007T091307Z
UID:81357-1613779200-1613951999@www.bsv-ski.de
SUMMARY:sbx Trophy & Bayerische Meisterschaft
DESCRIPTION:
URL:https://www.bsv-ski.de/veranstaltung/sbx-trophy-bay-meisterschaft/
LOCATION:Grasgehren\, Deutschland
END:VEVENT
BEGIN:VEVENT
DTSTART;VALUE=DATE:20210223
DTEND;VALUE=DATE:20210225
DTSTAMP:20260421T203335
CREATED:20201007T090353Z
LAST-MODIFIED:20201007T090353Z
UID:81365-1614038400-1614211199@www.bsv-ski.de
SUMMARY:Junior Freestyle Tour SS & Game of S.N.O.W.
DESCRIPTION:
URL:https://www.bsv-ski.de/veranstaltung/junior-freestyle-tour-ss-game-of-s-n-o-w/
LOCATION:Sudelfeld
END:VEVENT
BEGIN:VEVENT
DTSTART;VALUE=DATE:20210227
DTEND;VALUE=DATE:20210301
DTSTAMP:20260421T203335
CREATED:20200803T135949Z
LAST-MODIFIED:20201003T144520Z
UID:27506-1614384000-1614556799@www.bsv-ski.de
SUMMARY:Deutschlandpokal Skilanglauf in Hirschau/Arbersee von 27.-28.02.2021
DESCRIPTION:Von 27.02.2021 – 28.02.2021 findet in Hirschau/Arbersee die 6.Runde des Deutschlandpokals Skilanglauf der Saison 2020/2021 statt. \nDie komplette Terminserie finden Sie hier.
URL:https://www.bsv-ski.de/veranstaltung/deutschlandpokal-skilanglauf-in-hirschau-arbersee-von-27-28-02-2021/
LOCATION:Hirschau\, Hirschau\, 92242\, Deutschland
CATEGORIES:Deutschlandpokal
END:VEVENT
BEGIN:VEVENT
DTSTART;VALUE=DATE:20210227
DTEND;VALUE=DATE:20210301
DTSTAMP:20260421T203335
CREATED:20200929T122955Z
LAST-MODIFIED:20201003T145138Z
UID:61325-1614384000-1614556799@www.bsv-ski.de
SUMMARY:Skiliga Bayern Schüler Saison 2020/21
DESCRIPTION:Die beliebte Rennserie Skiliga Bayern Schüler geht in die sechste Rennsaison. Die Skiliga Rennen der Kategorie III finden zeitgleich zum Deutschen Schüler Cup der U16 und U14 statt. Es stehen drei Parallelslalom Rennen Einzel und Team\, ein Slalom und zwei Riesenslalom auf dem Programm. Startberechtigt sind Mädchen und Buben der Altersklassen U14/U16. Bei jedem Rennen gibt es Einzel- und Mannschaftswertung und eine finale Gesamtwertung nach Punkten. Eine Mannschaft besteht aus max. 30 Läufern einer Region/Gau. Die Rennen werden nach den Bestimmungen der DWO Ski Alpin durchgeführt. \nAusschreibung Skiliga Bayern Schüler 2020/2021
URL:https://www.bsv-ski.de/veranstaltung/skiliga-bayern-schueler-saison-2020-21/
LOCATION:Tegelberg-SC Halblech
CATEGORIES:Skiliga Bayern Schüler
ATTACH;FMTTYPE=image/png:https://www.bsv-ski.de/wp-content/uploads/2020/09/Logo-Skiliga.png
ORGANIZER;CN="Bayerischer Skiverband e.V.":MAILTO:info@bsv-ski.de
END:VEVENT
BEGIN:VEVENT
DTSTART;VALUE=DATE:20210227
DTEND;VALUE=DATE:20210301
DTSTAMP:20260421T203335
CREATED:20201006T081033Z
LAST-MODIFIED:20201006T081033Z
UID:78258-1614384000-1614556799@www.bsv-ski.de
SUMMARY:Burning Boots Banked Slalom
DESCRIPTION:
URL:https://www.bsv-ski.de/veranstaltung/burning-boots-banked-slalom/
LOCATION:Lenggries\, 83661\, Deutschland
END:VEVENT
END:VCALENDAR