BEGIN:VCALENDAR
VERSION:2.0
PRODID:-//Bayerischer Skiverband e.V. - ECPv6.15.20//NONSGML v1.0//EN
CALSCALE:GREGORIAN
METHOD:PUBLISH
X-WR-CALNAME:Bayerischer Skiverband e.V.
X-ORIGINAL-URL:https://www.bsv-ski.de
X-WR-CALDESC:Veranstaltungen für Bayerischer Skiverband e.V.
REFRESH-INTERVAL;VALUE=DURATION:PT1H
X-Robots-Tag:noindex
X-PUBLISHED-TTL:PT1H
BEGIN:VTIMEZONE
TZID:Europe/Berlin
BEGIN:DAYLIGHT
TZOFFSETFROM:+0100
TZOFFSETTO:+0200
TZNAME:CEST
DTSTART:20200329T010000
END:DAYLIGHT
BEGIN:STANDARD
TZOFFSETFROM:+0200
TZOFFSETTO:+0100
TZNAME:CET
DTSTART:20201025T010000
END:STANDARD
BEGIN:DAYLIGHT
TZOFFSETFROM:+0100
TZOFFSETTO:+0200
TZNAME:CEST
DTSTART:20210328T010000
END:DAYLIGHT
BEGIN:STANDARD
TZOFFSETFROM:+0200
TZOFFSETTO:+0100
TZNAME:CET
DTSTART:20211031T010000
END:STANDARD
BEGIN:DAYLIGHT
TZOFFSETFROM:+0100
TZOFFSETTO:+0200
TZNAME:CEST
DTSTART:20220327T010000
END:DAYLIGHT
BEGIN:STANDARD
TZOFFSETFROM:+0200
TZOFFSETTO:+0100
TZNAME:CET
DTSTART:20221030T010000
END:STANDARD
END:VTIMEZONE
BEGIN:VEVENT
DTSTART;TZID=Europe/Berlin:20210515T100000
DTEND;TZID=Europe/Berlin:20210515T160000
DTSTAMP:20260421T161128
CREATED:20210504T140017Z
LAST-MODIFIED:20210504T141336Z
UID:268730-1621072800-1621094400@www.bsv-ski.de
SUMMARY:Digitales BSV Forum 2021
DESCRIPTION:Nachdem das BSV Forum 2020 leider ausfallen musste\, wir es in diesem Jahr eine digitale Variante geben! \nAm 15.5. heißt es daher ausnahmsweise nicht in der Sportschule Oberhaching „Herzlich Willkommen“\, sondern bei Zoom. Trotzdem freuen wir uns auf viele interessierte Teilnehmerinnen und Teilnehmer und können wie jedes Jahr ein abwechslungsreiches und interessantes Programm anbieten. \n[WPSM_AC_SH id=268704]
URL:https://www.bsv-ski.de/veranstaltung/digitales-bsv-forum-2021/
LOCATION:Zoom\, Georg-Brauchle-Ring 93\, München\, Bayern\, 80992\, Deutschland
CATEGORIES:Aus- und Fortbildung
ATTACH;FMTTYPE=image/png:https://www.bsv-ski.de/wp-content/uploads/2021/04/2021_bsv-forum_titel.png
ORGANIZER;CN="Bayerischer Skiverband e.V.":MAILTO:info@bsv-ski.de
END:VEVENT
END:VCALENDAR