BEGIN:VCALENDAR
VERSION:2.0
PRODID:-//Bayerischer Skiverband e.V. - ECPv6.15.20//NONSGML v1.0//EN
CALSCALE:GREGORIAN
METHOD:PUBLISH
X-ORIGINAL-URL:https://www.bsv-ski.de
X-WR-CALDESC:Veranstaltungen für Bayerischer Skiverband e.V.
REFRESH-INTERVAL;VALUE=DURATION:PT1H
X-Robots-Tag:noindex
X-PUBLISHED-TTL:PT1H
BEGIN:VTIMEZONE
TZID:Europe/Berlin
BEGIN:DAYLIGHT
TZOFFSETFROM:+0100
TZOFFSETTO:+0200
TZNAME:CEST
DTSTART:20160327T010000
END:DAYLIGHT
BEGIN:STANDARD
TZOFFSETFROM:+0200
TZOFFSETTO:+0100
TZNAME:CET
DTSTART:20161030T010000
END:STANDARD
BEGIN:DAYLIGHT
TZOFFSETFROM:+0100
TZOFFSETTO:+0200
TZNAME:CEST
DTSTART:20170326T010000
END:DAYLIGHT
BEGIN:STANDARD
TZOFFSETFROM:+0200
TZOFFSETTO:+0100
TZNAME:CET
DTSTART:20171029T010000
END:STANDARD
BEGIN:DAYLIGHT
TZOFFSETFROM:+0100
TZOFFSETTO:+0200
TZNAME:CEST
DTSTART:20180325T010000
END:DAYLIGHT
BEGIN:STANDARD
TZOFFSETFROM:+0200
TZOFFSETTO:+0100
TZNAME:CET
DTSTART:20181028T010000
END:STANDARD
END:VTIMEZONE
BEGIN:VEVENT
DTSTART;TZID=Europe/Berlin:20170211T090000
DTEND;TZID=Europe/Berlin:20170211T160000
DTSTAMP:20260424T013029
CREATED:20170216T072547Z
LAST-MODIFIED:20170216T072643Z
UID:3739-1486803600-1486828800@www.bsv-ski.de
SUMMARY:Bayerische Senioren Masters Meisterschaft 2017
DESCRIPTION:Ergebnisliste
URL:https://www.bsv-ski.de/veranstaltung/bayerische-senioren-masters-meisterschaft-2017/
LOCATION:Götschen\, Götschen Skilifte\, Bischofswiesen\, Deutschland
END:VEVENT
END:VCALENDAR