BEGIN:VCALENDAR
VERSION:2.0
PRODID:-//Bayerischer Skiverband e.V. - ECPv6.15.20//NONSGML v1.0//EN
CALSCALE:GREGORIAN
METHOD:PUBLISH
X-WR-CALNAME:Bayerischer Skiverband e.V.
X-ORIGINAL-URL:https://www.bsv-ski.de
X-WR-CALDESC:Veranstaltungen für Bayerischer Skiverband e.V.
REFRESH-INTERVAL;VALUE=DURATION:PT1H
X-Robots-Tag:noindex
X-PUBLISHED-TTL:PT1H
BEGIN:VTIMEZONE
TZID:Europe/Berlin
BEGIN:DAYLIGHT
TZOFFSETFROM:+0100
TZOFFSETTO:+0200
TZNAME:CEST
DTSTART:20190331T010000
END:DAYLIGHT
BEGIN:STANDARD
TZOFFSETFROM:+0200
TZOFFSETTO:+0100
TZNAME:CET
DTSTART:20191027T010000
END:STANDARD
BEGIN:DAYLIGHT
TZOFFSETFROM:+0100
TZOFFSETTO:+0200
TZNAME:CEST
DTSTART:20200329T010000
END:DAYLIGHT
BEGIN:STANDARD
TZOFFSETFROM:+0200
TZOFFSETTO:+0100
TZNAME:CET
DTSTART:20201025T010000
END:STANDARD
BEGIN:DAYLIGHT
TZOFFSETFROM:+0100
TZOFFSETTO:+0200
TZNAME:CEST
DTSTART:20210328T010000
END:DAYLIGHT
BEGIN:STANDARD
TZOFFSETFROM:+0200
TZOFFSETTO:+0100
TZNAME:CET
DTSTART:20211031T010000
END:STANDARD
END:VTIMEZONE
BEGIN:VEVENT
DTSTART;VALUE=DATE:20200306
DTEND;VALUE=DATE:20200309
DTSTAMP:20260421T172311
CREATED:20191024T105406Z
LAST-MODIFIED:20200102T174009Z
UID:23112-1583452800-1583711999@www.bsv-ski.de
SUMMARY:Deutscher Schülercup - Ski Alpin - Finale (U12)
DESCRIPTION:Vom 06. bis zum 08.03.2020 findet das Finale des DSC-Schülercups in Unterjoch statt.
URL:https://www.bsv-ski.de/veranstaltung/deutscher-schuelercup-ski-alpin-finale-u12/
LOCATION:Unterjoch
CATEGORIES:Deutscher Schülercup
END:VEVENT
BEGIN:VEVENT
DTSTART;VALUE=DATE:20200314
DTEND;VALUE=DATE:20200315
DTSTAMP:20260421T172311
CREATED:20200203T143437Z
LAST-MODIFIED:20200320T132716Z
UID:24654-1584144000-1584230399@www.bsv-ski.de
SUMMARY:ABGESAGT: 12. Kinder- und Zwergerlrennen der Kreissparkasse
DESCRIPTION:Alle Infos und die dazugehörige Ausschreibung zum 12. Kinder- und Zwergerlrennen der Kreissparkasse finden Sie hier. \nDas Rennen findet am 14. März 2020 statt. \nEs handelt sich um einen einfachen Riesenslalom\, der von allen ohne Weiteres bewältigt werden kann. Es gibt eine Jahrgangswertung\, da die skifahrerische Entwicklung in diesem Alter doch recht schnell fortschreitet und wir allen Teilnehmern eine faire Chance bieten wollen\, sich mit Gleichaltrigen zu messen. Auch dieses Mal gibt es für jeden Teilnehmer einen Pokal. Wir haben uns wieder ein schönes Rahmenprogramm überlegt. Lasst euch überraschen! Eingeladen zum Mitmachen sind alle Skikinder und Skizwerge – JG 2010 und jünger\, die Lust auf ein schönes Rennen haben. Weitere Informationen siehe die beigefügte Ausschreibung. \nAn diesem Skirennen können Kinder aus allen Skiverbänden und Skigauen sowie Privatpersonen teilnehmen. \nAnmeldung erfolgt online über diesen Link oder schriftlich mit Angabe von Name\, Vorname\, Jahrgang\, Verein\, Telefonnummer an: Fax: 089-23 55 58 28\, Email: uwe@borchert.sc \nAnmeldeschluss ist Donnerstag\, den 12. März 2020\, 18:00 Uhr\, Nachmeldungen sind dann noch vor Ort bis 9:30 Uhr möglich.
URL:https://www.bsv-ski.de/veranstaltung/12-kinder-und-zwergerlrennen-der-kreissparkasse/
CATEGORIES:Regions-/Kreisebene
END:VEVENT
BEGIN:VEVENT
DTSTART;VALUE=DATE:20200321
DTEND;VALUE=DATE:20200323
DTSTAMP:20260421T172311
CREATED:20200306T083303Z
LAST-MODIFIED:20200320T132702Z
UID:25250-1584748800-1584921599@www.bsv-ski.de
SUMMARY:ABGESAGT: Skiliga Bayern Finale mit Deutschlandpokalwertung am 21. und 22. März
DESCRIPTION:Am 21. und 22. März findet das Skiliga Bayern Finale mit Deutschlandpokalwertung statt. Weitere Informationen und die Ausschreibung dazu finden sie hier: \nAusschreibung Skiliga Bayern Finale Bad Wiessee 21 22 03 2020 \nAufgrund der Absage der Veranstaltung ist hier die Abschlusstabelle der Skiliga Bayern. \nTabelle Skiliga Bayern 2019 2020 Endstand
URL:https://www.bsv-ski.de/veranstaltung/skiliga-bayern-finale-mit-deutschlandpokalwertung-am-21-und-22-maerz/
CATEGORIES:Deutschlandpokal,Skiliga Bayern
END:VEVENT
END:VCALENDAR