BEGIN:VCALENDAR
VERSION:2.0
PRODID:-//Bayerischer Skiverband e.V. - ECPv6.15.20//NONSGML v1.0//EN
CALSCALE:GREGORIAN
METHOD:PUBLISH
X-WR-CALNAME:Bayerischer Skiverband e.V.
X-ORIGINAL-URL:https://www.bsv-ski.de
X-WR-CALDESC:Veranstaltungen für Bayerischer Skiverband e.V.
REFRESH-INTERVAL;VALUE=DURATION:PT1H
X-Robots-Tag:noindex
X-PUBLISHED-TTL:PT1H
BEGIN:VTIMEZONE
TZID:Europe/Berlin
BEGIN:DAYLIGHT
TZOFFSETFROM:+0100
TZOFFSETTO:+0200
TZNAME:CEST
DTSTART:20190331T010000
END:DAYLIGHT
BEGIN:STANDARD
TZOFFSETFROM:+0200
TZOFFSETTO:+0100
TZNAME:CET
DTSTART:20191027T010000
END:STANDARD
BEGIN:DAYLIGHT
TZOFFSETFROM:+0100
TZOFFSETTO:+0200
TZNAME:CEST
DTSTART:20200329T010000
END:DAYLIGHT
BEGIN:STANDARD
TZOFFSETFROM:+0200
TZOFFSETTO:+0100
TZNAME:CET
DTSTART:20201025T010000
END:STANDARD
BEGIN:DAYLIGHT
TZOFFSETFROM:+0100
TZOFFSETTO:+0200
TZNAME:CEST
DTSTART:20210328T010000
END:DAYLIGHT
BEGIN:STANDARD
TZOFFSETFROM:+0200
TZOFFSETTO:+0100
TZNAME:CET
DTSTART:20211031T010000
END:STANDARD
END:VTIMEZONE
BEGIN:VEVENT
DTSTART;VALUE=DATE:20200213
DTEND;VALUE=DATE:20200217
DTSTAMP:20260425T054750
CREATED:20200114T143205Z
LAST-MODIFIED:20200211T140911Z
UID:24199-1581552000-1581897599@www.bsv-ski.de
SUMMARY:ABSAGE - Alpencup Arber
DESCRIPTION:Vom 13. bis 16.02.2020 findet der Biathlon Alpencup am Arber statt. \nHier finden Sie die Ausschreibung. \nAlpencup am Arber \nAufgrund der zurückliegenden und anhaltenden Wetterlage ist es leider nicht möglich den Wettbewerb durchzuführen. Dadurch sind wir gezwungen den Wettbewerb ersatzlos zu streichen.
URL:https://www.bsv-ski.de/veranstaltung/alpencup-arber/
LOCATION:Arber Hohenzollern Skistadion\, Arberseestraße\, Bayer. Eisenstein\, 94252\, Deutschland
END:VEVENT
END:VCALENDAR