BEGIN:VCALENDAR
VERSION:2.0
PRODID:-//Bayerischer Skiverband e.V. - ECPv6.15.20//NONSGML v1.0//EN
CALSCALE:GREGORIAN
METHOD:PUBLISH
X-WR-CALNAME:Bayerischer Skiverband e.V.
X-ORIGINAL-URL:https://www.bsv-ski.de
X-WR-CALDESC:Veranstaltungen für Bayerischer Skiverband e.V.
REFRESH-INTERVAL;VALUE=DURATION:PT1H
X-Robots-Tag:noindex
X-PUBLISHED-TTL:PT1H
BEGIN:VTIMEZONE
TZID:Europe/Berlin
BEGIN:DAYLIGHT
TZOFFSETFROM:+0100
TZOFFSETTO:+0200
TZNAME:CEST
DTSTART:20190331T010000
END:DAYLIGHT
BEGIN:STANDARD
TZOFFSETFROM:+0200
TZOFFSETTO:+0100
TZNAME:CET
DTSTART:20191027T010000
END:STANDARD
BEGIN:DAYLIGHT
TZOFFSETFROM:+0100
TZOFFSETTO:+0200
TZNAME:CEST
DTSTART:20200329T010000
END:DAYLIGHT
BEGIN:STANDARD
TZOFFSETFROM:+0200
TZOFFSETTO:+0100
TZNAME:CET
DTSTART:20201025T010000
END:STANDARD
BEGIN:DAYLIGHT
TZOFFSETFROM:+0100
TZOFFSETTO:+0200
TZNAME:CEST
DTSTART:20210328T010000
END:DAYLIGHT
BEGIN:STANDARD
TZOFFSETFROM:+0200
TZOFFSETTO:+0100
TZNAME:CET
DTSTART:20211031T010000
END:STANDARD
END:VTIMEZONE
BEGIN:VEVENT
DTSTART;VALUE=DATE:20200215
DTEND;VALUE=DATE:20200217
DTSTAMP:20260423T180048
CREATED:20200217T085109Z
LAST-MODIFIED:20200217T085109Z
UID:24940-1581724800-1581897599@www.bsv-ski.de
SUMMARY:Bayerische Meisterschaft Hohenzollern Skistadion am Großen Arbersee 15.+16. Feb 2020
DESCRIPTION:Anbei die Ergebnisse vom Biathlon Wochenende: \n15.02.2020 Einzel \n16.02.2020 Sprint \n  \n 
URL:https://www.bsv-ski.de/veranstaltung/bayerische-meisterschaft-hohenzollern-skistadion-am-grossen-arbersee-15-16-feb-2020/
CATEGORIES:Bayerische Meisterschaften
END:VEVENT
BEGIN:VEVENT
DTSTART;VALUE=DATE:20200221
DTEND;VALUE=DATE:20200224
DTSTAMP:20260423T180048
CREATED:20190926T112149Z
LAST-MODIFIED:20200102T174447Z
UID:22710-1582243200-1582502399@www.bsv-ski.de
SUMMARY:Bayerischer Schülercup und Bayerische Meisterschaften
DESCRIPTION:Vom 21. bis zum 23.02.2020 findet der Bayerische Schülercup und die Bayerischen Meisterschaften in Oberstdorf statt. \n  \nAusschreibung folgt..
URL:https://www.bsv-ski.de/veranstaltung/bayerischer-schuelercup-und-bayerische-meisterschaften/
LOCATION:Oberstdorf\, Oberstdorf\, 87561\, Deutschland
CATEGORIES:Bayerischer Schülercup,Bayerische Meisterschaften
END:VEVENT
BEGIN:VEVENT
DTSTART;VALUE=DATE:20200223
DTEND;VALUE=DATE:20200224
DTSTAMP:20260423T180048
CREATED:20200213T074735Z
LAST-MODIFIED:20200217T085544Z
UID:24865-1582416000-1582502399@www.bsv-ski.de
SUMMARY:Bayerische Meisterschaft Freeski
DESCRIPTION:Die Bayerische Meisterschaft Freeski findet dieses Jahr in Oberammergau statt. Alle weitere Infos dazu finden Sie hier.
URL:https://www.bsv-ski.de/veranstaltung/bayerische-meisterschaft-freeski/
CATEGORIES:Bayerische Meisterschaften
END:VEVENT
END:VCALENDAR