BEGIN:VCALENDAR
VERSION:2.0
PRODID:-//Bayerischer Skiverband e.V. - ECPv6.15.20//NONSGML v1.0//EN
CALSCALE:GREGORIAN
METHOD:PUBLISH
X-ORIGINAL-URL:https://www.bsv-ski.de
X-WR-CALDESC:Veranstaltungen für Bayerischer Skiverband e.V.
REFRESH-INTERVAL;VALUE=DURATION:PT1H
X-Robots-Tag:noindex
X-PUBLISHED-TTL:PT1H
BEGIN:VTIMEZONE
TZID:Europe/Berlin
BEGIN:DAYLIGHT
TZOFFSETFROM:+0100
TZOFFSETTO:+0200
TZNAME:CEST
DTSTART:20190331T010000
END:DAYLIGHT
BEGIN:STANDARD
TZOFFSETFROM:+0200
TZOFFSETTO:+0100
TZNAME:CET
DTSTART:20191027T010000
END:STANDARD
BEGIN:DAYLIGHT
TZOFFSETFROM:+0100
TZOFFSETTO:+0200
TZNAME:CEST
DTSTART:20200329T010000
END:DAYLIGHT
BEGIN:STANDARD
TZOFFSETFROM:+0200
TZOFFSETTO:+0100
TZNAME:CET
DTSTART:20201025T010000
END:STANDARD
BEGIN:DAYLIGHT
TZOFFSETFROM:+0100
TZOFFSETTO:+0200
TZNAME:CEST
DTSTART:20210328T010000
END:DAYLIGHT
BEGIN:STANDARD
TZOFFSETFROM:+0200
TZOFFSETTO:+0100
TZNAME:CET
DTSTART:20211031T010000
END:STANDARD
END:VTIMEZONE
BEGIN:VEVENT
DTSTART;TZID=Europe/Berlin:20200201T080000
DTEND;TZID=Europe/Berlin:20200202T170000
DTSTAMP:20260423T172724
CREATED:20200123T075422Z
LAST-MODIFIED:20200131T122122Z
UID:24418-1580544000-1580662800@www.bsv-ski.de
SUMMARY:ABSAGE - Bayerncup Biathlon mit Bayrischen Meisterschaften
DESCRIPTION:Trotz aller Bemühungen müssen die Bayerischen Meisterschaften Biathlon in Neubau aufgrund der schlechten Schneebedingungen leider abgesagt werden. \nEin Erstatztermin wird schnellstmöglich gesucht. \n  \nAusschreibung BC Neubau Feb \nVeranstalter : Bayerischer Skiverband e.V \nAusrichter: Skiclub Neubau e.V.\nWettkampfort: Skistadion Neubau\nWettkampfbeauftragter: Alois Reiter o.V. / BSV\nOrganisation: Skiverband Oberfranken (BSV-F) \nWichtiger Hinweis: Parken bitte auf dem Großparkplatz 100 m vor dem Skistadion. Die Straße zum Stadion ist gesperrt – die Parkplätze direkt am Stadion sind für Bergwacht\, Versorgung und Gaststätte reserviert. \nWettkampfbestimmungen: 1. Die Wettkämpfe werden nach den Bestimmungen der IBU / DWO sowie den Ergänzungen und Modifizierungen des DSV  zu den Wettkampfregeln der IBU für nationale Wettbewerbe sowie dem Regelwerk des BSV durchgeführt. \n2. Startberechtigt sind Schnupperer der Klassen S 11–13\nund Schüler der Klassen und S 12–S 15\, die einem\nMitgliedsverein des BSV angehören und im Besitz einer gültigen\nRace-Card sind. \nMeldungen an: info@skiclub-neubau.de (nur durch die Gau-/Verbandsverantwortlichen mit Excelliste)\nWichtig: Bei den Meldungen sind die Schnupperer deutlich  als solche zu benennen! \nMeldeschluss: Donnerstag\, 30.01.2020/ 12.00 Uhr\nNenngeld: 8 .- € pro Wettkampf\nHaftung und Versicherung: Ausschreibung und Ergänzungen laut DSV. Teilnehmer und Betreuer müssen versichert sein. Der Veranstalter und Durchführer übernimmt keine Haftung für Unfälle oder Schäden\, auch nicht gegenüber Dritten. \nAnsprechpartner: Michael Stichling 015140147376 michaelstichling@kmcchain.eu\nSigurd Zapf Tel.: 0175-4625566 fam.zapf@online.de \nErgebnisse unter: Ergebnislisten werden unter www.sc-neubau.de online gestellt. Ein Versand der Listen erfolgt nicht. \nProgramm / Zeitfolge: \nÄnderung: \nEs wurde ausreichend Kunstschnee produziert\, nur leider konnte Strafrunde mehr erstellt werden. Deshalb werden die Wettkämpfe wie folgt abgeändert: \nSprint am Samstag: \nAlle Altersklassen jeweils gesamt 3 Runden mit -2- entsprechenden Schießeinlagen \nStrafzeiten müssen wir noch festlegen. \nEinzel am Sonntag: \nSchnupperer und S12 / S 13: \n3 Runden (ca. 3 km) : Liegend – Liegend \nS 14 / S 15: 5 Runden (ca. 5 km)  : Liegend – Stehend – Liegend – Stehend \nStrafzeiten ähnlich wie in Oberwiesenthal. \n  \nUrsprünglicher Zeitplan: \nSamstag\, 01.02.2020\nAb 15.30 Uhr Streckenbesichtigung\n16:30 Uhr Startnummernausgabe\n16:45 Uhr Waffenkontrolle \n16:45 Uhr Mannschaftsführerbesprechung\n17:30 bis 18:20 Uhr Anschießen\n18:30 Uhr Start Nachtsprint \n  \nSonntag\, 02.02.2020 \n8:15 Uhr Startnummernausgabe\n8:30 Uhr Waffenkontrolle\n8.30 Uhr Mannschaftsführerbesprechung\n9:00 bis 09:50 Uhr Anschießen\n10:00 Uhr Massenstart \nSiegerehrung für beide Tage im Anschluss an den Wettkampf \n  \nQuartiere: Tourismus-Büro Fichtelberg\nTel. 09272 / 97032 oder 97033\nFax 09272 / 97044\nemail: info@fichtelberg.de
URL:https://www.bsv-ski.de/veranstaltung/bayerncup-biathlon-mit-bayrischen-meisterschaften/
LOCATION:Skistadion Neubau\, Heinz-Brunner-Weg\, Fichtelberg\, 95686\, Deutschland
CATEGORIES:Bayerische Meisterschaften
END:VEVENT
END:VCALENDAR