BEGIN:VCALENDAR
VERSION:2.0
PRODID:-//Bayerischer Skiverband e.V. - ECPv6.15.20//NONSGML v1.0//EN
CALSCALE:GREGORIAN
METHOD:PUBLISH
X-ORIGINAL-URL:https://www.bsv-ski.de
X-WR-CALDESC:Veranstaltungen für Bayerischer Skiverband e.V.
REFRESH-INTERVAL;VALUE=DURATION:PT1H
X-Robots-Tag:noindex
X-PUBLISHED-TTL:PT1H
BEGIN:VTIMEZONE
TZID:Europe/Berlin
BEGIN:DAYLIGHT
TZOFFSETFROM:+0100
TZOFFSETTO:+0200
TZNAME:CEST
DTSTART:20160327T010000
END:DAYLIGHT
BEGIN:STANDARD
TZOFFSETFROM:+0200
TZOFFSETTO:+0100
TZNAME:CET
DTSTART:20161030T010000
END:STANDARD
BEGIN:DAYLIGHT
TZOFFSETFROM:+0100
TZOFFSETTO:+0200
TZNAME:CEST
DTSTART:20170326T010000
END:DAYLIGHT
BEGIN:STANDARD
TZOFFSETFROM:+0200
TZOFFSETTO:+0100
TZNAME:CET
DTSTART:20171029T010000
END:STANDARD
BEGIN:DAYLIGHT
TZOFFSETFROM:+0100
TZOFFSETTO:+0200
TZNAME:CEST
DTSTART:20180325T010000
END:DAYLIGHT
BEGIN:STANDARD
TZOFFSETFROM:+0200
TZOFFSETTO:+0100
TZNAME:CET
DTSTART:20181028T010000
END:STANDARD
END:VTIMEZONE
BEGIN:VEVENT
DTSTART;TZID=Europe/Berlin:20170106T090000
DTEND;TZID=Europe/Berlin:20170108T200000
DTSTAMP:20260424T171611
CREATED:20170102T140237Z
LAST-MODIFIED:20170103T093854Z
UID:2999-1483693200-1483905600@www.bsv-ski.de
SUMMARY:Alpencup DSV Jugendcup/Deutschlandpokal Oberwiesenthal
DESCRIPTION:  \nAusschreibung \nAnlage zur Ausschreibung \nZeitplan \n 
URL:https://www.bsv-ski.de/veranstaltung/alpencup-dsv-jugendcupdeutschlandpokal-oberwiesenthal/
LOCATION:Oberwiesenthal\, Deutschland
END:VEVENT
BEGIN:VEVENT
DTSTART;VALUE=DATE:20170113
DTEND;VALUE=DATE:20170116
DTSTAMP:20260424T171611
CREATED:20161129T145638Z
LAST-MODIFIED:20161129T145733Z
UID:2493-1484265600-1484524799@www.bsv-ski.de
SUMMARY:4. DSV Jugendcup/Deutschlandpokal Biathlon
DESCRIPTION:Ausschreibung
URL:https://www.bsv-ski.de/veranstaltung/4-dsv-jugendcupdeutschlandpokal-in-der-sparkassen-arena-altenberg/
LOCATION:„SPARKASSEN-ARENA“ Altenberg\, Altenberg\, Deutschland
END:VEVENT
BEGIN:VEVENT
DTSTART;VALUE=DATE:20170127
DTEND;VALUE=DATE:20170130
DTSTAMP:20260424T171611
CREATED:20161228T080748Z
LAST-MODIFIED:20161228T080943Z
UID:2978-1485475200-1485734399@www.bsv-ski.de
SUMMARY:DSV Jugendcup/Deutschlandpokal Biathlon
DESCRIPTION:Ausschreibung
URL:https://www.bsv-ski.de/veranstaltung/4-dsv-jugendcupdeutschlandpokal-biathlon/
LOCATION:Kaltenbrunn\, Kaltenbrunn
END:VEVENT
END:VCALENDAR