BEGIN:VCALENDAR
VERSION:2.0
PRODID:-//Bayerischer Skiverband e.V. - ECPv6.15.20//NONSGML v1.0//EN
CALSCALE:GREGORIAN
METHOD:PUBLISH
X-WR-CALNAME:Bayerischer Skiverband e.V.
X-ORIGINAL-URL:https://www.bsv-ski.de
X-WR-CALDESC:Veranstaltungen für Bayerischer Skiverband e.V.
REFRESH-INTERVAL;VALUE=DURATION:PT1H
X-Robots-Tag:noindex
X-PUBLISHED-TTL:PT1H
BEGIN:VTIMEZONE
TZID:Europe/Berlin
BEGIN:DAYLIGHT
TZOFFSETFROM:+0100
TZOFFSETTO:+0200
TZNAME:CEST
DTSTART:20160327T010000
END:DAYLIGHT
BEGIN:STANDARD
TZOFFSETFROM:+0200
TZOFFSETTO:+0100
TZNAME:CET
DTSTART:20161030T010000
END:STANDARD
BEGIN:DAYLIGHT
TZOFFSETFROM:+0100
TZOFFSETTO:+0200
TZNAME:CEST
DTSTART:20170326T010000
END:DAYLIGHT
BEGIN:STANDARD
TZOFFSETFROM:+0200
TZOFFSETTO:+0100
TZNAME:CET
DTSTART:20171029T010000
END:STANDARD
BEGIN:DAYLIGHT
TZOFFSETFROM:+0100
TZOFFSETTO:+0200
TZNAME:CEST
DTSTART:20180325T010000
END:DAYLIGHT
BEGIN:STANDARD
TZOFFSETFROM:+0200
TZOFFSETTO:+0100
TZNAME:CET
DTSTART:20181028T010000
END:STANDARD
END:VTIMEZONE
BEGIN:VEVENT
DTSTART;TZID=Europe/Berlin:20170225T080000
DTEND;TZID=Europe/Berlin:20170226T170000
DTSTAMP:20260421T235124
CREATED:20161206T082729Z
LAST-MODIFIED:20170227T080515Z
UID:2648-1488009600-1488128400@www.bsv-ski.de
SUMMARY:BAYERNCUP Nordische Kombination & Skisprung
DESCRIPTION:Ausschreibung \nErgebnisse: \n2017-02-25_BSM_Einzel_Ergebnisliste \n2017-02-25_BSM_NK_Sprung_Ergebnisliste \n2017-02-25_BC
URL:https://www.bsv-ski.de/veranstaltung/bayerncup-nordische-kombination-skisprung-2/
END:VEVENT
END:VCALENDAR