BEGIN:VCALENDAR
VERSION:2.0
PRODID:-//Bayerischer Skiverband e.V. - ECPv6.15.20//NONSGML v1.0//EN
CALSCALE:GREGORIAN
METHOD:PUBLISH
X-ORIGINAL-URL:https://www.bsv-ski.de
X-WR-CALDESC:Veranstaltungen für Bayerischer Skiverband e.V.
REFRESH-INTERVAL;VALUE=DURATION:PT1H
X-Robots-Tag:noindex
X-PUBLISHED-TTL:PT1H
BEGIN:VTIMEZONE
TZID:Europe/Berlin
BEGIN:DAYLIGHT
TZOFFSETFROM:+0100
TZOFFSETTO:+0200
TZNAME:CEST
DTSTART:20160327T010000
END:DAYLIGHT
BEGIN:STANDARD
TZOFFSETFROM:+0200
TZOFFSETTO:+0100
TZNAME:CET
DTSTART:20161030T010000
END:STANDARD
BEGIN:DAYLIGHT
TZOFFSETFROM:+0100
TZOFFSETTO:+0200
TZNAME:CEST
DTSTART:20170326T010000
END:DAYLIGHT
BEGIN:STANDARD
TZOFFSETFROM:+0200
TZOFFSETTO:+0100
TZNAME:CET
DTSTART:20171029T010000
END:STANDARD
BEGIN:DAYLIGHT
TZOFFSETFROM:+0100
TZOFFSETTO:+0200
TZNAME:CEST
DTSTART:20180325T010000
END:DAYLIGHT
BEGIN:STANDARD
TZOFFSETFROM:+0200
TZOFFSETTO:+0100
TZNAME:CET
DTSTART:20181028T010000
END:STANDARD
END:VTIMEZONE
BEGIN:VEVENT
DTSTART;VALUE=DATE:20170914
DTEND;VALUE=DATE:20170917
DTSTAMP:20260422T051114
CREATED:20170810T131443Z
LAST-MODIFIED:20170912T063223Z
UID:5959-1505347200-1505606399@www.bsv-ski.de
SUMMARY:DSV Jugendcup/Deutschlandpokal Skisprung und Nordische Kombination
DESCRIPTION:  \n  \nAusschreibung DSV Jugendcup/ Deutschlandpokal Skisprung NK Oberstdorf \nZeitplan DSV Jugendcup/ Deutschlandpokal SKisprung NK Oberstdorf
URL:https://www.bsv-ski.de/veranstaltung/dsv-jugendcupdeutschlandpokal-skisprung-und-nordische-kombination/
LOCATION:Erdinger Arena Oberstdorf\, Am Faltenbach 27\, Oberstdorf\, 87561 \, Deutschland
END:VEVENT
END:VCALENDAR