BEGIN:VCALENDAR
VERSION:2.0
PRODID:-//Bayerischer Skiverband e.V. - ECPv6.15.20//NONSGML v1.0//EN
CALSCALE:GREGORIAN
METHOD:PUBLISH
X-WR-CALNAME:Bayerischer Skiverband e.V.
X-ORIGINAL-URL:https://www.bsv-ski.de
X-WR-CALDESC:Veranstaltungen für Bayerischer Skiverband e.V.
REFRESH-INTERVAL;VALUE=DURATION:PT1H
X-Robots-Tag:noindex
X-PUBLISHED-TTL:PT1H
BEGIN:VTIMEZONE
TZID:Europe/Berlin
BEGIN:DAYLIGHT
TZOFFSETFROM:+0100
TZOFFSETTO:+0200
TZNAME:CEST
DTSTART:20160327T010000
END:DAYLIGHT
BEGIN:STANDARD
TZOFFSETFROM:+0200
TZOFFSETTO:+0100
TZNAME:CET
DTSTART:20161030T010000
END:STANDARD
BEGIN:DAYLIGHT
TZOFFSETFROM:+0100
TZOFFSETTO:+0200
TZNAME:CEST
DTSTART:20170326T010000
END:DAYLIGHT
BEGIN:STANDARD
TZOFFSETFROM:+0200
TZOFFSETTO:+0100
TZNAME:CET
DTSTART:20171029T010000
END:STANDARD
BEGIN:DAYLIGHT
TZOFFSETFROM:+0100
TZOFFSETTO:+0200
TZNAME:CEST
DTSTART:20180325T010000
END:DAYLIGHT
BEGIN:STANDARD
TZOFFSETFROM:+0200
TZOFFSETTO:+0100
TZNAME:CET
DTSTART:20181028T010000
END:STANDARD
END:VTIMEZONE
BEGIN:VEVENT
DTSTART;VALUE=DATE:20170107
DTEND;VALUE=DATE:20170109
DTSTAMP:20260423T030150
CREATED:20161206T082132Z
LAST-MODIFIED:20161206T082907Z
UID:2641-1483747200-1483919999@www.bsv-ski.de
SUMMARY:BAYERNCUP Nordische Kombination & Skisprung
DESCRIPTION:Ausschreibung
URL:https://www.bsv-ski.de/veranstaltung/bayerncup-nordische-kombination-skisprung/
END:VEVENT
BEGIN:VEVENT
DTSTART;TZID=Europe/Berlin:20170120T080000
DTEND;TZID=Europe/Berlin:20170122T170000
DTSTAMP:20260423T030150
CREATED:20161129T085635Z
LAST-MODIFIED:20170124T091558Z
UID:2449-1484899200-1485104400@www.bsv-ski.de
SUMMARY:DSV Milka Schülercup
DESCRIPTION:Ausschreibung \n \nErgebnisliste 20.01. \nErgebnisliste 21.01. \nErgebnisse 22.01. Cupwertung NK \nErgebnisse 22.01. Cupwertung SP \nErgebnisliste 22.01.
URL:https://www.bsv-ski.de/veranstaltung/dsv-milka-schuelercup-2/
LOCATION:Schmiedefeld / a. Rstg
END:VEVENT
BEGIN:VEVENT
DTSTART;VALUE=DATE:20170128
DTEND;VALUE=DATE:20170129
DTSTAMP:20260423T030150
CREATED:20161206T082558Z
LAST-MODIFIED:20161206T082558Z
UID:2645-1485561600-1485647999@www.bsv-ski.de
SUMMARY:BAYERNCUP Nordische Kombination & Skissprung
DESCRIPTION:Ausschreibung
URL:https://www.bsv-ski.de/veranstaltung/bayerncup-nordische-kombination-skissprung/
END:VEVENT
END:VCALENDAR