BEGIN:VCALENDAR
VERSION:2.0
PRODID:-//Bayerischer Skiverband e.V. - ECPv6.15.20//NONSGML v1.0//EN
CALSCALE:GREGORIAN
METHOD:PUBLISH
X-ORIGINAL-URL:https://www.bsv-ski.de
X-WR-CALDESC:Veranstaltungen für Bayerischer Skiverband e.V.
REFRESH-INTERVAL;VALUE=DURATION:PT1H
X-Robots-Tag:noindex
X-PUBLISHED-TTL:PT1H
BEGIN:VTIMEZONE
TZID:Europe/Berlin
BEGIN:DAYLIGHT
TZOFFSETFROM:+0100
TZOFFSETTO:+0200
TZNAME:CEST
DTSTART:20180325T010000
END:DAYLIGHT
BEGIN:STANDARD
TZOFFSETFROM:+0200
TZOFFSETTO:+0100
TZNAME:CET
DTSTART:20181028T010000
END:STANDARD
BEGIN:DAYLIGHT
TZOFFSETFROM:+0100
TZOFFSETTO:+0200
TZNAME:CEST
DTSTART:20190331T010000
END:DAYLIGHT
BEGIN:STANDARD
TZOFFSETFROM:+0200
TZOFFSETTO:+0100
TZNAME:CET
DTSTART:20191027T010000
END:STANDARD
BEGIN:DAYLIGHT
TZOFFSETFROM:+0100
TZOFFSETTO:+0200
TZNAME:CEST
DTSTART:20200329T010000
END:DAYLIGHT
BEGIN:STANDARD
TZOFFSETFROM:+0200
TZOFFSETTO:+0100
TZNAME:CET
DTSTART:20201025T010000
END:STANDARD
END:VTIMEZONE
BEGIN:VEVENT
DTSTART;TZID=Europe/Berlin:20190727T100000
DTEND;TZID=Europe/Berlin:20190727T100000
DTSTAMP:20260424T055413
CREATED:20190704T095347Z
LAST-MODIFIED:20190724T111849Z
UID:21469-1564221600-1564221600@www.bsv-ski.de
SUMMARY:Biathlon: Race Night Deggendorf
DESCRIPTION:Biathlon Freunde aufgepasst! Am 27. Juli findet die Race Night in Deggendorf statt. \nVon 10 bis 16 Uhr wird das Nachwuchsförderungskonzept des Deutschen Skiverbandes mit Fritz Fischer interessierte Jugendliche einladen\, sich auf Parcour & Schießstand zu messen und den Shooting Star von morgen zu ermitteln. Darüberhinaus wird es um 15 Uhr eine DSV-Athletenvorstellung\, unter anderem mit Denise Herrmann\, geben. \nDie Biathlon Rennen starten ab 15:30 mit den Vorläufen und enden um 19:30 mit dem Finale. \nBesucher erwartet zudem ein großes Rahmenangebot mitsamt Sportstationen\, Spendenlauf\, Musik und Verlosungen. \nWeitere Informationen erhalten Sie hier: Einladung Race Night
URL:https://www.bsv-ski.de/veranstaltung/biathlon-race-night-deggerndorf/
END:VEVENT
END:VCALENDAR