BEGIN:VCALENDAR
VERSION:2.0
PRODID:-//Bayerischer Skiverband e.V. - ECPv6.15.20//NONSGML v1.0//EN
CALSCALE:GREGORIAN
METHOD:PUBLISH
X-WR-CALNAME:Bayerischer Skiverband e.V.
X-ORIGINAL-URL:https://www.bsv-ski.de
X-WR-CALDESC:Veranstaltungen für Bayerischer Skiverband e.V.
REFRESH-INTERVAL;VALUE=DURATION:PT1H
X-Robots-Tag:noindex
X-PUBLISHED-TTL:PT1H
BEGIN:VTIMEZONE
TZID:Europe/Berlin
BEGIN:DAYLIGHT
TZOFFSETFROM:+0100
TZOFFSETTO:+0200
TZNAME:CEST
DTSTART:20180325T010000
END:DAYLIGHT
BEGIN:STANDARD
TZOFFSETFROM:+0200
TZOFFSETTO:+0100
TZNAME:CET
DTSTART:20181028T010000
END:STANDARD
BEGIN:DAYLIGHT
TZOFFSETFROM:+0100
TZOFFSETTO:+0200
TZNAME:CEST
DTSTART:20190331T010000
END:DAYLIGHT
BEGIN:STANDARD
TZOFFSETFROM:+0200
TZOFFSETTO:+0100
TZNAME:CET
DTSTART:20191027T010000
END:STANDARD
BEGIN:DAYLIGHT
TZOFFSETFROM:+0100
TZOFFSETTO:+0200
TZNAME:CEST
DTSTART:20200329T010000
END:DAYLIGHT
BEGIN:STANDARD
TZOFFSETFROM:+0200
TZOFFSETTO:+0100
TZNAME:CET
DTSTART:20201025T010000
END:STANDARD
END:VTIMEZONE
BEGIN:VEVENT
DTSTART;VALUE=DATE:20191030
DTEND;VALUE=DATE:20191104
DTSTAMP:20260423T205029
CREATED:20190715T120359Z
LAST-MODIFIED:20190715T133150Z
UID:21612-1572393600-1572825599@www.bsv-ski.de
SUMMARY:Herbst-Renncamp Ski Alpin
DESCRIPTION:ncam \nDie ArGe Ski-Inline wird vom 30.10 bis zum 03.11 ein Renncamp-Alpin veranstalten. \nWichtige Infos: \nLehrgangsleitung: Andre Lehmann (ArGe Ski-Inline) \nTrainingsleitung: Georg Meeh (ArGe Ski-Inline) \nTrainer: erfahrenes Trainerteam aus den Landesskiverbänden \nTeilnehmerkreis: Sportler der Jahrgänge 2013 und älter \nEs wird darauf geachtet\, die Kids und Teens altersgerecht „sauber“ auf den Ski zu stellen. Parallel zu den „Profis“ kommen also auch die jüngeren Sportler oder Einsteiger ins alpine Renngeschäft auf ihre Kosten. \nTrainingsinhalt: Ski Alpin Renntraining \nTrainingsbeginn (Planung): 31.10. bis 03.11.2019 jeweils um 08.15 Uhr in Kaprun (AUT) (genauer Trainingsort wird noch bekannt gegeben) \nTrainingsende: \n\ntäglich variabel vor Ort\nam 03.11.2019 spätestens 15.00 Uhr\,\nalle Teilnehmer erhalten vor Trainingsbeginn einen detaillierten Zeitplan\n\n  \nÜbernachtung: Die Unterbringung ist grundsätzlich jedem freigestellt. Es wird eine zentrale Lehrgangsunterkunft zu günstigen Preisen angeboten. Der Preisrahmen bei Vollverpflegung wird sich in etwa wie folgt bewegen: \nKinder/Jugendliche (17 Jahre)              circa EUR 40\,– \nErwachsene (18 J. + älter)                     circa EUR 50\,- \nKostenbeitrag: Der Lehrgang wird zum Selbstkostenpreis angeboten. Sobald die genaue Teilnehmerzahl vorliegt\, wird der Lehrgang final kalkuliert. Aufgrund der bisherigen Erfahrungen wird von einer Lehrgangsumlage von max. EUR 32\,50 täglich\, also insgesamt EUR 130\,– ausgegangen. \nDer Lehrgangsbeitrag wird mit der Benennung und Lehrgangsbestätigung fällig und ist dann unverzüglich auf das in der Lehrgangsbestätigung benannte Konto zu zahlen. \nSkipasspreise: Nachstehend die regulären Skipasspreise für 4 Tage exkl. EUR 2\,– Pfand für Keycard. Bei entsprechender Teilnehmerzahl wird versucht\, ein Nachlass auszuhandeln. \nEUR     0\,–       Kinder (Jg. 2013 und jünger) \nEUR   92\,–        Kids/Teens (Jg. 2004 – 2013) \nEUR 138\,–        Jugend (Jg. 2001 – 2003) \nEUR 184\,50       Erwachsene (Jg. 2000 und älter) \nTransport: \nDie Anreise sowie der Transport vor Ort ist auf eigene Veranlassung und Kosten durchzuführen. Es wird versucht\, hierbei Hilfestellungen zu geben und insbesondere die Transporte vor Ort zu koordinieren. \nBitte gebt daher bei Eurer Meldung an\, ob Ihr vor Ort beim Transport zu den Trainingsstrecken noch freie Plätze zur Verfügung stellen könnt. \nDurchführung: \nFür die Durchführung des Lehrgangs in der vorgenannten Form/Kosten\, ist eine Mindestteilnehmerzahl von 24 Sportlern erforderlich. Sollte die Mindestteilnehmerzahl bis zum 01.09.2019 nicht erreicht sein\, behalten sich die Organisatoren die Absage des Lehrgangs vor. \nVerbindliche Anmeldungen unter http://bit.ly/2J1yTB5. Die Teilnehmerzahl ist begrenzt\, es entscheidet die Reihenfolge der Anmeldung. \nWeitere Informationen finden Sie hier Einladung_Herbstcamp2019
URL:https://www.bsv-ski.de/veranstaltung/herbst-renncamp-ski-alpin-30-10-03-11-2019/
END:VEVENT
END:VCALENDAR