BEGIN:VCALENDAR
VERSION:2.0
PRODID:-//Bayerischer Skiverband e.V. - ECPv6.15.20//NONSGML v1.0//EN
CALSCALE:GREGORIAN
METHOD:PUBLISH
X-ORIGINAL-URL:https://www.bsv-ski.de
X-WR-CALDESC:Veranstaltungen für Bayerischer Skiverband e.V.
REFRESH-INTERVAL;VALUE=DURATION:PT1H
X-Robots-Tag:noindex
X-PUBLISHED-TTL:PT1H
BEGIN:VTIMEZONE
TZID:Europe/Berlin
BEGIN:DAYLIGHT
TZOFFSETFROM:+0100
TZOFFSETTO:+0200
TZNAME:CEST
DTSTART:20180325T010000
END:DAYLIGHT
BEGIN:STANDARD
TZOFFSETFROM:+0200
TZOFFSETTO:+0100
TZNAME:CET
DTSTART:20181028T010000
END:STANDARD
BEGIN:DAYLIGHT
TZOFFSETFROM:+0100
TZOFFSETTO:+0200
TZNAME:CEST
DTSTART:20190331T010000
END:DAYLIGHT
BEGIN:STANDARD
TZOFFSETFROM:+0200
TZOFFSETTO:+0100
TZNAME:CET
DTSTART:20191027T010000
END:STANDARD
BEGIN:DAYLIGHT
TZOFFSETFROM:+0100
TZOFFSETTO:+0200
TZNAME:CEST
DTSTART:20200329T010000
END:DAYLIGHT
BEGIN:STANDARD
TZOFFSETFROM:+0200
TZOFFSETTO:+0100
TZNAME:CET
DTSTART:20201025T010000
END:STANDARD
END:VTIMEZONE
BEGIN:VEVENT
DTSTART;TZID=Europe/Berlin:20190706T090000
DTEND;TZID=Europe/Berlin:20190706T090000
DTSTAMP:20260424T154405
CREATED:20190621T125411Z
LAST-MODIFIED:20190701T103826Z
UID:21319-1562403600-1562403600@www.bsv-ski.de
SUMMARY:Einladung zum DSV-Trainertag Skilanglauf am 6. Juli 2019 in Oberhaching
DESCRIPTION:Alle Wintersportfreunde aufgepasst: Am 06. Juli veranstaltet der Deutsche Skiverband zum ersten Mal den Trainertag Skilanglauf. Hierzu sind Trainer\, Sportler\, Eltern und Freunde des Langlaufsports recht herzlich eingeladen. \nEine Anmeldung zum Trainertag ist nicht notwendig – kommen Sie einfach vorbei! \nDatum: 06. Juli 2019 \nBeginn: 9:00 Uhr \nOrt: Sportschule Oberhaching\, Im Loh 2\, 82041 Oberhaching \n  \nWeitere Informationen finden Sie hier: Offizielle Einladung \n  \n 
URL:https://www.bsv-ski.de/veranstaltung/einladung-zum-dsv-trainertag-skilanglauf-am-6-juli-2019-in-oberhaching/
LOCATION:BLSV Sportschule Oberhaching\, Im Loh 2\, Oberhaching\, 82041\, Deutschland
CATEGORIES:Aus- und Fortbildung
ATTACH;FMTTYPE=image/png:https://www.bsv-ski.de/wp-content/uploads/2017/06/dsv-trainerschule-beitrag-e1561121583956.png
END:VEVENT
END:VCALENDAR