BEGIN:VCALENDAR
VERSION:2.0
PRODID:-//Bayerischer Skiverband e.V. - ECPv6.15.20//NONSGML v1.0//EN
CALSCALE:GREGORIAN
METHOD:PUBLISH
X-WR-CALNAME:Bayerischer Skiverband e.V.
X-ORIGINAL-URL:https://www.bsv-ski.de
X-WR-CALDESC:Veranstaltungen für Bayerischer Skiverband e.V.
REFRESH-INTERVAL;VALUE=DURATION:PT1H
X-Robots-Tag:noindex
X-PUBLISHED-TTL:PT1H
BEGIN:VTIMEZONE
TZID:Europe/Berlin
BEGIN:DAYLIGHT
TZOFFSETFROM:+0100
TZOFFSETTO:+0200
TZNAME:CEST
DTSTART:20210328T010000
END:DAYLIGHT
BEGIN:STANDARD
TZOFFSETFROM:+0200
TZOFFSETTO:+0100
TZNAME:CET
DTSTART:20211031T010000
END:STANDARD
BEGIN:DAYLIGHT
TZOFFSETFROM:+0100
TZOFFSETTO:+0200
TZNAME:CEST
DTSTART:20220327T010000
END:DAYLIGHT
BEGIN:STANDARD
TZOFFSETFROM:+0200
TZOFFSETTO:+0100
TZNAME:CET
DTSTART:20221030T010000
END:STANDARD
BEGIN:DAYLIGHT
TZOFFSETFROM:+0100
TZOFFSETTO:+0200
TZNAME:CEST
DTSTART:20230326T010000
END:DAYLIGHT
BEGIN:STANDARD
TZOFFSETFROM:+0200
TZOFFSETTO:+0100
TZNAME:CET
DTSTART:20231029T010000
END:STANDARD
END:VTIMEZONE
BEGIN:VEVENT
DTSTART;VALUE=DATE:20220205
DTEND;VALUE=DATE:20220207
DTSTAMP:20260422T052856
CREATED:20210728T132122Z
LAST-MODIFIED:20220207T153517Z
UID:269267-1644019200-1644191999@www.bsv-ski.de
SUMMARY:Deutscher Schülercup Skilanglauf in Marienberg | 05.-06.02.2022
DESCRIPTION:ATSV Gebirge Gelobtland (SVS) \nAltersklasse: ab U13 \nZu den Ergebnissen: \nErgebnisliste \nErgebnisliste06022022
URL:https://www.bsv-ski.de/veranstaltung/deutscher-schuelercup-skilanglauf-in-marienberg-05-06-02-2022/
LOCATION:Marienberg\, Marienberg
CATEGORIES:Deutscher Schülercup
END:VEVENT
BEGIN:VEVENT
DTSTART;VALUE=DATE:20220211
DTEND;VALUE=DATE:20220214
DTSTAMP:20260422T052856
CREATED:20210728T131344Z
LAST-MODIFIED:20220214T125814Z
UID:269261-1644537600-1644796799@www.bsv-ski.de
SUMMARY:Bayerische Meisterschaften Skilanglauf in Lenggries | 12.-13.02.2022
DESCRIPTION:Ausschreibung BM \nZu den Ergebnissen: \nErgebnisliste BM 2022 Einzel klassik offiziell (1) \nErgebnisliste Staffel vor Protest \nErgebnisliste Team vor Protest
URL:https://www.bsv-ski.de/veranstaltung/bayerische-meisterschaften-skilanglauf-in-lenggries-12-13-02-2022/
LOCATION:Lenggries\, 83661\, Deutschland
CATEGORIES:Bayerische Meisterschaften
END:VEVENT
BEGIN:VEVENT
DTSTART;VALUE=DATE:20220218
DTEND;VALUE=DATE:20220221
DTSTAMP:20260422T052856
CREATED:20210728T134808Z
LAST-MODIFIED:20210728T134808Z
UID:269280-1645142400-1645401599@www.bsv-ski.de
SUMMARY:Deutschlandpokal + Deutsche Meisterschaften Skilanglauf in Oberhof | 18.-20.02.2022
DESCRIPTION:WSV Goldlauter (TSV)\, FIS \nAltersklasse: ab U16
URL:https://www.bsv-ski.de/veranstaltung/deutschlandpokal-deutsche-meisterschaften-skilanglauf-in-oberhof-18-20-02-2022/
LOCATION:oberhof\, Oberhof
CATEGORIES:Deutschlandpokal,Deutsche Meisterschaften
END:VEVENT
END:VCALENDAR