BEGIN:VCALENDAR
VERSION:2.0
PRODID:-//Bayerischer Skiverband e.V. - ECPv6.15.20//NONSGML v1.0//EN
CALSCALE:GREGORIAN
METHOD:PUBLISH
X-WR-CALNAME:Bayerischer Skiverband e.V.
X-ORIGINAL-URL:https://www.bsv-ski.de
X-WR-CALDESC:Veranstaltungen für Bayerischer Skiverband e.V.
REFRESH-INTERVAL;VALUE=DURATION:PT1H
X-Robots-Tag:noindex
X-PUBLISHED-TTL:PT1H
BEGIN:VTIMEZONE
TZID:Europe/Berlin
BEGIN:DAYLIGHT
TZOFFSETFROM:+0100
TZOFFSETTO:+0200
TZNAME:CEST
DTSTART:20210328T010000
END:DAYLIGHT
BEGIN:STANDARD
TZOFFSETFROM:+0200
TZOFFSETTO:+0100
TZNAME:CET
DTSTART:20211031T010000
END:STANDARD
BEGIN:DAYLIGHT
TZOFFSETFROM:+0100
TZOFFSETTO:+0200
TZNAME:CEST
DTSTART:20220327T010000
END:DAYLIGHT
BEGIN:STANDARD
TZOFFSETFROM:+0200
TZOFFSETTO:+0100
TZNAME:CET
DTSTART:20221030T010000
END:STANDARD
BEGIN:DAYLIGHT
TZOFFSETFROM:+0100
TZOFFSETTO:+0200
TZNAME:CEST
DTSTART:20230326T010000
END:DAYLIGHT
BEGIN:STANDARD
TZOFFSETFROM:+0200
TZOFFSETTO:+0100
TZNAME:CET
DTSTART:20231029T010000
END:STANDARD
END:VTIMEZONE
BEGIN:VEVENT
DTSTART;VALUE=DATE:20220311
DTEND;VALUE=DATE:20220314
DTSTAMP:20260422T034623
CREATED:20210728T132432Z
LAST-MODIFIED:20210728T132432Z
UID:269270-1646956800-1647215999@www.bsv-ski.de
SUMMARY:Deutscher Schülercup Skilanglauf in Partenkirchen | 11.-13.03.2022
DESCRIPTION:SC Partenkirchen (BSV) \nAltersklasse: ab U14
URL:https://www.bsv-ski.de/veranstaltung/deutscher-schuelercup-skilanglauf-in-partenkirchen-11-13-03-2022/
LOCATION:Partenkirchen
CATEGORIES:Deutscher Schülercup
END:VEVENT
BEGIN:VEVENT
DTSTART;VALUE=DATE:20220319
DTEND;VALUE=DATE:20220321
DTSTAMP:20260422T034623
CREATED:20210728T135248Z
LAST-MODIFIED:20220322T092405Z
UID:269282-1647648000-1647820799@www.bsv-ski.de
SUMMARY:Deutschlandpokal Skilanglauf in Hirschau | 19.-20.03.2022
DESCRIPTION:SCMK Hirschau (BSV) \nAltersklasse: ab U16 \nZur Ergebnisliste: https://www.bsv-ski.de/wp-content/uploads/2021/07/Ergebnissliste_offiziell_-AK_MassenstartF.pdf
URL:https://www.bsv-ski.de/veranstaltung/deutschlandpokal-skilanglauf-in-hirschau-19-20-03-2022/
LOCATION:Hirschau\, Hirschau\, 92242\, Deutschland
CATEGORIES:Deutschlandpokal
END:VEVENT
END:VCALENDAR