BEGIN:VCALENDAR
VERSION:2.0
PRODID:-//Bayerischer Skiverband e.V. - ECPv6.15.20//NONSGML v1.0//EN
CALSCALE:GREGORIAN
METHOD:PUBLISH
X-WR-CALNAME:Bayerischer Skiverband e.V.
X-ORIGINAL-URL:https://www.bsv-ski.de
X-WR-CALDESC:Veranstaltungen für Bayerischer Skiverband e.V.
REFRESH-INTERVAL;VALUE=DURATION:PT1H
X-Robots-Tag:noindex
X-PUBLISHED-TTL:PT1H
BEGIN:VTIMEZONE
TZID:Europe/Berlin
BEGIN:DAYLIGHT
TZOFFSETFROM:+0100
TZOFFSETTO:+0200
TZNAME:CEST
DTSTART:20210328T010000
END:DAYLIGHT
BEGIN:STANDARD
TZOFFSETFROM:+0200
TZOFFSETTO:+0100
TZNAME:CET
DTSTART:20211031T010000
END:STANDARD
BEGIN:DAYLIGHT
TZOFFSETFROM:+0100
TZOFFSETTO:+0200
TZNAME:CEST
DTSTART:20220327T010000
END:DAYLIGHT
BEGIN:STANDARD
TZOFFSETFROM:+0200
TZOFFSETTO:+0100
TZNAME:CET
DTSTART:20221030T010000
END:STANDARD
BEGIN:DAYLIGHT
TZOFFSETFROM:+0100
TZOFFSETTO:+0200
TZNAME:CEST
DTSTART:20230326T010000
END:DAYLIGHT
BEGIN:STANDARD
TZOFFSETFROM:+0200
TZOFFSETTO:+0100
TZNAME:CET
DTSTART:20231029T010000
END:STANDARD
END:VTIMEZONE
BEGIN:VEVENT
DTSTART;VALUE=DATE:20220401
DTEND;VALUE=DATE:20220404
DTSTAMP:20260422T015603
CREATED:20210728T140118Z
LAST-MODIFIED:20220404T093258Z
UID:269284-1648771200-1649030399@www.bsv-ski.de
SUMMARY:Deutschlandpokal + Deutsche Meisterschaften Skilanglauf in Oberwiesenthal | 01. - 03.04.2022
DESCRIPTION:WSC Erzgebirge Oberwiesenthal (SVS) \nAltersklasse: ab U16 \nZu den Ergebnislisten: \nhttps://www.bsv-ski.de/wp-content/uploads/2021/07/Ergebnis-Supersprint-14-15-m_w.pdf \nhttps://www.bsv-ski.de/wp-content/uploads/2021/07/Ergebnisliste_DM_MS_02042022_AK.pdf \nhttps://www.bsv-ski.de/wp-content/uploads/2021/07/Ergebnisliste_Teamsprint_01042022.pdf \nhttps://www.bsv-ski.de/wp-content/uploads/2021/07/Ergebnisliste_Vereinsstaffel_03042022.pdf \nhttps://www.bsv-ski.de/wp-content/uploads/2021/07/Pokalwertung_DP_2022_ges.pdf
URL:https://www.bsv-ski.de/veranstaltung/deutschlandpokal-deutsche-meisterschaften-skilanglauf-in-oberwiesenthal-01-03-04-2022/
LOCATION:Oberwiesenthal
CATEGORIES:Deutschlandpokal,Deutsche Meisterschaften
END:VEVENT
END:VCALENDAR