BEGIN:VCALENDAR
VERSION:2.0
PRODID:-//Bayerischer Skiverband e.V. - ECPv6.15.20//NONSGML v1.0//EN
CALSCALE:GREGORIAN
METHOD:PUBLISH
X-WR-CALNAME:Bayerischer Skiverband e.V.
X-ORIGINAL-URL:https://www.bsv-ski.de
X-WR-CALDESC:Veranstaltungen für Bayerischer Skiverband e.V.
REFRESH-INTERVAL;VALUE=DURATION:PT1H
X-Robots-Tag:noindex
X-PUBLISHED-TTL:PT1H
BEGIN:VTIMEZONE
TZID:Europe/Berlin
BEGIN:DAYLIGHT
TZOFFSETFROM:+0100
TZOFFSETTO:+0200
TZNAME:CEST
DTSTART:20180325T010000
END:DAYLIGHT
BEGIN:STANDARD
TZOFFSETFROM:+0200
TZOFFSETTO:+0100
TZNAME:CET
DTSTART:20181028T010000
END:STANDARD
BEGIN:DAYLIGHT
TZOFFSETFROM:+0100
TZOFFSETTO:+0200
TZNAME:CEST
DTSTART:20190331T010000
END:DAYLIGHT
BEGIN:STANDARD
TZOFFSETFROM:+0200
TZOFFSETTO:+0100
TZNAME:CET
DTSTART:20191027T010000
END:STANDARD
BEGIN:DAYLIGHT
TZOFFSETFROM:+0100
TZOFFSETTO:+0200
TZNAME:CEST
DTSTART:20200329T010000
END:DAYLIGHT
BEGIN:STANDARD
TZOFFSETFROM:+0200
TZOFFSETTO:+0100
TZNAME:CET
DTSTART:20201025T010000
END:STANDARD
END:VTIMEZONE
BEGIN:VEVENT
DTSTART;TZID=Europe/Berlin:20190316T150000
DTEND;TZID=Europe/Berlin:20190317T140000
DTSTAMP:20260423T033710
CREATED:20190311T115001Z
LAST-MODIFIED:20190311T115001Z
UID:20033-1552748400-1552831200@www.bsv-ski.de
SUMMARY:Deutschlandpokal und Skiliga Bayern Finale
DESCRIPTION:Auf in den letzten Akt. Der Deutschlandpokal und die Skiliga Bayern sorgen für Spannung im Saisonendspurt. Am 16. und 17. März wollen die besten Nachwuchsrennläufer Bayerns am Audi Skizentrum Sonnenbichl in Bad Wiessee ihre Saison krönen. Hierbei werden sich die Ski-Asse am Samstag sowohl im Einzel als auch im Team beim Parallel Slalom duellieren. Während im Einzel ab 15 Uhr die individuelle Qualität im Vordergrund steht\, geht es ab 18 Uhr um geballte Mannschaftsstärke im Teamwettbewerb. \nWelches bayerisches Nachwuchstalent über die gesamte Saison am schnellsten und vor allem konstantesten unterwegs war\, entscheidet sich am Sonntag. Der Riesenlalom-Wettbewerb wird nämlich den Abschluss der diesjährigen Bayernliga-Saison bilden. Wer hierbei die schnellsten Schwünge in den Schnee legt entscheidet sich ab 10 Uhr. Nach dem Rennen werden die besten Fahrer und Teams bei der Siegerehrung für ihre Leistungen sowohl am Renntag als auch in der Gesamtsaison geehrt. \nMeldungen können noch bis zum 15.03. 2019 bis 18 Uhr unter www. rennmeldung.de eingereicht werden. \nWeitere Informationen finden Sie in der Ausschreibung.
URL:https://www.bsv-ski.de/veranstaltung/deutschlandpokal-und-skiliga-bayern-finale/
LOCATION:Audi Skizentrum Sonnenbichl\, Sonnenbichlweg 2\, Bad Wiessee\, 83707\, Deutschland
END:VEVENT
END:VCALENDAR