BEGIN:VCALENDAR
VERSION:2.0
PRODID:-//Bayerischer Skiverband e.V. - ECPv6.15.20//NONSGML v1.0//EN
CALSCALE:GREGORIAN
METHOD:PUBLISH
X-WR-CALNAME:Bayerischer Skiverband e.V.
X-ORIGINAL-URL:https://www.bsv-ski.de
X-WR-CALDESC:Veranstaltungen für Bayerischer Skiverband e.V.
REFRESH-INTERVAL;VALUE=DURATION:PT1H
X-Robots-Tag:noindex
X-PUBLISHED-TTL:PT1H
BEGIN:VTIMEZONE
TZID:Europe/Berlin
BEGIN:DAYLIGHT
TZOFFSETFROM:+0100
TZOFFSETTO:+0200
TZNAME:CEST
DTSTART:20160327T010000
END:DAYLIGHT
BEGIN:STANDARD
TZOFFSETFROM:+0200
TZOFFSETTO:+0100
TZNAME:CET
DTSTART:20161030T010000
END:STANDARD
BEGIN:DAYLIGHT
TZOFFSETFROM:+0100
TZOFFSETTO:+0200
TZNAME:CEST
DTSTART:20170326T010000
END:DAYLIGHT
BEGIN:STANDARD
TZOFFSETFROM:+0200
TZOFFSETTO:+0100
TZNAME:CET
DTSTART:20171029T010000
END:STANDARD
BEGIN:DAYLIGHT
TZOFFSETFROM:+0100
TZOFFSETTO:+0200
TZNAME:CEST
DTSTART:20180325T010000
END:DAYLIGHT
BEGIN:STANDARD
TZOFFSETFROM:+0200
TZOFFSETTO:+0100
TZNAME:CET
DTSTART:20181028T010000
END:STANDARD
END:VTIMEZONE
BEGIN:VEVENT
DTSTART;VALUE=DATE:20170304
DTEND;VALUE=DATE:20170305
DTSTAMP:20260423T055748
CREATED:20170306T073117Z
LAST-MODIFIED:20170306T073117Z
UID:3885-1488585600-1488671999@www.bsv-ski.de
SUMMARY:31. Möbel Löffler Mini-Schanzen Tournee
DESCRIPTION:Ergebnisse Mannschaftsspringen \nPokalwertung Nordische Kombination \nPokalwertung Sprung
URL:https://www.bsv-ski.de/veranstaltung/31-moebel-loeffler-mini-schanzen-tournee/
LOCATION:Oberstdorf\, Oberstdorf\, 87561\, Deutschland
END:VEVENT
BEGIN:VEVENT
DTSTART;VALUE=DATE:20170311
DTEND;VALUE=DATE:20170312
DTSTAMP:20260423T055748
CREATED:20170306T074811Z
LAST-MODIFIED:20170306T074811Z
UID:3892-1489190400-1489276799@www.bsv-ski.de
SUMMARY:11. Internationale Kids-Snow-Fun-Event 2017
DESCRIPTION:Ausschreibung \nEinladung \n 
URL:https://www.bsv-ski.de/veranstaltung/11-internationale-kids-snow-fun-event-2017/
LOCATION:Klostertal / Sonnenkopf\, Danöfen\, Klösterle\, 6754\, Österreich
END:VEVENT
BEGIN:VEVENT
DTSTART;VALUE=DATE:20170311
DTEND;VALUE=DATE:20170313
DTSTAMP:20260423T055748
CREATED:20170314T085406Z
LAST-MODIFIED:20170314T085406Z
UID:4032-1489190400-1489363199@www.bsv-ski.de
SUMMARY:DSV Milka Schülercup Skisprung/Nordische Kombination
DESCRIPTION:Ergebnisse Einzelspringen \nErgebnisse Teamspringen
URL:https://www.bsv-ski.de/veranstaltung/dsv-milka-schuelercup-skisprungnordische-kombination-2/
LOCATION:Erdinger Arena Oberstdorf\, Am Faltenbach 27\, Oberstdorf\, 87561 \, Deutschland
END:VEVENT
END:VCALENDAR